Workbook
Name rok: data!$A$7
Name taxa: [1]data!$B$25

Sheet data
A1: ZÁKLADNÉ ÚDAJE
A3: MENO VODIČA
A4: Meno a priezvisko
A5: druh vlastníctva auta | C5: LP
A6: KALENDÁRNY ROK
A7: 2012
A9: VOZIDLO
A10: Evidenčné číslo | B10: ZA 123 AB
A11: Továrenská značka a typ | B11: značka a typ auta
A12: Vozidlo pridelené dňa | B12: dátum registrácie na daňovom úrade
A13: Stav tachometra na začiatku | B13: 58000 | C13: km
A14: Stav nádrže na začiatku | B14: 20 | C14: l
A15: Objem nádrže | B15: 47 | C15: l
A17: POHONNÉ HMOTY
A18: Druh | B18: Nafta
A19: Zostatok v nádrži pred 1. použitím vozidla | C19: Litrov
A20: Spotreba pri 90 km/h | B20: 5.9 | C20: L / 100 km
A21: Spotreba pri 120 km/h | B21: 5.9 | C21: L / 100 km
A22: Spotreba mimo mesta | B22: =AVERAGE(B20,B21) -> 5.9 | C22: L / 100 km
A23: Spotreba v meste | B23: 5.9 | C23: L / 100 km
A24: Priemerná spotreba | B24: =AVERAGE(B20,B21,B23) -> 5.9 | C24: L / 100 km
A25: Priemerná cena 1 litra | B25: 1.23
A28: Súkromná taxa | B28: =ROUND(B24*B25/100, 2) -> 0.07 | C28: € / km
A30: Garančná prehliadka pri počte najazdených km | B30: 20000

Sheet 01
A1: VYÚČTOVANIE SPOTREBY POHONNÝCH HMÔT | J1: mesiac: | L1: =DATE(rok, 1, 1) -> 40909 | M1: =DATE(#REF!,#REF!,#REF!) -> #REF!
L2: 7
A3: Vodič: | B3: =data!$A$4 -> Meno a priezvisko | C3: Vozidlo: | D3: =data!$B$11&", ŠPZ: "&data!$B$10 -> značka a typ auta, ŠPZ: ZA 123 AB
A5: Dátum | B5: Cieľ cesty | F5: Stav tacho-metra | G5: Najazdené kilometre | L5: Nákup PHM (L) | M5: Zostatok v nádrži (L) | O5: Nákup PHM (€) s DPH | Q5: Súkromne mimo evidenciu
G6: Služobne | I6: Súkromne
G7: Mimo mesta | H7: V meste | I7: Mimo mesta | J7: V meste
A9: =L1 -> 40909 | E9: 1 | F9: =data!B13 -> 58000 | M9: =data!B14 -> 20 | N9: =WEEKDAY($A9,2) -> 7
F10: =F9+G9+H9+I9+J9 -> 58000 | M10: =M9-((G10+I10)*data!$B$22+(H10+J10)*data!$B$23)/100+L10 -> 20 | N10: =WEEKDAY($A9,2) -> 7
A11: =A9+1 -> 40910 | F11: =F10+G10+H10+I10+J10 -> 58000 | M11: =M10-((G11+I11)*data!$B$22+(H11+J11)*data!$B$23)/100+L11 -> 20 | N11: =WEEKDAY($A11,2) -> 1
F12: =F11+G11+H11+I11+J11 -> 58000 | M12: =M11-((G12+I12)*data!$B$22+(H12+J12)*data!$B$23)/100+L12 -> 20 | N12: =WEEKDAY($A11,2) -> 1
A13: =A11+1 -> 40911 | F13: =F12+G12+H12+I12+J12 -> 58000 | M13: =M12-((G13+I13)*data!$B$22+(H13+J13)*data!$B$23)/100+L13 -> 20 | N13: =WEEKDAY($A13,2) -> 2
F14: =F13+G13+H13+I13+J13 -> 58000 | M14: =M13-((G14+I14)*data!$B$22+(H14+J14)*data!$B$23)/100+L14 -> 20 | N14: =WEEKDAY($A13,2) -> 2
A15: =A13+1 -> 40912 | F15: =F14+G14+H14+I14+J14 -> 58000 | M15: =M14-((G15+I15)*data!$B$22+(H15+J15)*data!$B$23)/100+L15 -> 20 | N15: =WEEKDAY($A15,2) -> 3
F16: =F15+G15+H15+I15+J15 -> 58000 | M16: =M15-((G16+I16)*data!$B$22+(H16+J16)*data!$B$23)/100+L16 -> 20 | N16: =WEEKDAY($A15,2) -> 3
A17: =A15+1 -> 40913 | F17: =F16+G16+H16+I16+J16 -> 58000 | M17: =M16-((G17+I17)*data!$B$22+(H17+J17)*data!$B$23)/100+L17 -> 20 | N17: =WEEKDAY($A17,2) -> 4
F18: =F17+G17+H17+I17+J17 -> 58000 | M18: =M17-((G18+I18)*data!$B$22+(H18+J18)*data!$B$23)/100+L18 -> 20 | N18: =WEEKDAY($A17,2) -> 4
A19: =A17+1 -> 40914 | F19: =F18+G18+H18+I18+J18 -> 58000 | M19: =M18-((G19+I19)*data!$B$22+(H19+J19)*data!$B$23)/100+L19 -> 20 | N19: =WEEKDAY($A19,2) -> 5
F20: =F19+G19+H19+I19+J19 -> 58000 | M20: =M19-((G20+I20)*data!$B$22+(H20+J20)*data!$B$23)/100+L20 -> 20 | N20: =WEEKDAY($A19,2) -> 5
A21: =A19+1 -> 40915 | F21: =F20+G20+H20+I20+J20 -> 58000 | M21: =M20-((G21+I21)*data!$B$22+(H21+J21)*data!$B$23)/100+L21 -> 20 | N21: =WEEKDAY($A21,2) -> 6 | S21: 38783 | T21: Super(95) Leaded | U21: BA-BOTANICKA | V21: 38.09 | W21: SKK | X21: 1451.2
F22: =F21+G21+H21+I21+J21 -> 58000 | M22: =M21-((G22+I22)*data!$B$22+(H22+J22)*data!$B$23)/100+L22 -> 20 | N22: =WEEKDAY($A21,2) -> 6 | U22: Nove Zamky | V22: 26.06 | W22: SKK | X22: 1003.3
A23: =A21+1 -> 40916 | F23: =F22+G22+H22+I22+J22 -> 58000 | M23: =M22-((G23+I23)*data!$B$22+(H23+J23)*data!$B$23)/100+L23 -> 20 | N23: =WEEKDAY($A23,2) -> 7 | S23: 38784 | T23: Super(95) Leaded | U23: TRENČÍN | V23: 33.62 | W23: SKK | X23: 1307.8
F24: =F23+G23+H23+I23+J23 -> 58000 | M24: =M23-((G24+I24)*data!$B$22+(H24+J24)*data!$B$23)/100+L24 -> 20 | N24: =WEEKDAY($A23,2) -> 7
A25: =A23+1 -> 40917 | F25: =F24+G24+H24+I24+J24 -> 58000 | M25: =M24-((G25+I25)*data!$B$22+(H25+J25)*data!$B$23)/100+L25 -> 20 | N25: =WEEKDAY($A25,2) -> 1
F26: =F25+G25+H25+I25+J25 -> 58000 | M26: =M25-((G26+I26)*data!$B$22+(H26+J26)*data!$B$23)/100+L26 -> 20 | N26: =WEEKDAY($A25,2) -> 1
A27: =A25+1 -> 40918 | F27: =F26+G26+H26+I26+J26 -> 58000 | M27: =M26-((G27+I27)*data!$B$22+(H27+J27)*data!$B$23)/100+L27 -> 20 | N27: =WEEKDAY($A27,2) -> 2
F28: =F27+G27+H27+I27+J27 -> 58000 | M28: =M27-((G28+I28)*data!$B$22+(H28+J28)*data!$B$23)/100+L28 -> 20 | N28: =WEEKDAY($A27,2) -> 2
A29: =A27+1 -> 40919 | F29: =F28+G28+H28+I28+J28 -> 58000 | M29: =M28-((G29+I29)*data!$B$22+(H29+J29)*data!$B$23)/100+L29 -> 20 | N29: =WEEKDAY($A29,2) -> 3
F30: =F29+G29+H29+I29+J29 -> 58000 | M30: =M29-((G30+I30)*data!$B$22+(H30+J30)*data!$B$23)/100+L30 -> 20 | N30: =WEEKDAY($A29,2) -> 3
A31: =A29+1 -> 40920 | F31: =F30+G30+H30+I30+J30 -> 58000 | M31: =M30-((G31+I31)*data!$B$22+(H31+J31)*data!$B$23)/100+L31 -> 20 | N31: =WEEKDAY($A31,2) -> 4
F32: =F31+G31+H31+I31+J31 -> 58000 | M32: =M31-((G32+I32)*data!$B$22+(H32+J32)*data!$B$23)/100+L32 -> 20 | N32: =WEEKDAY($A31,2) -> 4
A33: =A31+1 -> 40921 | F33: =F32+G32+H32+I32+J32 -> 58000 | M33: =M32-((G33+I33)*data!$B$22+(H33+J33)*data!$B$23)/100+L33 -> 20 | N33: =WEEKDAY($A33,2) -> 5
F34: =F33+G33+H33+I33+J33 -> 58000 | M34: =M33-((G34+I34)*data!$B$22+(H34+J34)*data!$B$23)/100+L34 -> 20 | N34: =WEEKDAY($A33,2) -> 5
A35: =A33+1 -> 40922 | F35: =F34+G34+H34+I34+J34 -> 58000 | M35: =M34-((G35+I35)*data!$B$22+(H35+J35)*data!$B$23)/100+L35 -> 20 | N35: =WEEKDAY($A35,2) -> 6
F36: =F35+G35+H35+I35+J35 -> 58000 | M36: =M35-((G36+I36)*data!$B$22+(H36+J36)*data!$B$23)/100+L36 -> 20 | N36: =WEEKDAY($A35,2) -> 6
A37: =A35+1 -> 40923 | F37: =F36+G36+H36+I36+J36 -> 58000 | M37: =M36-((G37+I37)*data!$B$22+(H37+J37)*data!$B$23)/100+L37 -> 20 | N37: =WEEKDAY($A37,2) -> 7
F38: =F37+G37+H37+I37+J37 -> 58000 | M38: =M37-((G38+I38)*data!$B$22+(H38+J38)*data!$B$23)/100+L38 -> 20 | N38: =WEEKDAY($A37,2) -> 7
A39: =A37+1 -> 40924 | F39: =F38+G38+H38+I38+J38 -> 58000 | M39: =M38-((G39+I39)*data!$B$22+(H39+J39)*data!$B$23)/100+L39 -> 20 | N39: =WEEKDAY($A39,2) -> 1
F40: =F39+G39+H39+I39+J39 -> 58000 | M40: =M39-((G40+I40)*data!$B$22+(H40+J40)*data!$B$23)/100+L40 -> 20 | N40: =WEEKDAY($A39,2) -> 1
A41: =A39+1 -> 40925 | F41: =F40+G40+H40+I40+J40 -> 58000 | M41: =M40-((G41+I41)*data!$B$22+(H41+J41)*data!$B$23)/100+L41 -> 20 | N41: =WEEKDAY($A41,2) -> 2
F42: =F41+G41+H41+I41+J41 -> 58000 | M42: =M41-((G42+I42)*data!$B$22+(H42+J42)*data!$B$23)/100+L42 -> 20 | N42: =WEEKDAY($A41,2) -> 2
...

Sheet 02
A1: VYÚČTOVANIE SPOTREBY POHONNÝCH HMÔT | J1: mesiac: | L1: =DATE(rok, 2, 1) -> 40940 | M1: =DATE(#REF!,#REF!,#REF!) -> #REF!
L2: 7
A3: Vodič: | B3: =data!$A$4 -> Meno a priezvisko | C3: Vozidlo: | D3: =data!$B$11&", ŠPZ: "&data!$B$10 -> značka a typ auta, ŠPZ: ZA 123 AB
A5: Dátum | B5: Cieľ cesty | F5: Stav tacho-metra | G5: Najazdené kilometre | L5: Nákup PHM (L) | M5: Zostatok v nádrži (L) | O5: Nákup PHM (€) s DPH | Q5: Súkromne mimo evidenciu
G6: Služobne | I6: Súkromne
G7: Mimo mesta | H7: V meste | I7: Mimo mesta | J7: V meste
A9: =L1 -> 40940 | E9: 1 | F9: ='01'!F70 -> 58000 | M9: ='01'!M70 -> 20 | N9: =WEEKDAY($A9,2) -> 3
F10: =F9+G9+H9+I9+J9 -> 58000 | M10: =M9-((G10+I10)*data!$B$22+(H10+J10)*data!$B$23)/100+L10 -> 20 | N10: =WEEKDAY($A9,2) -> 3
A11: =A9+1 -> 40941 | F11: =F10+G10+H10+I10+J10 -> 58000 | M11: =M10-((G11+I11)*data!$B$22+(H11+J11)*data!$B$23)/100+L11 -> 20 | N11: =WEEKDAY($A11,2) -> 4
F12: =F11+G11+H11+I11+J11 -> 58000 | M12: =M11-((G12+I12)*data!$B$22+(H12+J12)*data!$B$23)/100+L12 -> 20 | N12: =WEEKDAY($A11,2) -> 4
A13: =A11+1 -> 40942 | F13: =F12+G12+H12+I12+J12 -> 58000 | M13: =M12-((G13+I13)*data!$B$22+(H13+J13)*data!$B$23)/100+L13 -> 20 | N13: =WEEKDAY($A13,2) -> 5
F14: =F13+G13+H13+I13+J13 -> 58000 | M14: =M13-((G14+I14)*data!$B$22+(H14+J14)*data!$B$23)/100+L14 -> 20 | N14: =WEEKDAY($A13,2) -> 5
A15: =A13+1 -> 40943 | F15: =F14+G14+H14+I14+J14 -> 58000 | M15: =M14-((G15+I15)*data!$B$22+(H15+J15)*data!$B$23)/100+L15 -> 20 | N15: =WEEKDAY($A15,2) -> 6
F16: =F15+G15+H15+I15+J15 -> 58000 | M16: =M15-((G16+I16)*data!$B$22+(H16+J16)*data!$B$23)/100+L16 -> 20 | N16: =WEEKDAY($A15,2) -> 6
A17: =A15+1 -> 40944 | F17: =F16+G16+H16+I16+J16 -> 58000 | M17: =M16-((G17+I17)*data!$B$22+(H17+J17)*data!$B$23)/100+L17 -> 20 | N17: =WEEKDAY($A17,2) -> 7
F18: =F17+G17+H17+I17+J17 -> 58000 | M18: =M17-((G18+I18)*data!$B$22+(H18+J18)*data!$B$23)/100+L18 -> 20 | N18: =WEEKDAY($A17,2) -> 7
A19: =A17+1 -> 40945 | F19: =F18+G18+H18+I18+J18 -> 58000 | M19: =M18-((G19+I19)*data!$B$22+(H19+J19)*data!$B$23)/100+L19 -> 20 | N19: =WEEKDAY($A19,2) -> 1
F20: =F19+G19+H19+I19+J19 -> 58000 | M20: =M19-((G20+I20)*data!$B$22+(H20+J20)*data!$B$23)/100+L20 -> 20 | N20: =WEEKDAY($A19,2) -> 1
A21: =A19+1 -> 40946 | F21: =F20+G20+H20+I20+J20 -> 58000 | M21: =M20-((G21+I21)*data!$B$22+(H21+J21)*data!$B$23)/100+L21 -> 20 | N21: =WEEKDAY($A21,2) -> 2 | S21: 38783 | T21: Super(95) Leaded | U21: BA-BOTANICKA | V21: 38.09 | W21: SKK | X21: 1451.2
F22: =F21+G21+H21+I21+J21 -> 58000 | M22: =M21-((G22+I22)*data!$B$22+(H22+J22)*data!$B$23)/100+L22 -> 20 | N22: =WEEKDAY($A21,2) -> 2 | U22: Nove Zamky | V22: 26.06 | W22: SKK | X22: 1003.3
A23: =A21+1 -> 40947 | F23: =F22+G22+H22+I22+J22 -> 58000 | M23: =M22-((G23+I23)*data!$B$22+(H23+J23)*data!$B$23)/100+L23 -> 20 | N23: =WEEKDAY($A23,2) -> 3 | S23: 38784 | T23: Super(95) Leaded | U23: TRENČÍN | V23: 33.62 | W23: SKK | X23: 1307.8
F24: =F23+G23+H23+I23+J23 -> 58000 | M24: =M23-((G24+I24)*data!$B$22+(H24+J24)*data!$B$23)/100+L24 -> 20 | N24: =WEEKDAY($A23,2) -> 3
A25: =A23+1 -> 40948 | F25: =F24+G24+H24+I24+J24 -> 58000 | M25: =M24-((G25+I25)*data!$B$22+(H25+J25)*data!$B$23)/100+L25 -> 20 | N25: =WEEKDAY($A25,2) -> 4
F26: =F25+G25+H25+I25+J25 -> 58000 | M26: =M25-((G26+I26)*data!$B$22+(H26+J26)*data!$B$23)/100+L26 -> 20 | N26: =WEEKDAY($A25,2) -> 4
A27: =A25+1 -> 40949 | F27: =F26+G26+H26+I26+J26 -> 58000 | M27: =M26-((G27+I27)*data!$B$22+(H27+J27)*data!$B$23)/100+L27 -> 20 | N27: =WEEKDAY($A27,2) -> 5
F28: =F27+G27+H27+I27+J27 -> 58000 | M28: =M27-((G28+I28)*data!$B$22+(H28+J28)*data!$B$23)/100+L28 -> 20 | N28: =WEEKDAY($A27,2) -> 5
A29: =A27+1 -> 40950 | F29: =F28+G28+H28+I28+J28 -> 58000 | M29: =M28-((G29+I29)*data!$B$22+(H29+J29)*data!$B$23)/100+L29 -> 20 | N29: =WEEKDAY($A29,2) -> 6
F30: =F29+G29+H29+I29+J29 -> 58000 | M30: =M29-((G30+I30)*data!$B$22+(H30+J30)*data!$B$23)/100+L30 -> 20 | N30: =WEEKDAY($A29,2) -> 6
A31: =A29+1 -> 40951 | F31: =F30+G30+H30+I30+J30 -> 58000 | M31: =M30-((G31+I31)*data!$B$22+(H31+J31)*data!$B$23)/100+L31 -> 20 | N31: =WEEKDAY($A31,2) -> 7
F32: =F31+G31+H31+I31+J31 -> 58000 | M32: =M31-((G32+I32)*data!$B$22+(H32+J32)*data!$B$23)/100+L32 -> 20 | N32: =WEEKDAY($A31,2) -> 7
A33: =A31+1 -> 40952 | F33: =F32+G32+H32+I32+J32 -> 58000 | M33: =M32-((G33+I33)*data!$B$22+(H33+J33)*data!$B$23)/100+L33 -> 20 | N33: =WEEKDAY($A33,2) -> 1
F34: =F33+G33+H33+I33+J33 -> 58000 | M34: =M33-((G34+I34)*data!$B$22+(H34+J34)*data!$B$23)/100+L34 -> 20 | N34: =WEEKDAY($A33,2) -> 1
A35: =A33+1 -> 40953 | F35: =F34+G34+H34+I34+J34 -> 58000 | M35: =M34-((G35+I35)*data!$B$22+(H35+J35)*data!$B$23)/100+L35 -> 20 | N35: =WEEKDAY($A35,2) -> 2
F36: =F35+G35+H35+I35+J35 -> 58000 | M36: =M35-((G36+I36)*data!$B$22+(H36+J36)*data!$B$23)/100+L36 -> 20 | N36: =WEEKDAY($A35,2) -> 2
A37: =A35+1 -> 40954 | F37: =F36+G36+H36+I36+J36 -> 58000 | M37: =M36-((G37+I37)*data!$B$22+(H37+J37)*data!$B$23)/100+L37 -> 20 | N37: =WEEKDAY($A37,2) -> 3
F38: =F37+G37+H37+I37+J37 -> 58000 | M38: =M37-((G38+I38)*data!$B$22+(H38+J38)*data!$B$23)/100+L38 -> 20 | N38: =WEEKDAY($A37,2) -> 3
A39: =A37+1 -> 40955 | F39: =F38+G38+H38+I38+J38 -> 58000 | M39: =M38-((G39+I39)*data!$B$22+(H39+J39)*data!$B$23)/100+L39 -> 20 | N39: =WEEKDAY($A39,2) -> 4
F40: =F39+G39+H39+I39+J39 -> 58000 | M40: =M39-((G40+I40)*data!$B$22+(H40+J40)*data!$B$23)/100+L40 -> 20 | N40: =WEEKDAY($A39,2) -> 4
A41: =A39+1 -> 40956 | F41: =F40+G40+H40+I40+J40 -> 58000 | M41: =M40-((G41+I41)*data!$B$22+(H41+J41)*data!$B$23)/100+L41 -> 20 | N41: =WEEKDAY($A41,2) -> 5
F42: =F41+G41+H41+I41+J41 -> 58000 | M42: =M41-((G42+I42)*data!$B$22+(H42+J42)*data!$B$23)/100+L42 -> 20 | N42: =WEEKDAY($A41,2) -> 5
...

Sheet 03
A1: VYÚČTOVANIE SPOTREBY POHONNÝCH HMÔT | J1: mesiac: | L1: =DATE(rok, 3, 1) -> 40969 | M1: =DATE(#REF!,#REF!,#REF!) -> #REF!
L2: 7
A3: Vodič: | B3: =data!$A$4 -> Meno a priezvisko | C3: Vozidlo: | D3: =data!$B$11&", ŠPZ: "&data!$B$10 -> značka a typ auta, ŠPZ: ZA 123 AB
A5: Dátum | B5: Cieľ cesty | F5: Stav tacho-metra | G5: Najazdené kilometre | L5: Nákup PHM (L) | M5: Zostatok v nádrži (L) | O5: Nákup PHM (€) s DPH | Q5: Súkromne mimo evidenciu
G6: Služobne | I6: Súkromne
G7: Mimo mesta | H7: V meste | I7: Mimo mesta | J7: V meste
A9: =L1 -> 40969 | E9: 1 | F9: ='02'!F70 -> 58000 | M9: ='02'!M70 -> 20 | N9: =WEEKDAY($A9,2) -> 4
F10: =F9+G9+H9+I9+J9 -> 58000 | M10: =M9-((G10+I10)*data!$B$22+(H10+J10)*data!$B$23)/100+L10 -> 20 | N10: =WEEKDAY($A9,2) -> 4
A11: =A9+1 -> 40970 | F11: =F10+G10+H10+I10+J10 -> 58000 | M11: =M10-((G11+I11)*data!$B$22+(H11+J11)*data!$B$23)/100+L11 -> 20 | N11: =WEEKDAY($A11,2) -> 5
F12: =F11+G11+H11+I11+J11 -> 58000 | M12: =M11-((G12+I12)*data!$B$22+(H12+J12)*data!$B$23)/100+L12 -> 20 | N12: =WEEKDAY($A11,2) -> 5
A13: =A11+1 -> 40971 | F13: =F12+G12+H12+I12+J12 -> 58000 | M13: =M12-((G13+I13)*data!$B$22+(H13+J13)*data!$B$23)/100+L13 -> 20 | N13: =WEEKDAY($A13,2) -> 6
F14: =F13+G13+H13+I13+J13 -> 58000 | M14: =M13-((G14+I14)*data!$B$22+(H14+J14)*data!$B$23)/100+L14 -> 20 | N14: =WEEKDAY($A13,2) -> 6
A15: =A13+1 -> 40972 | F15: =F14+G14+H14+I14+J14 -> 58000 | M15: =M14-((G15+I15)*data!$B$22+(H15+J15)*data!$B$23)/100+L15 -> 20 | N15: =WEEKDAY($A15,2) -> 7
F16: =F15+G15+H15+I15+J15 -> 58000 | M16: =M15-((G16+I16)*data!$B$22+(H16+J16)*data!$B$23)/100+L16 -> 20 | N16: =WEEKDAY($A15,2) -> 7
A17: =A15+1 -> 40973 | F17: =F16+G16+H16+I16+J16 -> 58000 | M17: =M16-((G17+I17)*data!$B$22+(H17+J17)*data!$B$23)/100+L17 -> 20 | N17: =WEEKDAY($A17,2) -> 1
F18: =F17+G17+H17+I17+J17 -> 58000 | M18: =M17-((G18+I18)*data!$B$22+(H18+J18)*data!$B$23)/100+L18 -> 20 | N18: =WEEKDAY($A17,2) -> 1
A19: =A17+1 -> 40974 | F19: =F18+G18+H18+I18+J18 -> 58000 | M19: =M18-((G19+I19)*data!$B$22+(H19+J19)*data!$B$23)/100+L19 -> 20 | N19: =WEEKDAY($A19,2) -> 2
F20: =F19+G19+H19+I19+J19 -> 58000 | M20: =M19-((G20+I20)*data!$B$22+(H20+J20)*data!$B$23)/100+L20 -> 20 | N20: =WEEKDAY($A19,2) -> 2
A21: =A19+1 -> 40975 | F21: =F20+G20+H20+I20+J20 -> 58000 | M21: =M20-((G21+I21)*data!$B$22+(H21+J21)*data!$B$23)/100+L21 -> 20 | N21: =WEEKDAY($A21,2) -> 3 | S21: 38783 | T21: Super(95) Leaded | U21: BA-BOTANICKA | V21: 38.09 | W21: SKK | X21: 1451.2
F22: =F21+G21+H21+I21+J21 -> 58000 | M22: =M21-((G22+I22)*data!$B$22+(H22+J22)*data!$B$23)/100+L22 -> 20 | N22: =WEEKDAY($A21,2) -> 3 | U22: Nove Zamky | V22: 26.06 | W22: SKK | X22: 1003.3
A23: =A21+1 -> 40976 | F23: =F22+G22+H22+I22+J22 -> 58000 | M23: =M22-((G23+I23)*data!$B$22+(H23+J23)*data!$B$23)/100+L23 -> 20 | N23: =WEEKDAY($A23,2) -> 4 | S23: 38784 | T23: Super(95) Leaded | U23: TRENČÍN | V23: 33.62 | W23: SKK | X23: 1307.8
F24: =F23+G23+H23+I23+J23 -> 58000 | M24: =M23-((G24+I24)*data!$B$22+(H24+J24)*data!$B$23)/100+L24 -> 20 | N24: =WEEKDAY($A23,2) -> 4
A25: =A23+1 -> 40977 | F25: =F24+G24+H24+I24+J24 -> 58000 | M25: =M24-((G25+I25)*data!$B$22+(H25+J25)*data!$B$23)/100+L25 -> 20 | N25: =WEEKDAY($A25,2) -> 5
F26: =F25+G25+H25+I25+J25 -> 58000 | M26: =M25-((G26+I26)*data!$B$22+(H26+J26)*data!$B$23)/100+L26 -> 20 | N26: =WEEKDAY($A25,2) -> 5
A27: =A25+1 -> 40978 | F27: =F26+G26+H26+I26+J26 -> 58000 | M27: =M26-((G27+I27)*data!$B$22+(H27+J27)*data!$B$23)/100+L27 -> 20 | N27: =WEEKDAY($A27,2) -> 6
F28: =F27+G27+H27+I27+J27 -> 58000 | M28: =M27-((G28+I28)*data!$B$22+(H28+J28)*data!$B$23)/100+L28 -> 20 | N28: =WEEKDAY($A27,2) -> 6
A29: =A27+1 -> 40979 | F29: =F28+G28+H28+I28+J28 -> 58000 | M29: =M28-((G29+I29)*data!$B$22+(H29+J29)*data!$B$23)/100+L29 -> 20 | N29: =WEEKDAY($A29,2) -> 7
F30: =F29+G29+H29+I29+J29 -> 58000 | M30: =M29-((G30+I30)*data!$B$22+(H30+J30)*data!$B$23)/100+L30 -> 20 | N30: =WEEKDAY($A29,2) -> 7
A31: =A29+1 -> 40980 | F31: =F30+G30+H30+I30+J30 -> 58000 | M31: =M30-((G31+I31)*data!$B$22+(H31+J31)*data!$B$23)/100+L31 -> 20 | N31: =WEEKDAY($A31,2) -> 1
F32: =F31+G31+H31+I31+J31 -> 58000 | M32: =M31-((G32+I32)*data!$B$22+(H32+J32)*data!$B$23)/100+L32 -> 20 | N32: =WEEKDAY($A31,2) -> 1
A33: =A31+1 -> 40981 | B33: Žilina | F33: =F32+G32+H32+I32+J32 -> 58000 | G33: 200 | H33: 20 | L33: 56 | M33: =M32-((G33+I33)*data!$B$22+(H33+J33)*data!$B$23)/100+L33 -> 63.02 | N33: =WEEKDAY($A33,2) -> 2 | O33: 75
B34: Bratislava | F34: =F33+G33+H33+I33+J33 -> 58220 | G34: 200 | H34: 20 | M34: =M33-((G34+I34)*data!$B$22+(H34+J34)*data!$B$23)/100+L34 -> 50.04 | N34: =WEEKDAY($A33,2) -> 2
A35: =A33+1 -> 40982 | F35: =F34+G34+H34+I34+J34 -> 58440 | M35: =M34-((G35+I35)*data!$B$22+(H35+J35)*data!$B$23)/100+L35 -> 50.04 | N35: =WEEKDAY($A35,2) -> 3
F36: =F35+G35+H35+I35+J35 -> 58440 | M36: =M35-((G36+I36)*data!$B$22+(H36+J36)*data!$B$23)/100+L36 -> 50.04 | N36: =WEEKDAY($A35,2) -> 3
A37: =A35+1 -> 40983 | F37: =F36+G36+H36+I36+J36 -> 58440 | M37: =M36-((G37+I37)*data!$B$22+(H37+J37)*data!$B$23)/100+L37 -> 50.04 | N37: =WEEKDAY($A37,2) -> 4
F38: =F37+G37+H37+I37+J37 -> 58440 | M38: =M37-((G38+I38)*data!$B$22+(H38+J38)*data!$B$23)/100+L38 -> 50.04 | N38: =WEEKDAY($A37,2) -> 4
A39: =A37+1 -> 40984 | F39: =F38+G38+H38+I38+J38 -> 58440 | M39: =M38-((G39+I39)*data!$B$22+(H39+J39)*data!$B$23)/100+L39 -> 50.04 | N39: =WEEKDAY($A39,2) -> 5
F40: =F39+G39+H39+I39+J39 -> 58440 | M40: =M39-((G40+I40)*data!$B$22+(H40+J40)*data!$B$23)/100+L40 -> 50.04 | N40: =WEEKDAY($A39,2) -> 5
A41: =A39+1 -> 40985 | F41: =F40+G40+H40+I40+J40 -> 58440 | M41: =M40-((G41+I41)*data!$B$22+(H41+J41)*data!$B$23)/100+L41 -> 50.04 | N41: =WEEKDAY($A41,2) -> 6
F42: =F41+G41+H41+I41+J41 -> 58440 | M42: =M41-((G42+I42)*data!$B$22+(H42+J42)*data!$B$23)/100+L42 -> 50.04 | N42: =WEEKDAY($A41,2) -> 6
...

Sheet 04
A1: VYÚČTOVANIE SPOTREBY POHONNÝCH HMÔT | J1: mesiac: | L1: =DATE(rok, 4, 1) -> 41000 | M1: =DATE(#REF!,#REF!,#REF!) -> #REF!
L2: 7
A3: Vodič: | B3: =data!$A$4 -> Meno a priezvisko | C3: Vozidlo: | D3: =data!$B$11&", ŠPZ: "&data!$B$10 -> značka a typ auta, ŠPZ: ZA 123 AB
A5: Dátum | B5: Cieľ cesty | F5: Stav tacho-metra | G5: Najazdené kilometre | L5: Nákup PHM (L) | M5: Zostatok v nádrži (L) | O5: Nákup PHM (€) s DPH | Q5: Súkromne mimo evidenciu
G6: Služobne | I6: Súkromne
G7: Mimo mesta | H7: V meste | I7: Mimo mesta | J7: V meste
A9: =L1 -> 41000 | E9: 1 | F9: ='03'!F70 -> 58440 | M9: ='03'!M70 -> 50.04 | N9: =WEEKDAY($A9,2) -> 7
F10: =F9+G9+H9+I9+J9 -> 58440 | M10: =M9-((G10+I10)*data!$B$22+(H10+J10)*data!$B$23)/100+L10 -> 50.04 | N10: =WEEKDAY($A9,2) -> 7
A11: =A9+1 -> 41001 | F11: =F10+G10+H10+I10+J10 -> 58440 | M11: =M10-((G11+I11)*data!$B$22+(H11+J11)*data!$B$23)/100+L11 -> 50.04 | N11: =WEEKDAY($A11,2) -> 1
F12: =F11+G11+H11+I11+J11 -> 58440 | M12: =M11-((G12+I12)*data!$B$22+(H12+J12)*data!$B$23)/100+L12 -> 50.04 | N12: =WEEKDAY($A11,2) -> 1
A13: =A11+1 -> 41002 | F13: =F12+G12+H12+I12+J12 -> 58440 | M13: =M12-((G13+I13)*data!$B$22+(H13+J13)*data!$B$23)/100+L13 -> 50.04 | N13: =WEEKDAY($A13,2) -> 2
F14: =F13+G13+H13+I13+J13 -> 58440 | M14: =M13-((G14+I14)*data!$B$22+(H14+J14)*data!$B$23)/100+L14 -> 50.04 | N14: =WEEKDAY($A13,2) -> 2
A15: =A13+1 -> 41003 | F15: =F14+G14+H14+I14+J14 -> 58440 | M15: =M14-((G15+I15)*data!$B$22+(H15+J15)*data!$B$23)/100+L15 -> 50.04 | N15: =WEEKDAY($A15,2) -> 3
F16: =F15+G15+H15+I15+J15 -> 58440 | M16: =M15-((G16+I16)*data!$B$22+(H16+J16)*data!$B$23)/100+L16 -> 50.04 | N16: =WEEKDAY($A15,2) -> 3
A17: =A15+1 -> 41004 | F17: =F16+G16+H16+I16+J16 -> 58440 | M17: =M16-((G17+I17)*data!$B$22+(H17+J17)*data!$B$23)/100+L17 -> 50.04 | N17: =WEEKDAY($A17,2) -> 4
F18: =F17+G17+H17+I17+J17 -> 58440 | M18: =M17-((G18+I18)*data!$B$22+(H18+J18)*data!$B$23)/100+L18 -> 50.04 | N18: =WEEKDAY($A17,2) -> 4
A19: =A17+1 -> 41005 | F19: =F18+G18+H18+I18+J18 -> 58440 | M19: =M18-((G19+I19)*data!$B$22+(H19+J19)*data!$B$23)/100+L19 -> 50.04 | N19: =WEEKDAY($A19,2) -> 5
F20: =F19+G19+H19+I19+J19 -> 58440 | M20: =M19-((G20+I20)*data!$B$22+(H20+J20)*data!$B$23)/100+L20 -> 50.04 | N20: =WEEKDAY($A19,2) -> 5
A21: =A19+1 -> 41006 | F21: =F20+G20+H20+I20+J20 -> 58440 | M21: =M20-((G21+I21)*data!$B$22+(H21+J21)*data!$B$23)/100+L21 -> 50.04 | N21: =WEEKDAY($A21,2) -> 6 | S21: 38783 | T21: Super(95) Leaded | U21: BA-BOTANICKA | V21: 38.09 | W21: SKK | X21: 1451.2
F22: =F21+G21+H21+I21+J21 -> 58440 | M22: =M21-((G22+I22)*data!$B$22+(H22+J22)*data!$B$23)/100+L22 -> 50.04 | N22: =WEEKDAY($A21,2) -> 6 | U22: Nove Zamky | V22: 26.06 | W22: SKK | X22: 1003.3
A23: =A21+1 -> 41007 | F23: =F22+G22+H22+I22+J22 -> 58440 | M23: =M22-((G23+I23)*data!$B$22+(H23+J23)*data!$B$23)/100+L23 -> 50.04 | N23: =WEEKDAY($A23,2) -> 7 | S23: 38784 | T23: Super(95) Leaded | U23: TRENČÍN | V23: 33.62 | W23: SKK | X23: 1307.8
F24: =F23+G23+H23+I23+J23 -> 58440 | M24: =M23-((G24+I24)*data!$B$22+(H24+J24)*data!$B$23)/100+L24 -> 50.04 | N24: =WEEKDAY($A23,2) -> 7
A25: =A23+1 -> 41008 | F25: =F24+G24+H24+I24+J24 -> 58440 | M25: =M24-((G25+I25)*data!$B$22+(H25+J25)*data!$B$23)/100+L25 -> 50.04 | N25: =WEEKDAY($A25,2) -> 1
F26: =F25+G25+H25+I25+J25 -> 58440 | M26: =M25-((G26+I26)*data!$B$22+(H26+J26)*data!$B$23)/100+L26 -> 50.04 | N26: =WEEKDAY($A25,2) -> 1
A27: =A25+1 -> 41009 | F27: =F26+G26+H26+I26+J26 -> 58440 | M27: =M26-((G27+I27)*data!$B$22+(H27+J27)*data!$B$23)/100+L27 -> 50.04 | N27: =WEEKDAY($A27,2) -> 2
F28: =F27+G27+H27+I27+J27 -> 58440 | M28: =M27-((G28+I28)*data!$B$22+(H28+J28)*data!$B$23)/100+L28 -> 50.04 | N28: =WEEKDAY($A27,2) -> 2
A29: =A27+1 -> 41010 | F29: =F28+G28+H28+I28+J28 -> 58440 | M29: =M28-((G29+I29)*data!$B$22+(H29+J29)*data!$B$23)/100+L29 -> 50.04 | N29: =WEEKDAY($A29,2) -> 3
F30: =F29+G29+H29+I29+J29 -> 58440 | M30: =M29-((G30+I30)*data!$B$22+(H30+J30)*data!$B$23)/100+L30 -> 50.04 | N30: =WEEKDAY($A29,2) -> 3
A31: =A29+1 -> 41011 | F31: =F30+G30+H30+I30+J30 -> 58440 | M31: =M30-((G31+I31)*data!$B$22+(H31+J31)*data!$B$23)/100+L31 -> 50.04 | N31: =WEEKDAY($A31,2) -> 4
F32: =F31+G31+H31+I31+J31 -> 58440 | M32: =M31-((G32+I32)*data!$B$22+(H32+J32)*data!$B$23)/100+L32 -> 50.04 | N32: =WEEKDAY($A31,2) -> 4
A33: =A31+1 -> 41012 | F33: =F32+G32+H32+I32+J32 -> 58440 | M33: =M32-((G33+I33)*data!$B$22+(H33+J33)*data!$B$23)/100+L33 -> 50.04 | N33: =WEEKDAY($A33,2) -> 5
F34: =F33+G33+H33+I33+J33 -> 58440 | M34: =M33-((G34+I34)*data!$B$22+(H34+J34)*data!$B$23)/100+L34 -> 50.04 | N34: =WEEKDAY($A33,2) -> 5
A35: =A33+1 -> 41013 | F35: =F34+G34+H34+I34+J34 -> 58440 | M35: =M34-((G35+I35)*data!$B$22+(H35+J35)*data!$B$23)/100+L35 -> 50.04 | N35: =WEEKDAY($A35,2) -> 6
F36: =F35+G35+H35+I35+J35 -> 58440 | M36: =M35-((G36+I36)*data!$B$22+(H36+J36)*data!$B$23)/100+L36 -> 50.04 | N36: =WEEKDAY($A35,2) -> 6
A37: =A35+1 -> 41014 | F37: =F36+G36+H36+I36+J36 -> 58440 | M37: =M36-((G37+I37)*data!$B$22+(H37+J37)*data!$B$23)/100+L37 -> 50.04 | N37: =WEEKDAY($A37,2) -> 7
F38: =F37+G37+H37+I37+J37 -> 58440 | M38: =M37-((G38+I38)*data!$B$22+(H38+J38)*data!$B$23)/100+L38 -> 50.04 | N38: =WEEKDAY($A37,2) -> 7
A39: =A37+1 -> 41015 | F39: =F38+G38+H38+I38+J38 -> 58440 | M39: =M38-((G39+I39)*data!$B$22+(H39+J39)*data!$B$23)/100+L39 -> 50.04 | N39: =WEEKDAY($A39,2) -> 1
F40: =F39+G39+H39+I39+J39 -> 58440 | M40: =M39-((G40+I40)*data!$B$22+(H40+J40)*data!$B$23)/100+L40 -> 50.04 | N40: =WEEKDAY($A39,2) -> 1
A41: =A39+1 -> 41016 | F41: =F40+G40+H40+I40+J40 -> 58440 | M41: =M40-((G41+I41)*data!$B$22+(H41+J41)*data!$B$23)/100+L41 -> 50.04 | N41: =WEEKDAY($A41,2) -> 2
F42: =F41+G41+H41+I41+J41 -> 58440 | M42: =M41-((G42+I42)*data!$B$22+(H42+J42)*data!$B$23)/100+L42 -> 50.04 | N42: =WEEKDAY($A41,2) -> 2
...

Sheet 05
A1: VYÚČTOVANIE SPOTREBY POHONNÝCH HMÔT | J1: mesiac: | L1: =DATE(rok, 5, 1) -> 41030 | M1: =DATE(#REF!,#REF!,#REF!) -> #REF!
L2: 7
A3: Vodič: | B3: =data!$A$4 -> Meno a priezvisko | C3: Vozidlo: | D3: =data!$B$11&", ŠPZ: "&data!$B$10 -> značka a typ auta, ŠPZ: ZA 123 AB
A5: Dátum | B5: Cieľ cesty | F5: Stav tacho-metra | G5: Najazdené kilometre | L5: Nákup PHM (L) | M5: Zostatok v nádrži (L) | O5: Nákup PHM (€) s DPH | Q5: Súkromne mimo evidenciu
G6: Služobne | I6: Súkromne
G7: Mimo mesta | H7: V meste | I7: Mimo mesta | J7: V meste
A9: =L1 -> 41030 | E9: 1 | F9: ='04'!F70 -> 58440 | M9: ='04'!M70 -> 50.04 | N9: =WEEKDAY($A9,2) -> 2
F10: =F9+G9+H9+I9+J9 -> 58440 | M10: =M9-((G10+I10)*data!$B$22+(H10+J10)*data!$B$23)/100+L10 -> 50.04 | N10: =WEEKDAY($A9,2) -> 2
A11: =A9+1 -> 41031 | F11: =F10+G10+H10+I10+J10 -> 58440 | M11: =M10-((G11+I11)*data!$B$22+(H11+J11)*data!$B$23)/100+L11 -> 50.04 | N11: =WEEKDAY($A11,2) -> 3
F12: =F11+G11+H11+I11+J11 -> 58440 | M12: =M11-((G12+I12)*data!$B$22+(H12+J12)*data!$B$23)/100+L12 -> 50.04 | N12: =WEEKDAY($A11,2) -> 3
A13: =A11+1 -> 41032 | F13: =F12+G12+H12+I12+J12 -> 58440 | M13: =M12-((G13+I13)*data!$B$22+(H13+J13)*data!$B$23)/100+L13 -> 50.04 | N13: =WEEKDAY($A13,2) -> 4
F14: =F13+G13+H13+I13+J13 -> 58440 | M14: =M13-((G14+I14)*data!$B$22+(H14+J14)*data!$B$23)/100+L14 -> 50.04 | N14: =WEEKDAY($A13,2) -> 4
A15: =A13+1 -> 41033 | F15: =F14+G14+H14+I14+J14 -> 58440 | M15: =M14-((G15+I15)*data!$B$22+(H15+J15)*data!$B$23)/100+L15 -> 50.04 | N15: =WEEKDAY($A15,2) -> 5
F16: =F15+G15+H15+I15+J15 -> 58440 | M16: =M15-((G16+I16)*data!$B$22+(H16+J16)*data!$B$23)/100+L16 -> 50.04 | N16: =WEEKDAY($A15,2) -> 5
A17: =A15+1 -> 41034 | F17: =F16+G16+H16+I16+J16 -> 58440 | M17: =M16-((G17+I17)*data!$B$22+(H17+J17)*data!$B$23)/100+L17 -> 50.04 | N17: =WEEKDAY($A17,2) -> 6
F18: =F17+G17+H17+I17+J17 -> 58440 | M18: =M17-((G18+I18)*data!$B$22+(H18+J18)*data!$B$23)/100+L18 -> 50.04 | N18: =WEEKDAY($A17,2) -> 6
A19: =A17+1 -> 41035 | F19: =F18+G18+H18+I18+J18 -> 58440 | M19: =M18-((G19+I19)*data!$B$22+(H19+J19)*data!$B$23)/100+L19 -> 50.04 | N19: =WEEKDAY($A19,2) -> 7
F20: =F19+G19+H19+I19+J19 -> 58440 | M20: =M19-((G20+I20)*data!$B$22+(H20+J20)*data!$B$23)/100+L20 -> 50.04 | N20: =WEEKDAY($A19,2) -> 7
A21: =A19+1 -> 41036 | F21: =F20+G20+H20+I20+J20 -> 58440 | M21: =M20-((G21+I21)*data!$B$22+(H21+J21)*data!$B$23)/100+L21 -> 50.04 | N21: =WEEKDAY($A21,2) -> 1 | S21: 38783 | T21: Super(95) Leaded | U21: BA-BOTANICKA | V21: 38.09 | W21: SKK | X21: 1451.2
F22: =F21+G21+H21+I21+J21 -> 58440 | M22: =M21-((G22+I22)*data!$B$22+(H22+J22)*data!$B$23)/100+L22 -> 50.04 | N22: =WEEKDAY($A21,2) -> 1 | U22: Nove Zamky | V22: 26.06 | W22: SKK | X22: 1003.3
A23: =A21+1 -> 41037 | F23: =F22+G22+H22+I22+J22 -> 58440 | M23: =M22-((G23+I23)*data!$B$22+(H23+J23)*data!$B$23)/100+L23 -> 50.04 | N23: =WEEKDAY($A23,2) -> 2 | S23: 38784 | T23: Super(95) Leaded | U23: TRENČÍN | V23: 33.62 | W23: SKK | X23: 1307.8
F24: =F23+G23+H23+I23+J23 -> 58440 | M24: =M23-((G24+I24)*data!$B$22+(H24+J24)*data!$B$23)/100+L24 -> 50.04 | N24: =WEEKDAY($A23,2) -> 2
A25: =A23+1 -> 41038 | F25: =F24+G24+H24+I24+J24 -> 58440 | M25: =M24-((G25+I25)*data!$B$22+(H25+J25)*data!$B$23)/100+L25 -> 50.04 | N25: =WEEKDAY($A25,2) -> 3
F26: =F25+G25+H25+I25+J25 -> 58440 | M26: =M25-((G26+I26)*data!$B$22+(H26+J26)*data!$B$23)/100+L26 -> 50.04 | N26: =WEEKDAY($A25,2) -> 3
A27: =A25+1 -> 41039 | F27: =F26+G26+H26+I26+J26 -> 58440 | M27: =M26-((G27+I27)*data!$B$22+(H27+J27)*data!$B$23)/100+L27 -> 50.04 | N27: =WEEKDAY($A27,2) -> 4
F28: =F27+G27+H27+I27+J27 -> 58440 | M28: =M27-((G28+I28)*data!$B$22+(H28+J28)*data!$B$23)/100+L28 -> 50.04 | N28: =WEEKDAY($A27,2) -> 4
A29: =A27+1 -> 41040 | F29: =F28+G28+H28+I28+J28 -> 58440 | M29: =M28-((G29+I29)*data!$B$22+(H29+J29)*data!$B$23)/100+L29 -> 50.04 | N29: =WEEKDAY($A29,2) -> 5
F30: =F29+G29+H29+I29+J29 -> 58440 | M30: =M29-((G30+I30)*data!$B$22+(H30+J30)*data!$B$23)/100+L30 -> 50.04 | N30: =WEEKDAY($A29,2) -> 5
A31: =A29+1 -> 41041 | F31: =F30+G30+H30+I30+J30 -> 58440 | M31: =M30-((G31+I31)*data!$B$22+(H31+J31)*data!$B$23)/100+L31 -> 50.04 | N31: =WEEKDAY($A31,2) -> 6
F32: =F31+G31+H31+I31+J31 -> 58440 | M32: =M31-((G32+I32)*data!$B$22+(H32+J32)*data!$B$23)/100+L32 -> 50.04 | N32: =WEEKDAY($A31,2) -> 6
A33: =A31+1 -> 41042 | F33: =F32+G32+H32+I32+J32 -> 58440 | M33: =M32-((G33+I33)*data!$B$22+(H33+J33)*data!$B$23)/100+L33 -> 50.04 | N33: =WEEKDAY($A33,2) -> 7
F34: =F33+G33+H33+I33+J33 -> 58440 | M34: =M33-((G34+I34)*data!$B$22+(H34+J34)*data!$B$23)/100+L34 -> 50.04 | N34: =WEEKDAY($A33,2) -> 7
A35: =A33+1 -> 41043 | F35: =F34+G34+H34+I34+J34 -> 58440 | M35: =M34-((G35+I35)*data!$B$22+(H35+J35)*data!$B$23)/100+L35 -> 50.04 | N35: =WEEKDAY($A35,2) -> 1
F36: =F35+G35+H35+I35+J35 -> 58440 | M36: =M35-((G36+I36)*data!$B$22+(H36+J36)*data!$B$23)/100+L36 -> 50.04 | N36: =WEEKDAY($A35,2) -> 1
A37: =A35+1 -> 41044 | F37: =F36+G36+H36+I36+J36 -> 58440 | M37: =M36-((G37+I37)*data!$B$22+(H37+J37)*data!$B$23)/100+L37 -> 50.04 | N37: =WEEKDAY($A37,2) -> 2
F38: =F37+G37+H37+I37+J37 -> 58440 | M38: =M37-((G38+I38)*data!$B$22+(H38+J38)*data!$B$23)/100+L38 -> 50.04 | N38: =WEEKDAY($A37,2) -> 2
A39: =A37+1 -> 41045 | F39: =F38+G38+H38+I38+J38 -> 58440 | M39: =M38-((G39+I39)*data!$B$22+(H39+J39)*data!$B$23)/100+L39 -> 50.04 | N39: =WEEKDAY($A39,2) -> 3
F40: =F39+G39+H39+I39+J39 -> 58440 | M40: =M39-((G40+I40)*data!$B$22+(H40+J40)*data!$B$23)/100+L40 -> 50.04 | N40: =WEEKDAY($A39,2) -> 3
A41: =A39+1 -> 41046 | F41: =F40+G40+H40+I40+J40 -> 58440 | M41: =M40-((G41+I41)*data!$B$22+(H41+J41)*data!$B$23)/100+L41 -> 50.04 | N41: =WEEKDAY($A41,2) -> 4
F42: =F41+G41+H41+I41+J41 -> 58440 | M42: =M41-((G42+I42)*data!$B$22+(H42+J42)*data!$B$23)/100+L42 -> 50.04 | N42: =WEEKDAY($A41,2) -> 4
...

Sheet 06
A1: VYÚČTOVANIE SPOTREBY POHONNÝCH HMÔT | J1: mesiac: | L1: =DATE(rok, 6, 1) -> 41061 | M1: =DATE(#REF!,#REF!,#REF!) -> #REF!
L2: 7
A3: Vodič: | B3: =data!$A$4 -> Meno a priezvisko | C3: Vozidlo: | D3: =data!$B$11&", ŠPZ: "&data!$B$10 -> značka a typ auta, ŠPZ: ZA 123 AB
A5: Dátum | B5: Cieľ cesty | F5: Stav tacho-metra | G5: Najazdené kilometre | L5: Nákup PHM (L) | M5: Zostatok v nádrži (L) | O5: Nákup PHM (€) s DPH | Q5: Súkromne mimo evidenciu
G6: Služobne | I6: Súkromne
G7: Mimo mesta | H7: V meste | I7: Mimo mesta | J7: V meste
A9: =L1 -> 41061 | E9: 1 | F9: ='05'!F70 -> 58440 | M9: ='05'!M70 -> 50.04 | N9: =WEEKDAY($A9,2) -> 5
F10: =F9+G9+H9+I9+J9 -> 58440 | M10: =M9-((G10+I10)*data!$B$22+(H10+J10)*data!$B$23)/100+L10 -> 50.04 | N10: =WEEKDAY($A9,2) -> 5
A11: =A9+1 -> 41062 | F11: =F10+G10+H10+I10+J10 -> 58440 | M11: =M10-((G11+I11)*data!$B$22+(H11+J11)*data!$B$23)/100+L11 -> 50.04 | N11: =WEEKDAY($A11,2) -> 6
F12: =F11+G11+H11+I11+J11 -> 58440 | M12: =M11-((G12+I12)*data!$B$22+(H12+J12)*data!$B$23)/100+L12 -> 50.04 | N12: =WEEKDAY($A11,2) -> 6
A13: =A11+1 -> 41063 | F13: =F12+G12+H12+I12+J12 -> 58440 | M13: =M12-((G13+I13)*data!$B$22+(H13+J13)*data!$B$23)/100+L13 -> 50.04 | N13: =WEEKDAY($A13,2) -> 7
F14: =F13+G13+H13+I13+J13 -> 58440 | M14: =M13-((G14+I14)*data!$B$22+(H14+J14)*data!$B$23)/100+L14 -> 50.04 | N14: =WEEKDAY($A13,2) -> 7
A15: =A13+1 -> 41064 | F15: =F14+G14+H14+I14+J14 -> 58440 | M15: =M14-((G15+I15)*data!$B$22+(H15+J15)*data!$B$23)/100+L15 -> 50.04 | N15: =WEEKDAY($A15,2) -> 1
F16: =F15+G15+H15+I15+J15 -> 58440 | M16: =M15-((G16+I16)*data!$B$22+(H16+J16)*data!$B$23)/100+L16 -> 50.04 | N16: =WEEKDAY($A15,2) -> 1
A17: =A15+1 -> 41065 | F17: =F16+G16+H16+I16+J16 -> 58440 | M17: =M16-((G17+I17)*data!$B$22+(H17+J17)*data!$B$23)/100+L17 -> 50.04 | N17: =WEEKDAY($A17,2) -> 2
F18: =F17+G17+H17+I17+J17 -> 58440 | M18: =M17-((G18+I18)*data!$B$22+(H18+J18)*data!$B$23)/100+L18 -> 50.04 | N18: =WEEKDAY($A17,2) -> 2
A19: =A17+1 -> 41066 | F19: =F18+G18+H18+I18+J18 -> 58440 | M19: =M18-((G19+I19)*data!$B$22+(H19+J19)*data!$B$23)/100+L19 -> 50.04 | N19: =WEEKDAY($A19,2) -> 3
F20: =F19+G19+H19+I19+J19 -> 58440 | M20: =M19-((G20+I20)*data!$B$22+(H20+J20)*data!$B$23)/100+L20 -> 50.04 | N20: =WEEKDAY($A19,2) -> 3
A21: =A19+1 -> 41067 | F21: =F20+G20+H20+I20+J20 -> 58440 | M21: =M20-((G21+I21)*data!$B$22+(H21+J21)*data!$B$23)/100+L21 -> 50.04 | N21: =WEEKDAY($A21,2) -> 4 | S21: 38783 | T21: Super(95) Leaded | U21: BA-BOTANICKA | V21: 38.09 | W21: SKK | X21: 1451.2
F22: =F21+G21+H21+I21+J21 -> 58440 | M22: =M21-((G22+I22)*data!$B$22+(H22+J22)*data!$B$23)/100+L22 -> 50.04 | N22: =WEEKDAY($A21,2) -> 4 | U22: Nove Zamky | V22: 26.06 | W22: SKK | X22: 1003.3
A23: =A21+1 -> 41068 | F23: =F22+G22+H22+I22+J22 -> 58440 | M23: =M22-((G23+I23)*data!$B$22+(H23+J23)*data!$B$23)/100+L23 -> 50.04 | N23: =WEEKDAY($A23,2) -> 5 | S23: 38784 | T23: Super(95) Leaded | U23: TRENČÍN | V23: 33.62 | W23: SKK | X23: 1307.8
F24: =F23+G23+H23+I23+J23 -> 58440 | M24: =M23-((G24+I24)*data!$B$22+(H24+J24)*data!$B$23)/100+L24 -> 50.04 | N24: =WEEKDAY($A23,2) -> 5
A25: =A23+1 -> 41069 | F25: =F24+G24+H24+I24+J24 -> 58440 | M25: =M24-((G25+I25)*data!$B$22+(H25+J25)*data!$B$23)/100+L25 -> 50.04 | N25: =WEEKDAY($A25,2) -> 6
F26: =F25+G25+H25+I25+J25 -> 58440 | M26: =M25-((G26+I26)*data!$B$22+(H26+J26)*data!$B$23)/100+L26 -> 50.04 | N26: =WEEKDAY($A25,2) -> 6
A27: =A25+1 -> 41070 | F27: =F26+G26+H26+I26+J26 -> 58440 | M27: =M26-((G27+I27)*data!$B$22+(H27+J27)*data!$B$23)/100+L27 -> 50.04 | N27: =WEEKDAY($A27,2) -> 7
F28: =F27+G27+H27+I27+J27 -> 58440 | M28: =M27-((G28+I28)*data!$B$22+(H28+J28)*data!$B$23)/100+L28 -> 50.04 | N28: =WEEKDAY($A27,2) -> 7
A29: =A27+1 -> 41071 | F29: =F28+G28+H28+I28+J28 -> 58440 | M29: =M28-((G29+I29)*data!$B$22+(H29+J29)*data!$B$23)/100+L29 -> 50.04 | N29: =WEEKDAY($A29,2) -> 1
F30: =F29+G29+H29+I29+J29 -> 58440 | M30: =M29-((G30+I30)*data!$B$22+(H30+J30)*data!$B$23)/100+L30 -> 50.04 | N30: =WEEKDAY($A29,2) -> 1
A31: =A29+1 -> 41072 | F31: =F30+G30+H30+I30+J30 -> 58440 | M31: =M30-((G31+I31)*data!$B$22+(H31+J31)*data!$B$23)/100+L31 -> 50.04 | N31: =WEEKDAY($A31,2) -> 2
F32: =F31+G31+H31+I31+J31 -> 58440 | M32: =M31-((G32+I32)*data!$B$22+(H32+J32)*data!$B$23)/100+L32 -> 50.04 | N32: =WEEKDAY($A31,2) -> 2
A33: =A31+1 -> 41073 | F33: =F32+G32+H32+I32+J32 -> 58440 | M33: =M32-((G33+I33)*data!$B$22+(H33+J33)*data!$B$23)/100+L33 -> 50.04 | N33: =WEEKDAY($A33,2) -> 3
F34: =F33+G33+H33+I33+J33 -> 58440 | M34: =M33-((G34+I34)*data!$B$22+(H34+J34)*data!$B$23)/100+L34 -> 50.04 | N34: =WEEKDAY($A33,2) -> 3
A35: =A33+1 -> 41074 | F35: =F34+G34+H34+I34+J34 -> 58440 | M35: =M34-((G35+I35)*data!$B$22+(H35+J35)*data!$B$23)/100+L35 -> 50.04 | N35: =WEEKDAY($A35,2) -> 4
F36: =F35+G35+H35+I35+J35 -> 58440 | M36: =M35-((G36+I36)*data!$B$22+(H36+J36)*data!$B$23)/100+L36 -> 50.04 | N36: =WEEKDAY($A35,2) -> 4
A37: =A35+1 -> 41075 | F37: =F36+G36+H36+I36+J36 -> 58440 | M37: =M36-((G37+I37)*data!$B$22+(H37+J37)*data!$B$23)/100+L37 -> 50.04 | N37: =WEEKDAY($A37,2) -> 5
F38: =F37+G37+H37+I37+J37 -> 58440 | M38: =M37-((G38+I38)*data!$B$22+(H38+J38)*data!$B$23)/100+L38 -> 50.04 | N38: =WEEKDAY($A37,2) -> 5
A39: =A37+1 -> 41076 | F39: =F38+G38+H38+I38+J38 -> 58440 | M39: =M38-((G39+I39)*data!$B$22+(H39+J39)*data!$B$23)/100+L39 -> 50.04 | N39: =WEEKDAY($A39,2) -> 6
F40: =F39+G39+H39+I39+J39 -> 58440 | M40: =M39-((G40+I40)*data!$B$22+(H40+J40)*data!$B$23)/100+L40 -> 50.04 | N40: =WEEKDAY($A39,2) -> 6
A41: =A39+1 -> 41077 | F41: =F40+G40+H40+I40+J40 -> 58440 | M41: =M40-((G41+I41)*data!$B$22+(H41+J41)*data!$B$23)/100+L41 -> 50.04 | N41: =WEEKDAY($A41,2) -> 7
F42: =F41+G41+H41+I41+J41 -> 58440 | M42: =M41-((G42+I42)*data!$B$22+(H42+J42)*data!$B$23)/100+L42 -> 50.04 | N42: =WEEKDAY($A41,2) -> 7
...

Sheet 07
A1: VYÚČTOVANIE SPOTREBY POHONNÝCH HMÔT | J1: mesiac: | L1: =DATE(rok, 7, 1) -> 41091 | M1: =DATE(#REF!,#REF!,#REF!) -> #REF!
L2: 7
A3: Vodič: | B3: =data!$A$4 -> Meno a priezvisko | C3: Vozidlo: | D3: =data!$B$11&", ŠPZ: "&data!$B$10 -> značka a typ auta, ŠPZ: ZA 123 AB
A5: Dátum | B5: Cieľ cesty | F5: Stav tacho-metra | G5: Najazdené kilometre | L5: Nákup PHM (L) | M5: Zostatok v nádrži (L) | O5: Nákup PHM (€) s DPH | Q5: Súkromne mimo evidenciu
G6: Služobne | I6: Súkromne
G7: Mimo mesta | H7: V meste | I7: Mimo mesta | J7: V meste
A9: =L1 -> 41091 | E9: 1 | F9: ='06'!F70 -> 58440 | M9: ='06'!M70 -> 50.04 | N9: =WEEKDAY($A9,2) -> 7
F10: =F9+G9+H9+I9+J9 -> 58440 | M10: =M9-((G10+I10)*data!$B$22+(H10+J10)*data!$B$23)/100+L10 -> 50.04 | N10: =WEEKDAY($A9,2) -> 7
A11: =A9+1 -> 41092 | F11: =F10+G10+H10+I10+J10 -> 58440 | M11: =M10-((G11+I11)*data!$B$22+(H11+J11)*data!$B$23)/100+L11 -> 50.04 | N11: =WEEKDAY($A11,2) -> 1
F12: =F11+G11+H11+I11+J11 -> 58440 | M12: =M11-((G12+I12)*data!$B$22+(H12+J12)*data!$B$23)/100+L12 -> 50.04 | N12: =WEEKDAY($A11,2) -> 1
A13: =A11+1 -> 41093 | F13: =F12+G12+H12+I12+J12 -> 58440 | M13: =M12-((G13+I13)*data!$B$22+(H13+J13)*data!$B$23)/100+L13 -> 50.04 | N13: =WEEKDAY($A13,2) -> 2
F14: =F13+G13+H13+I13+J13 -> 58440 | M14: =M13-((G14+I14)*data!$B$22+(H14+J14)*data!$B$23)/100+L14 -> 50.04 | N14: =WEEKDAY($A13,2) -> 2
A15: =A13+1 -> 41094 | F15: =F14+G14+H14+I14+J14 -> 58440 | M15: =M14-((G15+I15)*data!$B$22+(H15+J15)*data!$B$23)/100+L15 -> 50.04 | N15: =WEEKDAY($A15,2) -> 3
F16: =F15+G15+H15+I15+J15 -> 58440 | M16: =M15-((G16+I16)*data!$B$22+(H16+J16)*data!$B$23)/100+L16 -> 50.04 | N16: =WEEKDAY($A15,2) -> 3
A17: =A15+1 -> 41095 | F17: =F16+G16+H16+I16+J16 -> 58440 | M17: =M16-((G17+I17)*data!$B$22+(H17+J17)*data!$B$23)/100+L17 -> 50.04 | N17: =WEEKDAY($A17,2) -> 4
F18: =F17+G17+H17+I17+J17 -> 58440 | M18: =M17-((G18+I18)*data!$B$22+(H18+J18)*data!$B$23)/100+L18 -> 50.04 | N18: =WEEKDAY($A17,2) -> 4
A19: =A17+1 -> 41096 | F19: =F18+G18+H18+I18+J18 -> 58440 | M19: =M18-((G19+I19)*data!$B$22+(H19+J19)*data!$B$23)/100+L19 -> 50.04 | N19: =WEEKDAY($A19,2) -> 5
F20: =F19+G19+H19+I19+J19 -> 58440 | M20: =M19-((G20+I20)*data!$B$22+(H20+J20)*data!$B$23)/100+L20 -> 50.04 | N20: =WEEKDAY($A19,2) -> 5
A21: =A19+1 -> 41097 | F21: =F20+G20+H20+I20+J20 -> 58440 | M21: =M20-((G21+I21)*data!$B$22+(H21+J21)*data!$B$23)/100+L21 -> 50.04 | N21: =WEEKDAY($A21,2) -> 6 | S21: 38783 | T21: Super(95) Leaded | U21: BA-BOTANICKA | V21: 38.09 | W21: SKK | X21: 1451.2
F22: =F21+G21+H21+I21+J21 -> 58440 | M22: =M21-((G22+I22)*data!$B$22+(H22+J22)*data!$B$23)/100+L22 -> 50.04 | N22: =WEEKDAY($A21,2) -> 6 | U22: Nove Zamky | V22: 26.06 | W22: SKK | X22: 1003.3
A23: =A21+1 -> 41098 | F23: =F22+G22+H22+I22+J22 -> 58440 | M23: =M22-((G23+I23)*data!$B$22+(H23+J23)*data!$B$23)/100+L23 -> 50.04 | N23: =WEEKDAY($A23,2) -> 7 | S23: 38784 | T23: Super(95) Leaded | U23: TRENČÍN | V23: 33.62 | W23: SKK | X23: 1307.8
F24: =F23+G23+H23+I23+J23 -> 58440 | M24: =M23-((G24+I24)*data!$B$22+(H24+J24)*data!$B$23)/100+L24 -> 50.04 | N24: =WEEKDAY($A23,2) -> 7
A25: =A23+1 -> 41099 | F25: =F24+G24+H24+I24+J24 -> 58440 | M25: =M24-((G25+I25)*data!$B$22+(H25+J25)*data!$B$23)/100+L25 -> 50.04 | N25: =WEEKDAY($A25,2) -> 1
F26: =F25+G25+H25+I25+J25 -> 58440 | M26: =M25-((G26+I26)*data!$B$22+(H26+J26)*data!$B$23)/100+L26 -> 50.04 | N26: =WEEKDAY($A25,2) -> 1
A27: =A25+1 -> 41100 | F27: =F26+G26+H26+I26+J26 -> 58440 | M27: =M26-((G27+I27)*data!$B$22+(H27+J27)*data!$B$23)/100+L27 -> 50.04 | N27: =WEEKDAY($A27,2) -> 2
F28: =F27+G27+H27+I27+J27 -> 58440 | M28: =M27-((G28+I28)*data!$B$22+(H28+J28)*data!$B$23)/100+L28 -> 50.04 | N28: =WEEKDAY($A27,2) -> 2
A29: =A27+1 -> 41101 | F29: =F28+G28+H28+I28+J28 -> 58440 | M29: =M28-((G29+I29)*data!$B$22+(H29+J29)*data!$B$23)/100+L29 -> 50.04 | N29: =WEEKDAY($A29,2) -> 3
F30: =F29+G29+H29+I29+J29 -> 58440 | M30: =M29-((G30+I30)*data!$B$22+(H30+J30)*data!$B$23)/100+L30 -> 50.04 | N30: =WEEKDAY($A29,2) -> 3
A31: =A29+1 -> 41102 | F31: =F30+G30+H30+I30+J30 -> 58440 | M31: =M30-((G31+I31)*data!$B$22+(H31+J31)*data!$B$23)/100+L31 -> 50.04 | N31: =WEEKDAY($A31,2) -> 4
F32: =F31+G31+H31+I31+J31 -> 58440 | M32: =M31-((G32+I32)*data!$B$22+(H32+J32)*data!$B$23)/100+L32 -> 50.04 | N32: =WEEKDAY($A31,2) -> 4
A33: =A31+1 -> 41103 | F33: =F32+G32+H32+I32+J32 -> 58440 | M33: =M32-((G33+I33)*data!$B$22+(H33+J33)*data!$B$23)/100+L33 -> 50.04 | N33: =WEEKDAY($A33,2) -> 5
F34: =F33+G33+H33+I33+J33 -> 58440 | M34: =M33-((G34+I34)*data!$B$22+(H34+J34)*data!$B$23)/100+L34 -> 50.04 | N34: =WEEKDAY($A33,2) -> 5
A35: =A33+1 -> 41104 | F35: =F34+G34+H34+I34+J34 -> 58440 | M35: =M34-((G35+I35)*data!$B$22+(H35+J35)*data!$B$23)/100+L35 -> 50.04 | N35: =WEEKDAY($A35,2) -> 6
F36: =F35+G35+H35+I35+J35 -> 58440 | M36: =M35-((G36+I36)*data!$B$22+(H36+J36)*data!$B$23)/100+L36 -> 50.04 | N36: =WEEKDAY($A35,2) -> 6
A37: =A35+1 -> 41105 | F37: =F36+G36+H36+I36+J36 -> 58440 | M37: =M36-((G37+I37)*data!$B$22+(H37+J37)*data!$B$23)/100+L37 -> 50.04 | N37: =WEEKDAY($A37,2) -> 7
F38: =F37+G37+H37+I37+J37 -> 58440 | M38: =M37-((G38+I38)*data!$B$22+(H38+J38)*data!$B$23)/100+L38 -> 50.04 | N38: =WEEKDAY($A37,2) -> 7
A39: =A37+1 -> 41106 | F39: =F38+G38+H38+I38+J38 -> 58440 | M39: =M38-((G39+I39)*data!$B$22+(H39+J39)*data!$B$23)/100+L39 -> 50.04 | N39: =WEEKDAY($A39,2) -> 1
F40: =F39+G39+H39+I39+J39 -> 58440 | M40: =M39-((G40+I40)*data!$B$22+(H40+J40)*data!$B$23)/100+L40 -> 50.04 | N40: =WEEKDAY($A39,2) -> 1
A41: =A39+1 -> 41107 | F41: =F40+G40+H40+I40+J40 -> 58440 | M41: =M40-((G41+I41)*data!$B$22+(H41+J41)*data!$B$23)/100+L41 -> 50.04 | N41: =WEEKDAY($A41,2) -> 2
F42: =F41+G41+H41+I41+J41 -> 58440 | M42: =M41-((G42+I42)*data!$B$22+(H42+J42)*data!$B$23)/100+L42 -> 50.04 | N42: =WEEKDAY($A41,2) -> 2
...

Sheet 08
A1: VYÚČTOVANIE SPOTREBY POHONNÝCH HMÔT | J1: mesiac: | L1: =DATE(rok, 8, 1) -> 41122 | M1: =DATE(#REF!,#REF!,#REF!) -> #REF!
L2: 7
A3: Vodič: | B3: =data!$A$4 -> Meno a priezvisko | C3: Vozidlo: | D3: =data!$B$11&", ŠPZ: "&data!$B$10 -> značka a typ auta, ŠPZ: ZA 123 AB
A5: Dátum | B5: Cieľ cesty | F5: Stav tacho-metra | G5: Najazdené kilometre | L5: Nákup PHM (L) | M5: Zostatok v nádrži (L) | O5: Nákup PHM (€) s DPH | Q5: Súkromne mimo evidenciu
G6: Služobne | I6: Súkromne
G7: Mimo mesta | H7: V meste | I7: Mimo mesta | J7: V meste
A9: =L1 -> 41122 | E9: 1 | F9: ='07'!F70 -> 58440 | M9: ='07'!M70 -> 50.04 | N9: =WEEKDAY($A9,2) -> 3
F10: =F9+G9+H9+I9+J9 -> 58440 | M10: =M9-((G10+I10)*data!$B$22+(H10+J10)*data!$B$23)/100+L10 -> 50.04 | N10: =WEEKDAY($A9,2) -> 3
A11: =A9+1 -> 41123 | F11: =F10+G10+H10+I10+J10 -> 58440 | M11: =M10-((G11+I11)*data!$B$22+(H11+J11)*data!$B$23)/100+L11 -> 50.04 | N11: =WEEKDAY($A11,2) -> 4
F12: =F11+G11+H11+I11+J11 -> 58440 | M12: =M11-((G12+I12)*data!$B$22+(H12+J12)*data!$B$23)/100+L12 -> 50.04 | N12: =WEEKDAY($A11,2) -> 4
A13: =A11+1 -> 41124 | F13: =F12+G12+H12+I12+J12 -> 58440 | M13: =M12-((G13+I13)*data!$B$22+(H13+J13)*data!$B$23)/100+L13 -> 50.04 | N13: =WEEKDAY($A13,2) -> 5
F14: =F13+G13+H13+I13+J13 -> 58440 | M14: =M13-((G14+I14)*data!$B$22+(H14+J14)*data!$B$23)/100+L14 -> 50.04 | N14: =WEEKDAY($A13,2) -> 5
A15: =A13+1 -> 41125 | F15: =F14+G14+H14+I14+J14 -> 58440 | M15: =M14-((G15+I15)*data!$B$22+(H15+J15)*data!$B$23)/100+L15 -> 50.04 | N15: =WEEKDAY($A15,2) -> 6
F16: =F15+G15+H15+I15+J15 -> 58440 | M16: =M15-((G16+I16)*data!$B$22+(H16+J16)*data!$B$23)/100+L16 -> 50.04 | N16: =WEEKDAY($A15,2) -> 6
A17: =A15+1 -> 41126 | F17: =F16+G16+H16+I16+J16 -> 58440 | M17: =M16-((G17+I17)*data!$B$22+(H17+J17)*data!$B$23)/100+L17 -> 50.04 | N17: =WEEKDAY($A17,2) -> 7
F18: =F17+G17+H17+I17+J17 -> 58440 | M18: =M17-((G18+I18)*data!$B$22+(H18+J18)*data!$B$23)/100+L18 -> 50.04 | N18: =WEEKDAY($A17,2) -> 7
A19: =A17+1 -> 41127 | F19: =F18+G18+H18+I18+J18 -> 58440 | M19: =M18-((G19+I19)*data!$B$22+(H19+J19)*data!$B$23)/100+L19 -> 50.04 | N19: =WEEKDAY($A19,2) -> 1
F20: =F19+G19+H19+I19+J19 -> 58440 | M20: =M19-((G20+I20)*data!$B$22+(H20+J20)*data!$B$23)/100+L20 -> 50.04 | N20: =WEEKDAY($A19,2) -> 1
A21: =A19+1 -> 41128 | F21: =F20+G20+H20+I20+J20 -> 58440 | M21: =M20-((G21+I21)*data!$B$22+(H21+J21)*data!$B$23)/100+L21 -> 50.04 | N21: =WEEKDAY($A21,2) -> 2 | S21: 38783 | T21: Super(95) Leaded | U21: BA-BOTANICKA | V21: 38.09 | W21: SKK | X21: 1451.2
F22: =F21+G21+H21+I21+J21 -> 58440 | M22: =M21-((G22+I22)*data!$B$22+(H22+J22)*data!$B$23)/100+L22 -> 50.04 | N22: =WEEKDAY($A21,2) -> 2 | U22: Nove Zamky | V22: 26.06 | W22: SKK | X22: 1003.3
A23: =A21+1 -> 41129 | F23: =F22+G22+H22+I22+J22 -> 58440 | M23: =M22-((G23+I23)*data!$B$22+(H23+J23)*data!$B$23)/100+L23 -> 50.04 | N23: =WEEKDAY($A23,2) -> 3 | S23: 38784 | T23: Super(95) Leaded | U23: TRENČÍN | V23: 33.62 | W23: SKK | X23: 1307.8
F24: =F23+G23+H23+I23+J23 -> 58440 | M24: =M23-((G24+I24)*data!$B$22+(H24+J24)*data!$B$23)/100+L24 -> 50.04 | N24: =WEEKDAY($A23,2) -> 3
A25: =A23+1 -> 41130 | F25: =F24+G24+H24+I24+J24 -> 58440 | M25: =M24-((G25+I25)*data!$B$22+(H25+J25)*data!$B$23)/100+L25 -> 50.04 | N25: =WEEKDAY($A25,2) -> 4
F26: =F25+G25+H25+I25+J25 -> 58440 | M26: =M25-((G26+I26)*data!$B$22+(H26+J26)*data!$B$23)/100+L26 -> 50.04 | N26: =WEEKDAY($A25,2) -> 4
A27: =A25+1 -> 41131 | F27: =F26+G26+H26+I26+J26 -> 58440 | M27: =M26-((G27+I27)*data!$B$22+(H27+J27)*data!$B$23)/100+L27 -> 50.04 | N27: =WEEKDAY($A27,2) -> 5
F28: =F27+G27+H27+I27+J27 -> 58440 | M28: =M27-((G28+I28)*data!$B$22+(H28+J28)*data!$B$23)/100+L28 -> 50.04 | N28: =WEEKDAY($A27,2) -> 5
A29: =A27+1 -> 41132 | F29: =F28+G28+H28+I28+J28 -> 58440 | M29: =M28-((G29+I29)*data!$B$22+(H29+J29)*data!$B$23)/100+L29 -> 50.04 | N29: =WEEKDAY($A29,2) -> 6
F30: =F29+G29+H29+I29+J29 -> 58440 | M30: =M29-((G30+I30)*data!$B$22+(H30+J30)*data!$B$23)/100+L30 -> 50.04 | N30: =WEEKDAY($A29,2) -> 6
A31: =A29+1 -> 41133 | F31: =F30+G30+H30+I30+J30 -> 58440 | M31: =M30-((G31+I31)*data!$B$22+(H31+J31)*data!$B$23)/100+L31 -> 50.04 | N31: =WEEKDAY($A31,2) -> 7
F32: =F31+G31+H31+I31+J31 -> 58440 | M32: =M31-((G32+I32)*data!$B$22+(H32+J32)*data!$B$23)/100+L32 -> 50.04 | N32: =WEEKDAY($A31,2) -> 7
A33: =A31+1 -> 41134 | F33: =F32+G32+H32+I32+J32 -> 58440 | M33: =M32-((G33+I33)*data!$B$22+(H33+J33)*data!$B$23)/100+L33 -> 50.04 | N33: =WEEKDAY($A33,2) -> 1
F34: =F33+G33+H33+I33+J33 -> 58440 | M34: =M33-((G34+I34)*data!$B$22+(H34+J34)*data!$B$23)/100+L34 -> 50.04 | N34: =WEEKDAY($A33,2) -> 1
A35: =A33+1 -> 41135 | F35: =F34+G34+H34+I34+J34 -> 58440 | M35: =M34-((G35+I35)*data!$B$22+(H35+J35)*data!$B$23)/100+L35 -> 50.04 | N35: =WEEKDAY($A35,2) -> 2
F36: =F35+G35+H35+I35+J35 -> 58440 | M36: =M35-((G36+I36)*data!$B$22+(H36+J36)*data!$B$23)/100+L36 -> 50.04 | N36: =WEEKDAY($A35,2) -> 2
A37: =A35+1 -> 41136 | F37: =F36+G36+H36+I36+J36 -> 58440 | M37: =M36-((G37+I37)*data!$B$22+(H37+J37)*data!$B$23)/100+L37 -> 50.04 | N37: =WEEKDAY($A37,2) -> 3
F38: =F37+G37+H37+I37+J37 -> 58440 | M38: =M37-((G38+I38)*data!$B$22+(H38+J38)*data!$B$23)/100+L38 -> 50.04 | N38: =WEEKDAY($A37,2) -> 3
A39: =A37+1 -> 41137 | F39: =F38+G38+H38+I38+J38 -> 58440 | M39: =M38-((G39+I39)*data!$B$22+(H39+J39)*data!$B$23)/100+L39 -> 50.04 | N39: =WEEKDAY($A39,2) -> 4
F40: =F39+G39+H39+I39+J39 -> 58440 | M40: =M39-((G40+I40)*data!$B$22+(H40+J40)*data!$B$23)/100+L40 -> 50.04 | N40: =WEEKDAY($A39,2) -> 4
A41: =A39+1 -> 41138 | F41: =F40+G40+H40+I40+J40 -> 58440 | M41: =M40-((G41+I41)*data!$B$22+(H41+J41)*data!$B$23)/100+L41 -> 50.04 | N41: =WEEKDAY($A41,2) -> 5
F42: =F41+G41+H41+I41+J41 -> 58440 | M42: =M41-((G42+I42)*data!$B$22+(H42+J42)*data!$B$23)/100+L42 -> 50.04 | N42: =WEEKDAY($A41,2) -> 5
...

Sheet 09
A1: VYÚČTOVANIE SPOTREBY POHONNÝCH HMÔT | J1: mesiac: | L1: =DATE(rok, 9, 1) -> 41153 | M1: =DATE(#REF!,#REF!,#REF!) -> #REF!
L2: 7
A3: Vodič: | B3: =data!$A$4 -> Meno a priezvisko | C3: Vozidlo: | D3: =data!$B$11&", ŠPZ: "&data!$B$10 -> značka a typ auta, ŠPZ: ZA 123 AB
A5: Dátum | B5: Cieľ cesty | F5: Stav tacho-metra | G5: Najazdené kilometre | L5: Nákup PHM (L) | M5: Zostatok v nádrži (L) | O5: Nákup PHM (€) s DPH | Q5: Súkromne mimo evidenciu
G6: Služobne | I6: Súkromne
G7: Mimo mesta | H7: V meste | I7: Mimo mesta | J7: V meste
A9: =L1 -> 41153 | E9: 1 | F9: ='08'!F70 -> 58440 | M9: ='08'!M70 -> 50.04 | N9: =WEEKDAY($A9,2) -> 6
F10: =F9+G9+H9+I9+J9 -> 58440 | M10: =M9-((G10+I10)*data!$B$22+(H10+J10)*data!$B$23)/100+L10 -> 50.04 | N10: =WEEKDAY($A9,2) -> 6
A11: =A9+1 -> 41154 | F11: =F10+G10+H10+I10+J10 -> 58440 | M11: =M10-((G11+I11)*data!$B$22+(H11+J11)*data!$B$23)/100+L11 -> 50.04 | N11: =WEEKDAY($A11,2) -> 7
F12: =F11+G11+H11+I11+J11 -> 58440 | M12: =M11-((G12+I12)*data!$B$22+(H12+J12)*data!$B$23)/100+L12 -> 50.04 | N12: =WEEKDAY($A11,2) -> 7
A13: =A11+1 -> 41155 | F13: =F12+G12+H12+I12+J12 -> 58440 | M13: =M12-((G13+I13)*data!$B$22+(H13+J13)*data!$B$23)/100+L13 -> 50.04 | N13: =WEEKDAY($A13,2) -> 1
F14: =F13+G13+H13+I13+J13 -> 58440 | M14: =M13-((G14+I14)*data!$B$22+(H14+J14)*data!$B$23)/100+L14 -> 50.04 | N14: =WEEKDAY($A13,2) -> 1
A15: =A13+1 -> 41156 | F15: =F14+G14+H14+I14+J14 -> 58440 | M15: =M14-((G15+I15)*data!$B$22+(H15+J15)*data!$B$23)/100+L15 -> 50.04 | N15: =WEEKDAY($A15,2) -> 2
F16: =F15+G15+H15+I15+J15 -> 58440 | M16: =M15-((G16+I16)*data!$B$22+(H16+J16)*data!$B$23)/100+L16 -> 50.04 | N16: =WEEKDAY($A15,2) -> 2
A17: =A15+1 -> 41157 | F17: =F16+G16+H16+I16+J16 -> 58440 | M17: =M16-((G17+I17)*data!$B$22+(H17+J17)*data!$B$23)/100+L17 -> 50.04 | N17: =WEEKDAY($A17,2) -> 3
F18: =F17+G17+H17+I17+J17 -> 58440 | M18: =M17-((G18+I18)*data!$B$22+(H18+J18)*data!$B$23)/100+L18 -> 50.04 | N18: =WEEKDAY($A17,2) -> 3
A19: =A17+1 -> 41158 | F19: =F18+G18+H18+I18+J18 -> 58440 | M19: =M18-((G19+I19)*data!$B$22+(H19+J19)*data!$B$23)/100+L19 -> 50.04 | N19: =WEEKDAY($A19,2) -> 4
F20: =F19+G19+H19+I19+J19 -> 58440 | M20: =M19-((G20+I20)*data!$B$22+(H20+J20)*data!$B$23)/100+L20 -> 50.04 | N20: =WEEKDAY($A19,2) -> 4
A21: =A19+1 -> 41159 | F21: =F20+G20+H20+I20+J20 -> 58440 | M21: =M20-((G21+I21)*data!$B$22+(H21+J21)*data!$B$23)/100+L21 -> 50.04 | N21: =WEEKDAY($A21,2) -> 5 | S21: 38783 | T21: Super(95) Leaded | U21: BA-BOTANICKA | V21: 38.09 | W21: SKK | X21: 1451.2
F22: =F21+G21+H21+I21+J21 -> 58440 | M22: =M21-((G22+I22)*data!$B$22+(H22+J22)*data!$B$23)/100+L22 -> 50.04 | N22: =WEEKDAY($A21,2) -> 5 | U22: Nove Zamky | V22: 26.06 | W22: SKK | X22: 1003.3
A23: =A21+1 -> 41160 | F23: =F22+G22+H22+I22+J22 -> 58440 | M23: =M22-((G23+I23)*data!$B$22+(H23+J23)*data!$B$23)/100+L23 -> 50.04 | N23: =WEEKDAY($A23,2) -> 6 | S23: 38784 | T23: Super(95) Leaded | U23: TRENČÍN | V23: 33.62 | W23: SKK | X23: 1307.8
F24: =F23+G23+H23+I23+J23 -> 58440 | M24: =M23-((G24+I24)*data!$B$22+(H24+J24)*data!$B$23)/100+L24 -> 50.04 | N24: =WEEKDAY($A23,2) -> 6
A25: =A23+1 -> 41161 | F25: =F24+G24+H24+I24+J24 -> 58440 | M25: =M24-((G25+I25)*data!$B$22+(H25+J25)*data!$B$23)/100+L25 -> 50.04 | N25: =WEEKDAY($A25,2) -> 7
F26: =F25+G25+H25+I25+J25 -> 58440 | M26: =M25-((G26+I26)*data!$B$22+(H26+J26)*data!$B$23)/100+L26 -> 50.04 | N26: =WEEKDAY($A25,2) -> 7
A27: =A25+1 -> 41162 | F27: =F26+G26+H26+I26+J26 -> 58440 | M27: =M26-((G27+I27)*data!$B$22+(H27+J27)*data!$B$23)/100+L27 -> 50.04 | N27: =WEEKDAY($A27,2) -> 1
F28: =F27+G27+H27+I27+J27 -> 58440 | M28: =M27-((G28+I28)*data!$B$22+(H28+J28)*data!$B$23)/100+L28 -> 50.04 | N28: =WEEKDAY($A27,2) -> 1
A29: =A27+1 -> 41163 | F29: =F28+G28+H28+I28+J28 -> 58440 | M29: =M28-((G29+I29)*data!$B$22+(H29+J29)*data!$B$23)/100+L29 -> 50.04 | N29: =WEEKDAY($A29,2) -> 2
F30: =F29+G29+H29+I29+J29 -> 58440 | M30: =M29-((G30+I30)*data!$B$22+(H30+J30)*data!$B$23)/100+L30 -> 50.04 | N30: =WEEKDAY($A29,2) -> 2
A31: =A29+1 -> 41164 | F31: =F30+G30+H30+I30+J30 -> 58440 | M31: =M30-((G31+I31)*data!$B$22+(H31+J31)*data!$B$23)/100+L31 -> 50.04 | N31: =WEEKDAY($A31,2) -> 3
F32: =F31+G31+H31+I31+J31 -> 58440 | M32: =M31-((G32+I32)*data!$B$22+(H32+J32)*data!$B$23)/100+L32 -> 50.04 | N32: =WEEKDAY($A31,2) -> 3
A33: =A31+1 -> 41165 | F33: =F32+G32+H32+I32+J32 -> 58440 | M33: =M32-((G33+I33)*data!$B$22+(H33+J33)*data!$B$23)/100+L33 -> 50.04 | N33: =WEEKDAY($A33,2) -> 4
F34: =F33+G33+H33+I33+J33 -> 58440 | M34: =M33-((G34+I34)*data!$B$22+(H34+J34)*data!$B$23)/100+L34 -> 50.04 | N34: =WEEKDAY($A33,2) -> 4
A35: =A33+1 -> 41166 | F35: =F34+G34+H34+I34+J34 -> 58440 | M35: =M34-((G35+I35)*data!$B$22+(H35+J35)*data!$B$23)/100+L35 -> 50.04 | N35: =WEEKDAY($A35,2) -> 5
F36: =F35+G35+H35+I35+J35 -> 58440 | M36: =M35-((G36+I36)*data!$B$22+(H36+J36)*data!$B$23)/100+L36 -> 50.04 | N36: =WEEKDAY($A35,2) -> 5
A37: =A35+1 -> 41167 | F37: =F36+G36+H36+I36+J36 -> 58440 | M37: =M36-((G37+I37)*data!$B$22+(H37+J37)*data!$B$23)/100+L37 -> 50.04 | N37: =WEEKDAY($A37,2) -> 6
F38: =F37+G37+H37+I37+J37 -> 58440 | M38: =M37-((G38+I38)*data!$B$22+(H38+J38)*data!$B$23)/100+L38 -> 50.04 | N38: =WEEKDAY($A37,2) -> 6
A39: =A37+1 -> 41168 | F39: =F38+G38+H38+I38+J38 -> 58440 | M39: =M38-((G39+I39)*data!$B$22+(H39+J39)*data!$B$23)/100+L39 -> 50.04 | N39: =WEEKDAY($A39,2) -> 7
F40: =F39+G39+H39+I39+J39 -> 58440 | M40: =M39-((G40+I40)*data!$B$22+(H40+J40)*data!$B$23)/100+L40 -> 50.04 | N40: =WEEKDAY($A39,2) -> 7
A41: =A39+1 -> 41169 | F41: =F40+G40+H40+I40+J40 -> 58440 | M41: =M40-((G41+I41)*data!$B$22+(H41+J41)*data!$B$23)/100+L41 -> 50.04 | N41: =WEEKDAY($A41,2) -> 1
F42: =F41+G41+H41+I41+J41 -> 58440 | M42: =M41-((G42+I42)*data!$B$22+(H42+J42)*data!$B$23)/100+L42 -> 50.04 | N42: =WEEKDAY($A41,2) -> 1
...

Sheet 10
A1: VYÚČTOVANIE SPOTREBY POHONNÝCH HMÔT | J1: mesiac: | L1: =DATE(rok, 10, 1) -> 41183 | M1: =DATE(#REF!,#REF!,#REF!) -> #REF!
L2: 7
A3: Vodič: | B3: =data!$A$4 -> Meno a priezvisko | C3: Vozidlo: | D3: =data!$B$11&", ŠPZ: "&data!$B$10 -> značka a typ auta, ŠPZ: ZA 123 AB
A5: Dátum | B5: Cieľ cesty | F5: Stav tacho-metra | G5: Najazdené kilometre | L5: Nákup PHM (L) | M5: Zostatok v nádrži (L) | O5: Nákup PHM (€) s DPH | Q5: Súkromne mimo evidenciu
G6: Služobne | I6: Súkromne
G7: Mimo mesta | H7: V meste | I7: Mimo mesta | J7: V meste
A9: =L1 -> 41183 | E9: 1 | F9: ='09'!F70 -> 58440 | M9: ='09'!M70 -> 50.04 | N9: =WEEKDAY($A9,2) -> 1
F10: =F9+G9+H9+I9+J9 -> 58440 | M10: =M9-((G10+I10)*data!$B$22+(H10+J10)*data!$B$23)/100+L10 -> 50.04 | N10: =WEEKDAY($A9,2) -> 1
A11: =A9+1 -> 41184 | F11: =F10+G10+H10+I10+J10 -> 58440 | M11: =M10-((G11+I11)*data!$B$22+(H11+J11)*data!$B$23)/100+L11 -> 50.04 | N11: =WEEKDAY($A11,2) -> 2
F12: =F11+G11+H11+I11+J11 -> 58440 | M12: =M11-((G12+I12)*data!$B$22+(H12+J12)*data!$B$23)/100+L12 -> 50.04 | N12: =WEEKDAY($A11,2) -> 2
A13: =A11+1 -> 41185 | F13: =F12+G12+H12+I12+J12 -> 58440 | M13: =M12-((G13+I13)*data!$B$22+(H13+J13)*data!$B$23)/100+L13 -> 50.04 | N13: =WEEKDAY($A13,2) -> 3
F14: =F13+G13+H13+I13+J13 -> 58440 | M14: =M13-((G14+I14)*data!$B$22+(H14+J14)*data!$B$23)/100+L14 -> 50.04 | N14: =WEEKDAY($A13,2) -> 3
A15: =A13+1 -> 41186 | F15: =F14+G14+H14+I14+J14 -> 58440 | M15: =M14-((G15+I15)*data!$B$22+(H15+J15)*data!$B$23)/100+L15 -> 50.04 | N15: =WEEKDAY($A15,2) -> 4
F16: =F15+G15+H15+I15+J15 -> 58440 | M16: =M15-((G16+I16)*data!$B$22+(H16+J16)*data!$B$23)/100+L16 -> 50.04 | N16: =WEEKDAY($A15,2) -> 4
A17: =A15+1 -> 41187 | F17: =F16+G16+H16+I16+J16 -> 58440 | M17: =M16-((G17+I17)*data!$B$22+(H17+J17)*data!$B$23)/100+L17 -> 50.04 | N17: =WEEKDAY($A17,2) -> 5
F18: =F17+G17+H17+I17+J17 -> 58440 | M18: =M17-((G18+I18)*data!$B$22+(H18+J18)*data!$B$23)/100+L18 -> 50.04 | N18: =WEEKDAY($A17,2) -> 5
A19: =A17+1 -> 41188 | F19: =F18+G18+H18+I18+J18 -> 58440 | M19: =M18-((G19+I19)*data!$B$22+(H19+J19)*data!$B$23)/100+L19 -> 50.04 | N19: =WEEKDAY($A19,2) -> 6
F20: =F19+G19+H19+I19+J19 -> 58440 | M20: =M19-((G20+I20)*data!$B$22+(H20+J20)*data!$B$23)/100+L20 -> 50.04 | N20: =WEEKDAY($A19,2) -> 6
A21: =A19+1 -> 41189 | F21: =F20+G20+H20+I20+J20 -> 58440 | M21: =M20-((G21+I21)*data!$B$22+(H21+J21)*data!$B$23)/100+L21 -> 50.04 | N21: =WEEKDAY($A21,2) -> 7 | S21: 38783 | T21: Super(95) Leaded | U21: BA-BOTANICKA | V21: 38.09 | W21: SKK | X21: 1451.2
F22: =F21+G21+H21+I21+J21 -> 58440 | M22: =M21-((G22+I22)*data!$B$22+(H22+J22)*data!$B$23)/100+L22 -> 50.04 | N22: =WEEKDAY($A21,2) -> 7 | U22: Nove Zamky | V22: 26.06 | W22: SKK | X22: 1003.3
A23: =A21+1 -> 41190 | F23: =F22+G22+H22+I22+J22 -> 58440 | M23: =M22-((G23+I23)*data!$B$22+(H23+J23)*data!$B$23)/100+L23 -> 50.04 | N23: =WEEKDAY($A23,2) -> 1 | S23: 38784 | T23: Super(95) Leaded | U23: TRENČÍN | V23: 33.62 | W23: SKK | X23: 1307.8
F24: =F23+G23+H23+I23+J23 -> 58440 | M24: =M23-((G24+I24)*data!$B$22+(H24+J24)*data!$B$23)/100+L24 -> 50.04 | N24: =WEEKDAY($A23,2) -> 1
A25: =A23+1 -> 41191 | F25: =F24+G24+H24+I24+J24 -> 58440 | M25: =M24-((G25+I25)*data!$B$22+(H25+J25)*data!$B$23)/100+L25 -> 50.04 | N25: =WEEKDAY($A25,2) -> 2
F26: =F25+G25+H25+I25+J25 -> 58440 | M26: =M25-((G26+I26)*data!$B$22+(H26+J26)*data!$B$23)/100+L26 -> 50.04 | N26: =WEEKDAY($A25,2) -> 2
A27: =A25+1 -> 41192 | F27: =F26+G26+H26+I26+J26 -> 58440 | M27: =M26-((G27+I27)*data!$B$22+(H27+J27)*data!$B$23)/100+L27 -> 50.04 | N27: =WEEKDAY($A27,2) -> 3
F28: =F27+G27+H27+I27+J27 -> 58440 | M28: =M27-((G28+I28)*data!$B$22+(H28+J28)*data!$B$23)/100+L28 -> 50.04 | N28: =WEEKDAY($A27,2) -> 3
A29: =A27+1 -> 41193 | F29: =F28+G28+H28+I28+J28 -> 58440 | M29: =M28-((G29+I29)*data!$B$22+(H29+J29)*data!$B$23)/100+L29 -> 50.04 | N29: =WEEKDAY($A29,2) -> 4
F30: =F29+G29+H29+I29+J29 -> 58440 | M30: =M29-((G30+I30)*data!$B$22+(H30+J30)*data!$B$23)/100+L30 -> 50.04 | N30: =WEEKDAY($A29,2) -> 4
A31: =A29+1 -> 41194 | F31: =F30+G30+H30+I30+J30 -> 58440 | M31: =M30-((G31+I31)*data!$B$22+(H31+J31)*data!$B$23)/100+L31 -> 50.04 | N31: =WEEKDAY($A31,2) -> 5
F32: =F31+G31+H31+I31+J31 -> 58440 | M32: =M31-((G32+I32)*data!$B$22+(H32+J32)*data!$B$23)/100+L32 -> 50.04 | N32: =WEEKDAY($A31,2) -> 5
A33: =A31+1 -> 41195 | F33: =F32+G32+H32+I32+J32 -> 58440 | M33: =M32-((G33+I33)*data!$B$22+(H33+J33)*data!$B$23)/100+L33 -> 50.04 | N33: =WEEKDAY($A33,2) -> 6
F34: =F33+G33+H33+I33+J33 -> 58440 | M34: =M33-((G34+I34)*data!$B$22+(H34+J34)*data!$B$23)/100+L34 -> 50.04 | N34: =WEEKDAY($A33,2) -> 6
A35: =A33+1 -> 41196 | F35: =F34+G34+H34+I34+J34 -> 58440 | M35: =M34-((G35+I35)*data!$B$22+(H35+J35)*data!$B$23)/100+L35 -> 50.04 | N35: =WEEKDAY($A35,2) -> 7
F36: =F35+G35+H35+I35+J35 -> 58440 | M36: =M35-((G36+I36)*data!$B$22+(H36+J36)*data!$B$23)/100+L36 -> 50.04 | N36: =WEEKDAY($A35,2) -> 7
A37: =A35+1 -> 41197 | F37: =F36+G36+H36+I36+J36 -> 58440 | M37: =M36-((G37+I37)*data!$B$22+(H37+J37)*data!$B$23)/100+L37 -> 50.04 | N37: =WEEKDAY($A37,2) -> 1
F38: =F37+G37+H37+I37+J37 -> 58440 | M38: =M37-((G38+I38)*data!$B$22+(H38+J38)*data!$B$23)/100+L38 -> 50.04 | N38: =WEEKDAY($A37,2) -> 1
A39: =A37+1 -> 41198 | F39: =F38+G38+H38+I38+J38 -> 58440 | M39: =M38-((G39+I39)*data!$B$22+(H39+J39)*data!$B$23)/100+L39 -> 50.04 | N39: =WEEKDAY($A39,2) -> 2
F40: =F39+G39+H39+I39+J39 -> 58440 | M40: =M39-((G40+I40)*data!$B$22+(H40+J40)*data!$B$23)/100+L40 -> 50.04 | N40: =WEEKDAY($A39,2) -> 2
A41: =A39+1 -> 41199 | F41: =F40+G40+H40+I40+J40 -> 58440 | M41: =M40-((G41+I41)*data!$B$22+(H41+J41)*data!$B$23)/100+L41 -> 50.04 | N41: =WEEKDAY($A41,2) -> 3
F42: =F41+G41+H41+I41+J41 -> 58440 | M42: =M41-((G42+I42)*data!$B$22+(H42+J42)*data!$B$23)/100+L42 -> 50.04 | N42: =WEEKDAY($A41,2) -> 3
...

Sheet 11
A1: VYÚČTOVANIE SPOTREBY POHONNÝCH HMÔT | J1: mesiac: | L1: =DATE(rok, 11, 1) -> 41214 | M1: =DATE(#REF!,#REF!,#REF!) -> #REF!
L2: 7
A3: Vodič: | B3: =data!$A$4 -> Meno a priezvisko | C3: Vozidlo: | D3: =data!$B$11&", ŠPZ: "&data!$B$10 -> značka a typ auta, ŠPZ: ZA 123 AB
A5: Dátum | B5: Cieľ cesty | F5: Stav tacho-metra | G5: Najazdené kilometre | L5: Nákup PHM (L) | M5: Zostatok v nádrži (L) | O5: Nákup PHM (€) s DPH | Q5: Súkromne mimo evidenciu
G6: Služobne | I6: Súkromne
G7: Mimo mesta | H7: V meste | I7: Mimo mesta | J7: V meste
A9: =L1 -> 41214 | E9: 1 | F9: ='10'!F70 -> 58440 | M9: ='10'!M70 -> 50.04 | N9: =WEEKDAY($A9,2) -> 4
F10: =F9+G9+H9+I9+J9 -> 58440 | M10: =M9-((G10+I10)*data!$B$22+(H10+J10)*data!$B$23)/100+L10 -> 50.04 | N10: =WEEKDAY($A9,2) -> 4
A11: =A9+1 -> 41215 | F11: =F10+G10+H10+I10+J10 -> 58440 | M11: =M10-((G11+I11)*data!$B$22+(H11+J11)*data!$B$23)/100+L11 -> 50.04 | N11: =WEEKDAY($A11,2) -> 5
F12: =F11+G11+H11+I11+J11 -> 58440 | M12: =M11-((G12+I12)*data!$B$22+(H12+J12)*data!$B$23)/100+L12 -> 50.04 | N12: =WEEKDAY($A11,2) -> 5
A13: =A11+1 -> 41216 | F13: =F12+G12+H12+I12+J12 -> 58440 | M13: =M12-((G13+I13)*data!$B$22+(H13+J13)*data!$B$23)/100+L13 -> 50.04 | N13: =WEEKDAY($A13,2) -> 6
