Workbook
Name rok: data!$A$7
Name taxa: [1]data!$B$25

Sheet data
A1: ZÁKLADNÉ ÚDAJE
A3: MENO VODIČA
A4: Meno a priezvisko
A5: druh vlastníctva auta | C5: LP
A6: KALENDÁRNY ROK
A7: 2012
A9: VOZIDLO
A10: Evidenčné číslo | B10: ZA 123 AB
A11: Továrenská značka a typ | B11: značka a typ auta
A12: Vozidlo pridelené dňa | B12: dátum registrácie na daňovom úrade
A13: Stav tachometra na začiatku | B13: 58000 | C13: km
A14: Stav nádrže na začiatku | B14: 20 | C14: l
A15: Objem nádrže | B15: 47 | C15: l
A17: POHONNÉ HMOTY
A18: Druh | B18: Nafta
A19: Zostatok v nádrži pred 1. použitím vozidla | C19: Litrov
A20: Spotreba pri 90 km/h | B20: 5.9 | C20: L / 100 km
A21: Spotreba pri 120 km/h | B21: 5.9 | C21: L / 100 km
A22: Spotreba mimo mesta | B22: =AVERAGE(B20,B21) -> 5.9 | C22: L / 100 km
A23: Spotreba v meste | B23: 5.9 | C23: L / 100 km
A24: Priemerná spotreba | B24: =AVERAGE(B20,B21,B23) -> 5.9 | C24: L / 100 km
A25: Priemerná cena 1 litra | B25: 1.23
A28: Súkromná taxa | B28: =ROUND(B24*B25/100, 2) -> 0.07 | C28: € / km
A30: Garančná prehliadka pri počte najazdených km | B30: 20000

Sheet 01
A1: VYÚČTOVANIE SPOTREBY POHONNÝCH HMÔT | J1: mesiac: | L1: =DATE(rok, 1, 1) -> 40909 | M1: =DATE(#REF!,#REF!,#REF!) -> #REF!
L2: 7
A3: Vodič: | B3: =data!$A$4 -> Meno a priezvisko | C3: Vozidlo: | D3: =data!$B$11&", ŠPZ: "&data!$B$10 -> značka a typ auta, ŠPZ: ZA 123 AB
A5: Dátum | B5: Cieľ cesty | F5: Stav tacho-metra | G5: Najazdené kilometre | L5: Nákup PHM (L) | M5: Zostatok v nádrži (L) | O5: Nákup PHM (€) s DPH | Q5: Súkromne mimo evidenciu
G6: Služobne | I6: Súkromne
G7: Mimo mesta | H7: V meste | I7: Mimo mesta | J7: V meste
A9: =L1 -> 40909 | E9: 1 | F9: =data!B13 -> 58000 | M9: =data!B14 -> 20 | N9: =WEEKDAY($A9,2) -> 7
F10: =F9+G9+H9+I9+J9 -> 58000 | M10: =M9-((G10+I10)*data!$B$22+(H10+J10)*data!$B$23)/100+L10 -> 20 | N10: =WEEKDAY($A9,2) -> 7
A11: =A9+1 -> 40910 | F11: =F10+G10+H10+I10+J10 -> 58000 | M11: =M10-((G11+I11)*data!$B$22+(H11+J11)*data!$B$23)/100+L11 -> 20 | N11: =WEEKDAY($A11,2) -> 1
F12: =F11+G11+H11+I11+J11 -> 58000 | M12: =M11-((G12+I12)*data!$B$22+(H12+J12)*data!$B$23)/100+L12 -> 20 | N12: =WEEKDAY($A11,2) -> 1
A13: =A11+1 -> 40911 | F13: =F12+G12+H12+I12+J12 -> 58000 | M13: =M12-((G13+I13)*data!$B$22+(H13+J13)*data!$B$23)/100+L13 -> 20 | N13: =WEEKDAY($A13,2) -> 2
F14: =F13+G13+H13+I13+J13 -> 58000 | M14: =M13-((G14+I14)*data!$B$22+(H14+J14)*data!$B$23)/100+L14 -> 20 | N14: =WEEKDAY($A13,2) -> 2
A15: =A13+1 -> 40912 | F15: =F14+G14+H14+I14+J14 -> 58000 | M15: =M14-((G15+I15)*data!$B$22+(H15+J15)*data!$B$23)/100+L15 -> 20 | N15: =WEEKDAY($A15,2) -> 3
F16: =F15+G15+H15+I15+J15 -> 58000 | M16: =M15-((G16+I16)*data!$B$22+(H16+J16)*data!$B$23)/100+L16 -> 20 | N16: =WEEKDAY($A15,2) -> 3
A17: =A15+1 -> 40913 | F17: =F16+G16+H16+I16+J16 -> 58000 | M17: =M16-((G17+I17)*data!$B$22+(H17+J17)*data!$B$23)/100+L17 -> 20 | N17: =WEEKDAY($A17,2) -> 4
F18: =F17+G17+H17+I17+J17 -> 58000 | M18: =M17-((G18+I18)*data!$B$22+(H18+J18)*data!$B$23)/100+L18 -> 20 | N18: =WEEKDAY($A17,2) -> 4
A19: =A17+1 -> 40914 | F19: =F18+G18+H18+I18+J18 -> 58000 | M19: =M18-((G19+I19)*data!$B$22+(H19+J19)*data!$B$23)/100+L19 -> 20 | N19: =WEEKDAY($A19,2) -> 5
F20: =F19+G19+H19+I19+J19 -> 58000 | M20: =M19-((G20+I20)*data!$B$22+(H20+J20)*data!$B$23)/100+L20 -> 20 | N20: =WEEKDAY($A19,2) -> 5
A21: =A19+1 -> 40915 | F21: =F20+G20+H20+I20+J20 -> 58000 | M21: =M20-((G21+I21)*data!$B$22+(H21+J21)*data!$B$23)/100+L21 -> 20 | N21: =WEEKDAY($A21,2) -> 6 | S21: 38783 | T21: Super(95) Leaded | U21: BA-BOTANICKA | V21: 38.09 | W21: SKK | X21: 1451.2
F22: =F21+G21+H21+I21+J21 -> 58000 | M22: =M21-((G22+I22)*data!$B$22+(H22+J22)*data!$B$23)/100+L22 -> 20 | N22: =WEEKDAY($A21,2) -> 6 | U22: Nove Zamky | V22: 26.06 | W22: SKK | X22: 1003.3
A23: =A21+1 -> 40916 | F23: =F22+G22+H22+I22+J22 -> 58000 | M23: =M22-((G23+I23)*data!$B$22+(H23+J23)*data!$B$23)/100+L23 -> 20 | N23: =WEEKDAY($A23,2) -> 7 | S23: 38784 | T23: Super(95) Leaded | U23: TRENČÍN | V23: 33.62 | W23: SKK | X23: 1307.8
F24: =F23+G23+H23+I23+J23 -> 58000 | M24: =M23-((G24+I24)*data!$B$22+(H24+J24)*data!$B$23)/100+L24 -> 20 | N24: =WEEKDAY($A23,2) -> 7
A25: =A23+1 -> 40917 | F25: =F24+G24+H24+I24+J24 -> 58000 | M25: =M24-((G25+I25)*data!$B$22+(H25+J25)*data!$B$23)/100+L25 -> 20 | N25: =WEEKDAY($A25,2) -> 1
F26: =F25+G25+H25+I25+J25 -> 58000 | M26: =M25-((G26+I26)*data!$B$22+(H26+J26)*data!$B$23)/100+L26 -> 20 | N26: =WEEKDAY($A25,2) -> 1
A27: =A25+1 -> 40918 | F27: =F26+G26+H26+I26+J26 -> 58000 | M27: =M26-((G27+I27)*data!$B$22+(H27+J27)*data!$B$23)/100+L27 -> 20 | N27: =WEEKDAY($A27,2) -> 2
F28: =F27+G27+H27+I27+J27 -> 58000 | M28: =M27-((G28+I28)*data!$B$22+(H28+J28)*data!$B$23)/100+L28 -> 20 | N28: =WEEKDAY($A27,2) -> 2
A29: =A27+1 -> 40919 | F29: =F28+G28+H28+I28+J28 -> 58000 | M29: =M28-((G29+I29)*data!$B$22+(H29+J29)*data!$B$23)/100+L29 -> 20 | N29: =WEEKDAY($A29,2) -> 3
F30: =F29+G29+H29+I29+J29 -> 58000 | M30: =M29-((G30+I30)*data!$B$22+(H30+J30)*data!$B$23)/100+L30 -> 20 | N30: =WEEKDAY($A29,2) -> 3
A31: =A29+1 -> 40920 | F31: =F30+G30+H30+I30+J30 -> 58000 | M31: =M30-((G31+I31)*data!$B$22+(H31+J31)*data!$B$23)/100+L31 -> 20 | N31: =WEEKDAY($A31,2) -> 4
F32: =F31+G31+H31+I31+J31 -> 58000 | M32: =M31-((G32+I32)*data!$B$22+(H32+J32)*data!$B$23)/100+L32 -> 20 | N32: =WEEKDAY($A31,2) -> 4
A33: =A31+1 -> 40921 | F33: =F32+G32+H32+I32+J32 -> 58000 | M33: =M32-((G33+I33)*data!$B$22+(H33+J33)*data!$B$23)/100+L33 -> 20 | N33: =WEEKDAY($A33,2) -> 5
F34: =F33+G33+H33+I33+J33 -> 58000 | M34: =M33-((G34+I34)*data!$B$22+(H34+J34)*data!$B$23)/100+L34 -> 20 | N34: =WEEKDAY($A33,2) -> 5
A35: =A33+1 -> 40922 | F35: =F34+G34+H34+I34+J34 -> 58000 | M35: =M34-((G35+I35)*data!$B$22+(H35+J35)*data!$B$23)/100+L35 -> 20 | N35: =WEEKDAY($A35,2) -> 6
F36: =F35+G35+H35+I35+J35 -> 58000 | M36: =M35-((G36+I36)*data!$B$22+(H36+J36)*data!$B$23)/100+L36 -> 20 | N36: =WEEKDAY($A35,2) -> 6
A37: =A35+1 -> 40923 | F37: =F36+G36+H36+I36+J36 -> 58000 | M37: =M36-((G37+I37)*data!$B$22+(H37+J37)*data!$B$23)/100+L37 -> 20 | N37: =WEEKDAY($A37,2) -> 7
F38: =F37+G37+H37+I37+J37 -> 58000 | M38: =M37-((G38+I38)*data!$B$22+(H38+J38)*data!$B$23)/100+L38 -> 20 | N38: =WEEKDAY($A37,2) -> 7
A39: =A37+1 -> 40924 | F39: =F38+G38+H38+I38+J38 -> 58000 | M39: =M38-((G39+I39)*data!$B$22+(H39+J39)*data!$B$23)/100+L39 -> 20 | N39: =WEEKDAY($A39,2) -> 1
F40: =F39+G39+H39+I39+J39 -> 58000 | M40: =M39-((G40+I40)*data!$B$22+(H40+J40)*data!$B$23)/100+L40 -> 20 | N40: =WEEKDAY($A39,2) -> 1
A41: =A39+1 -> 40925 | F41: =F40+G40+H40+I40+J40 -> 58000 | M41: =M40-((G41+I41)*data!$B$22+(H41+J41)*data!$B$23)/100+L41 -> 20 | N41: =WEEKDAY($A41,2) -> 2
F42: =F41+G41+H41+I41+J41 -> 58000 | M42: =M41-((G42+I42)*data!$B$22+(H42+J42)*data!$B$23)/100+L42 -> 20 | N42: =WEEKDAY($A41,2) -> 2
A43: =A41+1 -> 40926 | F43: =F42+G42+H42+I42+J42 -> 58000 | M43: =M42-((G43+I43)*data!$B$22+(H43+J43)*data!$B$23)/100+L43 -> 20 | N43: =WEEKDAY($A43,2) -> 3
F44: =F43+G43+H43+I43+J43 -> 58000 | M44: =M43-((G44+I44)*data!$B$22+(H44+J44)*data!$B$23)/100+L44 -> 20 | N44: =WEEKDAY($A43,2) -> 3
A45: =A43+1 -> 40927 | F45: =F44+G44+H44+I44+J44 -> 58000 | M45: =M44-((G45+I45)*data!$B$22+(H45+J45)*data!$B$23)/100+L45 -> 20 | N45: =WEEKDAY($A45,2) -> 4
F46: =F45+G45+H45+I45+J45 -> 58000 | M46: =M45-((G46+I46)*data!$B$22+(H46+J46)*data!$B$23)/100+L46 -> 20 | N46: =WEEKDAY($A45,2) -> 4
A47: =A45+1 -> 40928 | F47: =F46+G46+H46+I46+J46 -> 58000 | M47: =M46-((G47+I47)*data!$B$22+(H47+J47)*data!$B$23)/100+L47 -> 20 | N47: =WEEKDAY($A47,2) -> 5
F48: =F47+G47+H47+I47+J47 -> 58000 | M48: =M47-((G48+I48)*data!$B$22+(H48+J48)*data!$B$23)/100+L48 -> 20 | N48: =WEEKDAY($A47,2) -> 5
A49: =A47+1 -> 40929 | F49: =F48+G48+H48+I48+J48 -> 58000 | M49: =M48-((G49+I49)*data!$B$22+(H49+J49)*data!$B$23)/100+L49 -> 20 | N49: =WEEKDAY($A49,2) -> 6
F50: =F49+G49+H49+I49+J49 -> 58000 | M50: =M49-((G50+I50)*data!$B$22+(H50+J50)*data!$B$23)/100+L50 -> 20 | N50: =WEEKDAY($A49,2) -> 6
A51: =A49+1 -> 40930 | F51: =F50+G50+H50+I50+J50 -> 58000 | M51: =M50-((G51+I51)*data!$B$22+(H51+J51)*data!$B$23)/100+L51 -> 20 | N51: =WEEKDAY($A51,2) -> 7
F52: =F51+G51+H51+I51+J51 -> 58000 | M52: =M51-((G52+I52)*data!$B$22+(H52+J52)*data!$B$23)/100+L52 -> 20 | N52: =WEEKDAY($A51,2) -> 7
A53: =A51+1 -> 40931 | F53: =F52+G52+H52+I52+J52 -> 58000 | M53: =M52-((G53+I53)*data!$B$22+(H53+J53)*data!$B$23)/100+L53 -> 20 | N53: =WEEKDAY($A53,2) -> 1
F54: =F53+G53+H53+I53+J53 -> 58000 | M54: =M53-((G54+I54)*data!$B$22+(H54+J54)*data!$B$23)/100+L54 -> 20 | N54: =WEEKDAY($A53,2) -> 1
A55: =A53+1 -> 40932 | F55: =F54+G54+H54+I54+J54 -> 58000 | M55: =M54-((G55+I55)*data!$B$22+(H55+J55)*data!$B$23)/100+L55 -> 20 | N55: =WEEKDAY($A55,2) -> 2
F56: =F55+G55+H55+I55+J55 -> 58000 | M56: =M55-((G56+I56)*data!$B$22+(H56+J56)*data!$B$23)/100+L56 -> 20 | N56: =WEEKDAY($A55,2) -> 2
A57: =A55+1 -> 40933 | F57: =F56+G56+H56+I56+J56 -> 58000 | M57: =M56-((G57+I57)*data!$B$22+(H57+J57)*data!$B$23)/100+L57 -> 20 | N57: =WEEKDAY($A57,2) -> 3
F58: =F57+G57+H57+I57+J57 -> 58000 | M58: =M57-((G58+I58)*data!$B$22+(H58+J58)*data!$B$23)/100+L58 -> 20 | N58: =WEEKDAY($A57,2) -> 3
A59: =A57+1 -> 40934 | F59: =F58+G58+H58+I58+J58 -> 58000 | M59: =M58-((G59+I59)*data!$B$22+(H59+J59)*data!$B$23)/100+L59 -> 20 | N59: =WEEKDAY($A59,2) -> 4
F60: =F59+G59+H59+I59+J59 -> 58000 | M60: =M59-((G60+I60)*data!$B$22+(H60+J60)*data!$B$23)/100+L60 -> 20 | N60: =WEEKDAY($A59,2) -> 4
A61: =A59+1 -> 40935 | F61: =F60+G60+H60+I60+J60 -> 58000 | M61: =M60-((G61+I61)*data!$B$22+(H61+J61)*data!$B$23)/100+L61 -> 20 | N61: =WEEKDAY($A61,2) -> 5
F62: =F61+G61+H61+I61+J61 -> 58000 | M62: =M61-((G62+I62)*data!$B$22+(H62+J62)*data!$B$23)/100+L62 -> 20 | N62: =WEEKDAY($A61,2) -> 5
A63: =A61+1 -> 40936 | F63: =F62+G62+H62+I62+J62 -> 58000 | M63: =M62-((G63+I63)*data!$B$22+(H63+J63)*data!$B$23)/100+L63 -> 20 | N63: =WEEKDAY($A63,2) -> 6
F64: =F63+G63+H63+I63+J63 -> 58000 | M64: =M63-((G64+I64)*data!$B$22+(H64+J64)*data!$B$23)/100+L64 -> 20 | N64: =WEEKDAY($A63,2) -> 6
A65: =IF(MONTH(A63+1)=MONTH($L$1),A63+1," ") -> 40937 | F65: =F64+G64+H64+I64+J64 -> 58000 | M65: =M64-((G65+I65)*data!$B$22+(H65+J65)*data!$B$23)/100+L65 -> 20 | N65: =WEEKDAY($A65,2) -> 7
F66: =F65+G65+H65+I65+J65 -> 58000 | M66: =M65-((G66+I66)*data!$B$22+(H66+J66)*data!$B$23)/100+L66 -> 20 | N66: =WEEKDAY($A65,2) -> 7
A67: =IF(MONTH(A63+2)=MONTH($L$1),A63+2," ") -> 40938 | F67: =F66+G66+H66+I66+J66 -> 58000 | M67: =M66-((G67+I67)*data!$B$22+(H67+J67)*data!$B$23)/100+L67 -> 20 | N67: =WEEKDAY($A67,2) -> 1
F68: =F67+G67+H67+I67+J67 -> 58000 | M68: =M67-((G68+I68)*data!$B$22+(H68+J68)*data!$B$23)/100+L68 -> 20 | N68: =WEEKDAY($A67,2) -> 1
A69: =IF(MONTH(A63+3)=MONTH($L$1),A63+3," ") -> 40939 | F69: =F68+G68+H68+I68+J68 -> 58000 | M69: =M68-((G69+I69)*data!$B$22+(H69+J69)*data!$B$23)/100+L69 -> 20 | N69: =WEEKDAY($A69,2) -> 2
F70: =F69+G69+H69+I69+J69 -> 58000 | M70: =M69-((G70+I70)*data!$B$22+(H70+J70)*data!$B$23)/100+L70 -> 20 | N70: =WEEKDAY($A69,2) -> 2
A72: Stav tachometra: | C72: Počiatočný stav: | D72: =F9 -> 58000 | F72: Vypočítaný zostatok v nádrži (L): | L72: na konci mesiaca: | M72: =M70 -> 20 | Q72: =SUM(Q9:Q70) -> 0 | R72: Spolu za mesiac km
C73: Konečný stav: | D73: =F70+G70+H70+I70+J70 -> 58000 | F73: Skutočný zostatok v nádrži (L): | L73: na začiatku mesiaca: | Q73: =taxa*Q72 -> 0 | R73: Spolu za mesiac (€)
A74: Najazdené kilometre: | C74: Mimo mesta: | D74: =SUM(G9:G70) -> 0 | L74: na konci mesiaca:
C75: V meste: | D75: =SUM(H9:H70) -> 0 | F75: Nadspotreba: | Q75: =#REF!+Q72 -> #REF! | R75: Najazdené od začiatku roka
C76: Súkromne mimo mesta: | D76: =SUM(I9:I70) -> 0 | F76: Druh PHM: | J76: =data!$B$18 -> Nafta | Q76: =IF(Q75>5000,IF(Q72>(Q75-5000),(Q75-5000)*taxa,Q72*taxa),0) -> #REF! | R76: Skutočne zaplatiť S(€)
C77: Súkromne v meste: | D77: =SUM(J9:J70) -> 0 | F77: Celkový nákup PHM (€) s DPH: | M77: =SUM(O9:O70) -> 0
C78: Súkromne za rok | D78: =D76+D77 -> 0 | F78: Nákup PHM na súkromné jazdy (€) s DPH:
C79: CELKOM: | D79: =SUM(D74:D77) -> 0 | F79: Celkový nákup PHM (L): | M79: =SUM(L9:L70) -> 0
A81: Vyhotovil: | F81: Schválil:
A82: (dátum a podpis) | F82: (dátum a podpis)
C85: =D74+D75+D76 -> 0 | D85: =C85*0.15 -> 0

Sheet 02
A1: VYÚČTOVANIE SPOTREBY POHONNÝCH HMÔT | J1: mesiac: | L1: =DATE(rok, 2, 1) -> 40940 | M1: =DATE(#REF!,#REF!,#REF!) -> #REF!
L2: 7
A3: Vodič: | B3: =data!$A$4 -> Meno a priezvisko | C3: Vozidlo: | D3: =data!$B$11&", ŠPZ: "&data!$B$10 -> značka a typ auta, ŠPZ: ZA 123 AB
A5: Dátum | B5: Cieľ cesty | F5: Stav tacho-metra | G5: Najazdené kilometre | L5: Nákup PHM (L) | M5: Zostatok v nádrži (L) | O5: Nákup PHM (€) s DPH | Q5: Súkromne mimo evidenciu
G6: Služobne | I6: Súkromne
G7: Mimo mesta | H7: V meste | I7: Mimo mesta | J7: V meste
A9: =L1 -> 40940 | E9: 1 | F9: ='01'!F70 -> 58000 | M9: ='01'!M70 -> 20 | N9: =WEEKDAY($A9,2) -> 3
F10: =F9+G9+H9+I9+J9 -> 58000 | M10: =M9-((G10+I10)*data!$B$22+(H10+J10)*data!$B$23)/100+L10 -> 20 | N10: =WEEKDAY($A9,2) -> 3
A11: =A9+1 -> 40941 | F11: =F10+G10+H10+I10+J10 -> 58000 | M11: =M10-((G11+I11)*data!$B$22+(H11+J11)*data!$B$23)/100+L11 -> 20 | N11: =WEEKDAY($A11,2) -> 4
F12: =F11+G11+H11+I11+J11 -> 58000 | M12: =M11-((G12+I12)*data!$B$22+(H12+J12)*data!$B$23)/100+L12 -> 20 | N12: =WEEKDAY($A11,2) -> 4
A13: =A11+1 -> 40942 | F13: =F12+G12+H12+I12+J12 -> 58000 | M13: =M12-((G13+I13)*data!$B$22+(H13+J13)*data!$B$23)/100+L13 -> 20 | N13: =WEEKDAY($A13,2) -> 5
F14: =F13+G13+H13+I13+J13 -> 58000 | M14: =M13-((G14+I14)*data!$B$22+(H14+J14)*data!$B$23)/100+L14 -> 20 | N14: =WEEKDAY($A13,2) -> 5
A15: =A13+1 -> 40943 | F15: =F14+G14+H14+I14+J14 -> 58000 | M15: =M14-((G15+I15)*data!$B$22+(H15+J15)*data!$B$23)/100+L15 -> 20 | N15: =WEEKDAY($A15,2) -> 6
F16: =F15+G15+H15+I15+J15 -> 58000 | M16: =M15-((G16+I16)*data!$B$22+(H16+J16)*data!$B$23)/100+L16 -> 20 | N16: =WEEKDAY($A15,2) -> 6
A17: =A15+1 -> 40944 | F17: =F16+G16+H16+I16+J16 -> 58000 | M17: =M16-((G17+I17)*data!$B$22+(H17+J17)*data!$B$23)/100+L17 -> 20 | N17: =WEEKDAY($A17,2) -> 7
F18: =F17+G17+H17+I17+J17 -> 58000 | M18: =M17-((G18+I18)*data!$B$22+(H18+J18)*data!$B$23)/100+L18 -> 20 | N18: =WEEKDAY($A17,2) -> 7
A19: =A17+1 -> 40945 | F19: =F18+G18+H18+I18+J18 -> 58000 | M19: =M18-((G19+I19)*data!$B$22+(H19+J19)*data!$B$23)/100+L19 -> 20 | N19: =WEEKDAY($A19,2) -> 1
F20: =F19+G19+H19+I19+J19 -> 58000 | M20: =M19-((G20+I20)*data!$B$22+(H20+J20)*data!$B$23)/100+L20 -> 20 | N20: =WEEKDAY($A19,2) -> 1
A21: =A19+1 -> 40946 | F21: =F20+G20+H20+I20+J20 -> 58000 | M21: =M20-((G21+I21)*data!$B$22+(H21+J21)*data!$B$23)/100+L21 -> 20 | N21: =WEEKDAY($A21,2) -> 2 | S21: 38783 | T21: Super(95) Leaded | U21: BA-BOTANICKA | V21: 38.09 | W21: SKK | X21: 1451.2
F22: =F21+G21+H21+I21+J21 -> 58000 | M22: =M21-((G22+I22)*data!$B$22+(H22+J22)*data!$B$23)/100+L22 -> 20 | N22: =WEEKDAY($A21,2) -> 2 | U22: Nove Zamky | V22: 26.06 | W22: SKK | X22: 1003.3
A23: =A21+1 -> 40947 | F23: =F22+G22+H22+I22+J22 -> 58000 | M23: =M22-((G23+I23)*data!$B$22+(H23+J23)*data!$B$23)/100+L23 -> 20 | N23: =WEEKDAY($A23,2) -> 3 | S23: 38784 | T23: Super(95) Leaded | U23: TRENČÍN | V23: 33.62 | W23: SKK | X23: 1307.8
F24: =F23+G23+H23+I23+J23 -> 58000 | M24: =M23-((G24+I24)*data!$B$22+(H24+J24)*data!$B$23)/100+L24 -> 20 | N24: =WEEKDAY($A23,2) -> 3
A25: =A23+1 -> 40948 | F25: =F24+G24+H24+I24+J24 -> 58000 | M25: =M24-((G25+I25)*data!$B$22+(H25+J25)*data!$B$23)/100+L25 -> 20 | N25: =WEEKDAY($A25,2) -> 4
F26: =F25+G25+H25+I25+J25 -> 58000 | M26: =M25-((G26+I26)*data!$B$22+(H26+J26)*data!$B$23)/100+L26 -> 20 | N26: =WEEKDAY($A25,2) -> 4
A27: =A25+1 -> 40949 | F27: =F26+G26+H26+I26+J26 -> 58000 | M27: =M26-((G27+I27)*data!$B$22+(H27+J27)*data!$B$23)/100+L27 -> 20 | N27: =WEEKDAY($A27,2) -> 5
F28: =F27+G27+H27+I27+J27 -> 58000 | M28: =M27-((G28+I28)*data!$B$22+(H28+J28)*data!$B$23)/100+L28 -> 20 | N28: =WEEKDAY($A27,2) -> 5
A29: =A27+1 -> 40950 | F29: =F28+G28+H28+I28+J28 -> 58000 | M29: =M28-((G29+I29)*data!$B$22+(H29+J29)*data!$B$23)/100+L29 -> 20 | N29: =WEEKDAY($A29,2) -> 6
F30: =F29+G29+H29+I29+J29 -> 58000 | M30: =M29-((G30+I30)*data!$B$22+(H30+J30)*data!$B$23)/100+L30 -> 20 | N30: =WEEKDAY($A29,2) -> 6
A31: =A29+1 -> 40951 | F31: =F30+G30+H30+I30+J30 -> 58000 | M31: =M30-((G31+I31)*data!$B$22+(H31+J31)*data!$B$23)/100+L31 -> 20 | N31: =WEEKDAY($A31,2) -> 7
F32: =F31+G31+H31+I31+J31 -> 58000 | M32: =M31-((G32+I32)*data!$B$22+(H32+J32)*data!$B$23)/100+L32 -> 20 | N32: =WEEKDAY($A31,2) -> 7
A33: =A31+1 -> 40952 | F33: =F32+G32+H32+I32+J32 -> 58000 | M33: =M32-((G33+I33)*data!$B$22+(H33+J33)*data!$B$23)/100+L33 -> 20 | N33: =WEEKDAY($A33,2) -> 1
F34: =F33+G33+H33+I33+J33 -> 58000 | M34: =M33-((G34+I34)*data!$B$22+(H34+J34)*data!$B$23)/100+L34 -> 20 | N34: =WEEKDAY($A33,2) -> 1
A35: =A33+1 -> 40953 | F35: =F34+G34+H34+I34+J34 -> 58000 | M35: =M34-((G35+I35)*data!$B$22+(H35+J35)*data!$B$23)/100+L35 -> 20 | N35: =WEEKDAY($A35,2) -> 2
F36: =F35+G35+H35+I35+J35 -> 58000 | M36: =M35-((G36+I36)*data!$B$22+(H36+J36)*data!$B$23)/100+L36 -> 20 | N36: =WEEKDAY($A35,2) -> 2
A37: =A35+1 -> 40954 | F37: =F36+G36+H36+I36+J36 -> 58000 | M37: =M36-((G37+I37)*data!$B$22+(H37+J37)*data!$B$23)/100+L37 -> 20 | N37: =WEEKDAY($A37,2) -> 3
F38: =F37+G37+H37+I37+J37 -> 58000 | M38: =M37-((G38+I38)*data!$B$22+(H38+J38)*data!$B$23)/100+L38 -> 20 | N38: =WEEKDAY($A37,2) -> 3
A39: =A37+1 -> 40955 | F39: =F38+G38+H38+I38+J38 -> 58000 | M39: =M38-((G39+I39)*data!$B$22+(H39+J39)*data!$B$23)/100+L39 -> 20 | N39: =WEEKDAY($A39,2) -> 4
F40: =F39+G39+H39+I39+J39 -> 58000 | M40: =M39-((G40+I40)*data!$B$22+(H40+J40)*data!$B$23)/100+L40 -> 20 | N40: =WEEKDAY($A39,2) -> 4
A41: =A39+1 -> 40956 | F41: =F40+G40+H40+I40+J40 -> 58000 | M41: =M40-((G41+I41)*data!$B$22+(H41+J41)*data!$B$23)/100+L41 -> 20 | N41: =WEEKDAY($A41,2) -> 5
F42: =F41+G41+H41+I41+J41 -> 58000 | M42: =M41-((G42+I42)*data!$B$22+(H42+J42)*data!$B$23)/100+L42 -> 20 | N42: =WEEKDAY($A41,2) -> 5
A43: =A41+1 -> 40957 | F43: =F42+G42+H42+I42+J42 -> 58000 | M43: =M42-((G43+I43)*data!$B$22+(H43+J43)*data!$B$23)/100+L43 -> 20 | N43: =WEEKDAY($A43,2) -> 6
F44: =F43+G43+H43+I43+J43 -> 58000 | M44: =M43-((G44+I44)*data!$B$22+(H44+J44)*data!$B$23)/100+L44 -> 20 | N44: =WEEKDAY($A43,2) -> 6
A45: =A43+1 -> 40958 | F45: =F44+G44+H44+I44+J44 -> 58000 | M45: =M44-((G45+I45)*data!$B$22+(H45+J45)*data!$B$23)/100+L45 -> 20 | N45: =WEEKDAY($A45,2) -> 7
F46: =F45+G45+H45+I45+J45 -> 58000 | M46: =M45-((G46+I46)*data!$B$22+(H46+J46)*data!$B$23)/100+L46 -> 20 | N46: =WEEKDAY($A45,2) -> 7
A47: =A45+1 -> 40959 | F47: =F46+G46+H46+I46+J46 -> 58000 | M47: =M46-((G47+I47)*data!$B$22+(H47+J47)*data!$B$23)/100+L47 -> 20 | N47: =WEEKDAY($A47,2) -> 1
F48: =F47+G47+H47+I47+J47 -> 58000 | M48: =M47-((G48+I48)*data!$B$22+(H48+J48)*data!$B$23)/100+L48 -> 20 | N48: =WEEKDAY($A47,2) -> 1
A49: =A47+1 -> 40960 | F49: =F48+G48+H48+I48+J48 -> 58000 | M49: =M48-((G49+I49)*data!$B$22+(H49+J49)*data!$B$23)/100+L49 -> 20 | N49: =WEEKDAY($A49,2) -> 2
F50: =F49+G49+H49+I49+J49 -> 58000 | M50: =M49-((G50+I50)*data!$B$22+(H50+J50)*data!$B$23)/100+L50 -> 20 | N50: =WEEKDAY($A49,2) -> 2
A51: =A49+1 -> 40961 | F51: =F50+G50+H50+I50+J50 -> 58000 | M51: =M50-((G51+I51)*data!$B$22+(H51+J51)*data!$B$23)/100+L51 -> 20 | N51: =WEEKDAY($A51,2) -> 3
F52: =F51+G51+H51+I51+J51 -> 58000 | M52: =M51-((G52+I52)*data!$B$22+(H52+J52)*data!$B$23)/100+L52 -> 20 | N52: =WEEKDAY($A51,2) -> 3
A53: =A51+1 -> 40962 | F53: =F52+G52+H52+I52+J52 -> 58000 | M53: =M52-((G53+I53)*data!$B$22+(H53+J53)*data!$B$23)/100+L53 -> 20 | N53: =WEEKDAY($A53,2) -> 4
F54: =F53+G53+H53+I53+J53 -> 58000 | M54: =M53-((G54+I54)*data!$B$22+(H54+J54)*data!$B$23)/100+L54 -> 20 | N54: =WEEKDAY($A53,2) -> 4
A55: =A53+1 -> 40963 | F55: =F54+G54+H54+I54+J54 -> 58000 | M55: =M54-((G55+I55)*data!$B$22+(H55+J55)*data!$B$23)/100+L55 -> 20 | N55: =WEEKDAY($A55,2) -> 5
F56: =F55+G55+H55+I55+J55 -> 58000 | M56: =M55-((G56+I56)*data!$B$22+(H56+J56)*data!$B$23)/100+L56 -> 20 | N56: =WEEKDAY($A55,2) -> 5
A57: =A55+1 -> 40964 | F57: =F56+G56+H56+I56+J56 -> 58000 | M57: =M56-((G57+I57)*data!$B$22+(H57+J57)*data!$B$23)/100+L57 -> 20 | N57: =WEEKDAY($A57,2) -> 6
F58: =F57+G57+H57+I57+J57 -> 58000 | M58: =M57-((G58+I58)*data!$B$22+(H58+J58)*data!$B$23)/100+L58 -> 20 | N58: =WEEKDAY($A57,2) -> 6
A59: =A57+1 -> 40965 | F59: =F58+G58+H58+I58+J58 -> 58000 | M59: =M58-((G59+I59)*data!$B$22+(H59+J59)*data!$B$23)/100+L59 -> 20 | N59: =WEEKDAY($A59,2) -> 7
F60: =F59+G59+H59+I59+J59 -> 58000 | M60: =M59-((G60+I60)*data!$B$22+(H60+J60)*data!$B$23)/100+L60 -> 20 | N60: =WEEKDAY($A59,2) -> 7
A61: =A59+1 -> 40966 | F61: =F60+G60+H60+I60+J60 -> 58000 | M61: =M60-((G61+I61)*data!$B$22+(H61+J61)*data!$B$23)/100+L61 -> 20 | N61: =WEEKDAY($A61,2) -> 1
F62: =F61+G61+H61+I61+J61 -> 58000 | M62: =M61-((G62+I62)*data!$B$22+(H62+J62)*data!$B$23)/100+L62 -> 20 | N62: =WEEKDAY($A61,2) -> 1
A63: =A61+1 -> 40967 | F63: =F62+G62+H62+I62+J62 -> 58000 | M63: =M62-((G63+I63)*data!$B$22+(H63+J63)*data!$B$23)/100+L63 -> 20 | N63: =WEEKDAY($A63,2) -> 2
F64: =F63+G63+H63+I63+J63 -> 58000 | M64: =M63-((G64+I64)*data!$B$22+(H64+J64)*data!$B$23)/100+L64 -> 20 | N64: =WEEKDAY($A63,2) -> 2
A65: =IF(MONTH(A63+1)=MONTH($L$1),A63+1," ") -> 40968 | F65: =F64+G64+H64+I64+J64 -> 58000 | M65: =M64-((G65+I65)*data!$B$22+(H65+J65)*data!$B$23)/100+L65 -> 20 | N65: =WEEKDAY($A65,2) -> 3
F66: =F65+G65+H65+I65+J65 -> 58000 | M66: =M65-((G66+I66)*data!$B$22+(H66+J66)*data!$B$23)/100+L66 -> 20 | N66: =WEEKDAY($A65,2) -> 3
A67: =IF(MONTH(A63+2)=MONTH($L$1),A63+2," ") | F67: =F66+G66+H66+I66+J66 -> 58000 | M67: =M66-((G67+I67)*data!$B$22+(H67+J67)*data!$B$23)/100+L67 -> 20 | N67: =WEEKDAY($A67,2) -> #VALUE!
F68: =F67+G67+H67+I67+J67 -> 58000 | M68: =M67-((G68+I68)*data!$B$22+(H68+J68)*data!$B$23)/100+L68 -> 20 | N68: =WEEKDAY($A67,2) -> #VALUE!
A69: =IF(MONTH(A63+3)=MONTH($L$1),A63+3," ") | F69: =F68+G68+H68+I68+J68 -> 58000 | M69: =M68-((G69+I69)*data!$B$22+(H69+J69)*data!$B$23)/100+L69 -> 20 | N69: =WEEKDAY($A69,2) -> #VALUE!
F70: =F69+G69+H69+I69+J69 -> 58000 | M70: =M69-((G70+I70)*data!$B$22+(H70+J70)*data!$B$23)/100+L70 -> 20 | N70: =WEEKDAY($A69,2) -> #VALUE!
A72: Stav tachometra: | C72: Počiatočný stav: | D72: =F9 -> 58000 | F72: Vypočítaný zostatok v nádrži (L): | L72: na konci mesiaca: | M72: =M70 -> 20 | Q72: =SUM(Q9:Q70) -> 0 | R72: Spolu za mesiac km
C73: Konečný stav: | D73: =F70+G70+H70+I70+J70 -> 58000 | F73: Skutočný zostatok v nádrži (L): | L73: na začiatku mesiaca: | Q73: =taxa*Q72 -> 0 | R73: Spolu za mesiac (€)
A74: Najazdené kilometre: | C74: Mimo mesta: | D74: =SUM(G9:G70) -> 0 | L74: na konci mesiaca:
C75: V meste: | D75: =SUM(H9:H70) -> 0 | F75: Nadspotreba: | Q75: =#REF!+Q72 -> #REF! | R75: Najazdené od začiatku roka
C76: Súkromne mimo mesta: | D76: =SUM(I9:I70) -> 0 | F76: Druh PHM: | J76: =data!$B$18 -> Nafta | Q76: =IF(Q75>5000,IF(Q72>(Q75-5000),(Q75-5000)*taxa,Q72*taxa),0) -> #REF! | R76: Skutočne zaplatiť S(€)
C77: Súkromne v meste: | D77: =SUM(J9:J70) -> 0 | F77: Celkový nákup PHM (€) s DPH: | M77: =SUM(O9:O70) -> 0
C78: Súkromne za rok | D78: =D76+D77 -> 0 | F78: Nákup PHM na súkromné jazdy (€) s DPH:
C79: CELKOM: | D79: =SUM(D74:D77) -> 0 | F79: Celkový nákup PHM (L): | M79: =SUM(L9:L70) -> 0
A81: Vyhotovil: | F81: Schválil:
A82: (dátum a podpis) | F82: (dátum a podpis)
C85: =D74+D75+D76 -> 0 | D85: =C85*0.15 -> 0

Sheet 03
A1: VYÚČTOVANIE SPOTREBY POHONNÝCH HMÔT | J1: mesiac: | L1: =DATE(rok, 3, 1) -> 40969 | M1: =DATE(#REF!,#REF!,#REF!) -> #REF!
L2: 7
A3: Vodič: | B3: =data!$A$4 -> Meno a priezvisko | C3: Vozidlo: | D3: =data!$B$11&", ŠPZ: "&data!$B$10 -> značka a typ auta, ŠPZ: ZA 123 AB
A5: Dátum | B5: Cieľ cesty | F5: Stav tacho-metra | G5: Najazdené kilometre | L5: Nákup PHM (L) | M5: Zostatok v nádrži (L) | O5: Nákup PHM (€) s DPH | Q5: Súkromne mimo evidenciu
G6: Služobne | I6: Súkromne
G7: Mimo mesta | H7: V meste | I7: Mimo mesta | J7: V meste
A9: =L1 -> 40969 | E9: 1 | F9: ='02'!F70 -> 58000 | M9: ='02'!M70 -> 20 | N9: =WEEKDAY($A9,2) -> 4
F10: =F9+G9+H9+I9+J9 -> 58000 | M10: =M9-((G10+I10)*data!$B$22+(H10+J10)*data!$B$23)/100+L10 -> 20 | N10: =WEEKDAY($A9,2) -> 4
A11: =A9+1 -> 40970 | F11: =F10+G10+H10+I10+J10 -> 58000 | M11: =M10-((G11+I11)*data!$B$22+(H11+J11)*data!$B$23)/100+L11 -> 20 | N11: =WEEKDAY($A11,2) -> 5
F12: =F11+G11+H11+I11+J11 -> 58000 | M12: =M11-((G12+I12)*data!$B$22+(H12+J12)*data!$B$23)/100+L12 -> 20 | N12: =WEEKDAY($A11,2) -> 5
A13: =A11+1 -> 40971 | F13: =F12+G12+H12+I12+J12 -> 58000 | M13: =M12-((G13+I13)*data!$B$22+(H13+J13)*data!$B$23)/100+L13 -> 20 | N13: =WEEKDAY($A13,2) -> 6
F14: =F13+G13+H13+I13+J13 -> 58000 | M14: =M13-((G14+I14)*data!$B$22+(H14+J14)*data!$B$23)/100+L14 -> 20 | N14: =WEEKDAY($A13,2) -> 6
A15: =A13+1 -> 40972 | F15: =F14+G14+H14+I14+J14 -> 58000 | M15: =M14-((G15+I15)*data!$B$22+(H15+J15)*data!$B$23)/100+L15 -> 20 | N15: =WEEKDAY($A15,2) -> 7
F16: =F15+G15+H15+I15+J15 -> 58000 | M16: =M15-((G16+I16)*data!$B$22+(H16+J16)*data!$B$23)/100+L16 -> 20 | N16: =WEEKDAY($A15,2) -> 7
A17: =A15+1 -> 40973 | F17: =F16+G16+H16+I16+J16 -> 58000 | M17: =M16-((G17+I17)*data!$B$22+(H17+J17)*data!$B$23)/100+L17 -> 20 | N17: =WEEKDAY($A17,2) -> 1
F18: =F17+G17+H17+I17+J17 -> 58000 | M18: =M17-((G18+I18)*data!$B$22+(H18+J18)*data!$B$23)/100+L18 -> 20 | N18: =WEEKDAY($A17,2) -> 1
A19: =A17+1 -> 40974 | F19: =F18+G18+H18+I18+J18 -> 58000 | M19: =M18-((G19+I19)*data!$B$22+(H19+J19)*data!$B$23)/100+L19 -> 20 | N19: =WEEKDAY($A19,2) -> 2
F20: =F19+G19+H19+I19+J19 -> 58000 | M20: =M19-((G20+I20)*data!$B$22+(H20+J20)*data!$B$23)/100+L20 -> 20 | N20: =WEEKDAY($A19,2) -> 2
A21: =A19+1 -> 40975 | F21: =F20+G20+H20+I20+J20 -> 58000 | M21: =M20-((G21+I21)*data!$B$22+(H21+J21)*data!$B$23)/100+L21 -> 20 | N21: =WEEKDAY($A21,2) -> 3 | S21: 38783 | T21: Super(95) Leaded | U21: BA-BOTANICKA | V21: 38.09 | W21: SKK | X21: 1451.2
F22: =F21+G21+H21+I21+J21 -> 58000 | M22: =M21-((G22+I22)*data!$B$22+(H22+J22)*data!$B$23)/100+L22 -> 20 | N22: =WEEKDAY($A21,2) -> 3 | U22: Nove Zamky | V22: 26.06 | W22: SKK | X22: 1003.3
A23: =A21+1 -> 40976 | F23: =F22+G22+H22+I22+J22 -> 58000 | M23: =M22-((G23+I23)*data!$B$22+(H23+J23)*data!$B$23)/100+L23 -> 20 | N23: =WEEKDAY($A23,2) -> 4 | S23: 38784 | T23: Super(95) Leaded | U23: TRENČÍN | V23: 33.62 | W23: SKK | X23: 1307.8
F24: =F23+G23+H23+I23+J23 -> 58000 | M24: =M23-((G24+I24)*data!$B$22+(H24+J24)*data!$B$23)/100+L24 -> 20 | N24: =WEEKDAY($A23,2) -> 4
A25: =A23+1 -> 40977 | F25: =F24+G24+H24+I24+J24 -> 58000 | M25: =M24-((G25+I25)*data!$B$22+(H25+J25)*data!$B$23)/100+L25 -> 20 | N25: =WEEKDAY($A25,2) -> 5
F26: =F25+G25+H25+I25+J25 -> 58000 | M26: =M25-((G26+I26)*data!$B$22+(H26+J26)*data!$B$23)/100+L26 -> 20 | N26: =WEEKDAY($A25,2) -> 5
A27: =A25+1 -> 40978 | F27: =F26+G26+H26+I26+J26 -> 58000 | M27: =M26-((G27+I27)*data!$B$22+(H27+J27)*data!$B$23)/100+L27 -> 20 | N27: =WEEKDAY($A27,2) -> 6
F28: =F27+G27+H27+I27+J27 -> 58000 | M28: =M27-((G28+I28)*data!$B$22+(H28+J28)*data!$B$23)/100+L28 -> 20 | N28: =WEEKDAY($A27,2) -> 6
A29: =A27+1 -> 40979 | F29: =F28+G28+H28+I28+J28 -> 58000 | M29: =M28-((G29+I29)*data!$B$22+(H29+J29)*data!$B$23)/100+L29 -> 20 | N29: =WEEKDAY($A29,2) -> 7
F30: =F29+G29+H29+I29+J29 -> 58000 | M30: =M29-((G30+I30)*data!$B$22+(H30+J30)*data!$B$23)/100+L30 -> 20 | N30: =WEEKDAY($A29,2) -> 7
A31: =A29+1 -> 40980 | F31: =F30+G30+H30+I30+J30 -> 58000 | M31: =M30-((G31+I31)*data!$B$22+(H31+J31)*data!$B$23)/100+L31 -> 20 | N31: =WEEKDAY($A31,2) -> 1
F32: =F31+G31+H31+I31+J31 -> 58000 | M32: =M31-((G32+I32)*data!$B$22+(H32+J32)*data!$B$23)/100+L32 -> 20 | N32: =WEEKDAY($A31,2) -> 1
A33: =A31+1 -> 40981 | B33: Žilina | F33: =F32+G32+H32+I32+J32 -> 58000 | G33: 200 | H33: 20 | L33: 56 | M33: =M32-((G33+I33)*data!$B$22+(H33+J33)*data!$B$23)/100+L33 -> 63.02 | N33: =WEEKDAY($A33,2) -> 2 | O33: 75
B34: Bratislava | F34: =F33+G33+H33+I33+J33 -> 58220 | G34: 200 | H34: 20 | M34: =M33-((G34+I34)*data!$B$22+(H34+J34)*data!$B$23)/100+L34 -> 50.04 | N34: =WEEKDAY($A33,2) -> 2
A35: =A33+1 -> 40982 | F35: =F34+G34+H34+I34+J34 -> 58440 | M35: =M34-((G35+I35)*data!$B$22+(H35+J35)*data!$B$23)/100+L35 -> 50.04 | N35: =WEEKDAY($A35,2) -> 3
F36: =F35+G35+H35+I35+J35 -> 58440 | M36: =M35-((G36+I36)*data!$B$22+(H36+J36)*data!$B$23)/100+L36 -> 50.04 | N36: =WEEKDAY($A35,2) -> 3
A37: =A35+1 -> 40983 | F37: =F36+G36+H36+I36+J36 -> 58440 | M37: =M36-((G37+I37)*data!$B$22+(H37+J37)*data!$B$23)/100+L37 -> 50.04 | N37: =WEEKDAY($A37,2) -> 4
F38: =F37+G37+H37+I37+J37 -> 58440 | M38: =M37-((G38+I38)*data!$B$22+(H38+J38)*data!$B$23)/100+L38 -> 50.04 | N38: =WEEKDAY($A37,2) -> 4
A39: =A37+1 -> 40984 | F39: =F38+G38+H38+I38+J38 -> 58440 | M39: =M38-((G39+I39)*data!$B$22+(H39+J39)*data!$B$23)/100+L39 -> 50.04 | N39: =WEEKDAY($A39,2) -> 5
F40: =F39+G39+H39+I39+J39 -> 58440 | M40: =M39-((G40+I40)*data!$B$22+(H40+J40)*data!$B$23)/100+L40 -> 50.04 | N40: =WEEKDAY($A39,2) -> 5
A41: =A39+1 -> 40985 | F41: =F40+G40+H40+I40+J40 -> 58440 | M41: =M40-((G41+I41)*data!$B$22+(H41+J41)*data!$B$23)/100+L41 -> 50.04 | N41: =WEEKDAY($A41,2) -> 6
F42: =F41+G41+H41+I41+J41 -> 58440 | M42: =M41-((G42+I42)*data!$B$22+(H42+J42)*data!$B$23)/100+L42 -> 50.04 | N42: =WEEKDAY($A41,2) -> 6
A43: =A41+1 -> 40986 | F43: =F42+G42+H42+I42+J42 -> 58440 | M43: =M42-((G43+I43)*data!$B$22+(H43+J43)*data!$B$23)/100+L43 -> 50.04 | N43: =WEEKDAY($A43,2) -> 7
F44: =F43+G43+H43+I43+J43 -> 58440 | M44: =M43-((G44+I44)*data!$B$22+(H44+J44)*data!$B$23)/100+L44 -> 50.04 | N44: =WEEKDAY($A43,2) -> 7
A45: =A43+1 -> 40987 | F45: =F44+G44+H44+I44+J44 -> 58440 | M45: =M44-((G45+I45)*data!$B$22+(H45+J45)*data!$B$23)/100+L45 -> 50.04 | N45: =WEEKDAY($A45,2) -> 1
F46: =F45+G45+H45+I45+J45 -> 58440 | M46: =M45-((G46+I46)*data!$B$22+(H46+J46)*data!$B$23)/100+L46 -> 50.04 | N46: =WEEKDAY($A45,2) -> 1
A47: =A45+1 -> 40988 | F47: =F46+G46+H46+I46+J46 -> 58440 | M47: =M46-((G47+I47)*data!$B$22+(H47+J47)*data!$B$23)/100+L47 -> 50.04 | N47: =WEEKDAY($A47,2) -> 2
F48: =F47+G47+H47+I47+J47 -> 58440 | M48: =M47-((G48+I48)*data!$B$22+(H48+J48)*data!$B$23)/100+L48 -> 50.04 | N48: =WEEKDAY($A47,2) -> 2
A49: =A47+1 -> 40989 | F49: =F48+G48+H48+I48+J48 -> 58440 | M49: =M48-((G49+I49)*data!$B$22+(H49+J49)*data!$B$23)/100+L49 -> 50.04 | N49: =WEEKDAY($A49,2) -> 3
F50: =F49+G49+H49+I49+J49 -> 58440 | M50: =M49-((G50+I50)*data!$B$22+(H50+J50)*data!$B$23)/100+L50 -> 50.04 | N50: =WEEKDAY($A49,2) -> 3
A51: =A49+1 -> 40990 | F51: =F50+G50+H50+I50+J50 -> 58440 | M51: =M50-((G51+I51)*data!$B$22+(H51+J51)*data!$B$23)/100+L51 -> 50.04 | N51: =WEEKDAY($A51,2) -> 4
F52: =F51+G51+H51+I51+J51 -> 58440 | M52: =M51-((G52+I52)*data!$B$22+(H52+J52)*data!$B$23)/100+L52 -> 50.04 | N52: =WEEKDAY($A51,2) -> 4
A53: =A51+1 -> 40991 | F53: =F52+G52+H52+I52+J52 -> 58440 | M53: =M52-((G53+I53)*data!$B$22+(H53+J53)*data!$B$23)/100+L53 -> 50.04 | N53: =WEEKDAY($A53,2) -> 5
F54: =F53+G53+H53+I53+J53 -> 58440 | M54: =M53-((G54+I54)*data!$B$22+(H54+J54)*data!$B$23)/100+L54 -> 50.04 | N54: =WEEKDAY($A53,2) -> 5
A55: =A53+1 -> 40992 | F55: =F54+G54+H54+I54+J54 -> 58440 | M55: =M54-((G55+I55)*data!$B$22+(H55+J55)*data!$B$23)/100+L55 -> 50.04 | N55: =WEEKDAY($A55,2) -> 6
F56: =F55+G55+H55+I55+J55 -> 58440 | M56: =M55-((G56+I56)*data!$B$22+(H56+J56)*data!$B$23)/100+L56 -> 50.04 | N56: =WEEKDAY($A55,2) -> 6
A57: =A55+1 -> 40993 | F57: =F56+G56+H56+I56+J56 -> 58440 | M57: =M56-((G57+I57)*data!$B$22+(H57+J57)*data!$B$23)/100+L57 -> 50.04 | N57: =WEEKDAY($A57,2) -> 7
F58: =F57+G57+H57+I57+J57 -> 58440 | M58: =M57-((G58+I58)*data!$B$22+(H58+J58)*data!$B$23)/100+L58 -> 50.04 | N58: =WEEKDAY($A57,2) -> 7
A59: =A57+1 -> 40994 | F59: =F58+G58+H58+I58+J58 -> 58440 | M59: =M58-((G59+I59)*data!$B$22+(H59+J59)*data!$B$23)/100+L59 -> 50.04 | N59: =WEEKDAY($A59,2) -> 1
F60: =F59+G59+H59+I59+J59 -> 58440 | M60: =M59-((G60+I60)*data!$B$22+(H60+J60)*data!$B$23)/100+L60 -> 50.04 | N60: =WEEKDAY($A59,2) -> 1
A61: =A59+1 -> 40995 | F61: =F60+G60+H60+I60+J60 -> 58440 | M61: =M60-((G61+I61)*data!$B$22+(H61+J61)*data!$B$23)/100+L61 -> 50.04 | N61: =WEEKDAY($A61,2) -> 2
F62: =F61+G61+H61+I61+J61 -> 58440 | M62: =M61-((G62+I62)*data!$B$22+(H62+J62)*data!$B$23)/100+L62 -> 50.04 | N62: =WEEKDAY($A61,2) -> 2
A63: =A61+1 -> 40996 | F63: =F62+G62+H62+I62+J62 -> 58440 | M63: =M62-((G63+I63)*data!$B$22+(H63+J63)*data!$B$23)/100+L63 -> 50.04 | N63: =WEEKDAY($A63,2) -> 3
F64: =F63+G63+H63+I63+J63 -> 58440 | M64: =M63-((G64+I64)*data!$B$22+(H64+J64)*data!$B$23)/100+L64 -> 50.04 | N64: =WEEKDAY($A63,2) -> 3
A65: =IF(MONTH(A63+1)=MONTH($L$1),A63+1," ") -> 40997 | F65: =F64+G64+H64+I64+J64 -> 58440 | M65: =M64-((G65+I65)*data!$B$22+(H65+J65)*data!$B$23)/100+L65 -> 50.04 | N65: =WEEKDAY($A65,2) -> 4
F66: =F65+G65+H65+I65+J65 -> 58440 | M66: =M65-((G66+I66)*data!$B$22+(H66+J66)*data!$B$23)/100+L66 -> 50.04 | N66: =WEEKDAY($A65,2) -> 4
A67: =IF(MONTH(A63+2)=MONTH($L$1),A63+2," ") -> 40998 | F67: =F66+G66+H66+I66+J66 -> 58440 | M67: =M66-((G67+I67)*data!$B$22+(H67+J67)*data!$B$23)/100+L67 -> 50.04 | N67: =WEEKDAY($A67,2) -> 5
F68: =F67+G67+H67+I67+J67 -> 58440 | M68: =M67-((G68+I68)*data!$B$22+(H68+J68)*data!$B$23)/100+L68 -> 50.04 | N68: =WEEKDAY($A67,2) -> 5
A69: =IF(MONTH(A63+3)=MONTH($L$1),A63+3," ") -> 40999 | F69: =F68+G68+H68+I68+J68 -> 58440 | M69: =M68-((G69+I69)*data!$B$22+(H69+J69)*data!$B$23)/100+L69 -> 50.04 | N69: =WEEKDAY($A69,2) -> 6
F70: =F69+G69+H69+I69+J69 -> 58440 | M70: =M69-((G70+I70)*data!$B$22+(H70+J70)*data!$B$23)/100+L70 -> 50.04 | N70: =WEEKDAY($A69,2) -> 6
A72: Stav tachometra: | C72: Počiatočný stav: | D72: =F9 -> 58000 | F72: Vypočítaný zostatok v nádrži (L): | L72: na konci mesiaca: | M72: =M70 -> 50.04 | Q72: =SUM(Q9:Q70) -> 0 | R72: Spolu za mesiac km
C73: Konečný stav: | D73: =F70+G70+H70+I70+J70 -> 58440 | F73: Skutočný zostatok v nádrži (L): | L73: na začiatku mesiaca: | Q73: =taxa*Q72 -> 0 | R73: Spolu za mesiac (€)
A74: Najazdené kilometre: | C74: Mimo mesta: | D74: =SUM(G9:G70) -> 400 | L74: na konci mesiaca:
C75: V meste: | D75: =SUM(H9:H70) -> 40 | F75: Nadspotreba: | Q75: =#REF!+Q72 -> #REF! | R75: Najazdené od začiatku roka
C76: Súkromne mimo mesta: | D76: =SUM(I9:I70) -> 0 | F76: Druh PHM: | J76: =data!$B$18 -> Nafta | Q76: =IF(Q75>5000,IF(Q72>(Q75-5000),(Q75-5000)*taxa,Q72*taxa),0) -> #REF! | R76: Skutočne zaplatiť S(€)
C77: Súkromne v meste: | D77: =SUM(J9:J70) -> 0 | F77: Celkový nákup PHM (€) s DPH: | M77: =SUM(O9:O70) -> 75
C78: Súkromne za rok | D78: =D76+D77 -> 0 | F78: Nákup PHM na súkromné jazdy (€) s DPH:
C79: CELKOM: | D79: =SUM(D74:D77) -> 440 | F79: Celkový nákup PHM (L): | M79: =SUM(L9:L70) -> 56
A81: Vyhotovil: | F81: Schválil:
A82: (dátum a podpis) | F82: (dátum a podpis)
C85: =D74+D75+D76 -> 440 | D85: =C85*0.15 -> 66

Sheet 04
A1: VYÚČTOVANIE SPOTREBY POHONNÝCH HMÔT | J1: mesiac: | L1: =DATE(rok, 4, 1) -> 41000 | M1: =DATE(#REF!,#REF!,#REF!) -> #REF!
L2: 7
A3: Vodič: | B3: =data!$A$4 -> Meno a priezvisko | C3: Vozidlo: | D3: =data!$B$11&", ŠPZ: "&data!$B$10 -> značka a typ auta, ŠPZ: ZA 123 AB
A5: Dátum | B5: Cieľ cesty | F5: Stav tacho-metra | G5: Najazdené kilometre | L5: Nákup PHM (L) | M5: Zostatok v nádrži (L) | O5: Nákup PHM (€) s DPH | Q5: Súkromne mimo evidenciu
G6: Služobne | I6: Súkromne
G7: Mimo mesta | H7: V meste | I7: Mimo mesta | J7: V meste
A9: =L1 -> 41000 | E9: 1 | F9: ='03'!F70 -> 58440 | M9: ='03'!M70 -> 50.04 | N9: =WEEKDAY($A9,2) -> 7
F10: =F9+G9+H9+I9+J9 -> 58440 | M10: =M9-((G10+I10)*data!$B$22+(H10+J10)*data!$B$23)/100+L10 -> 50.04 | N10: =WEEKDAY($A9,2) -> 7
A11: =A9+1 -> 41001 | F11: =F10+G10+H10+I10+J10 -> 58440 | M11: =M10-((G11+I11)*data!$B$22+(H11+J11)*data!$B$23)/100+L11 -> 50.04 | N11: =WEEKDAY($A11,2) -> 1
F12: =F11+G11+H11+I11+J11 -> 58440 | M12: =M11-((G12+I12)*data!$B$22+(H12+J12)*data!$B$23)/100+L12 -> 50.04 | N12: =WEEKDAY($A11,2) -> 1
A13: =A11+1 -> 41002 | F13: =F12+G12+H12+I12+J12 -> 58440 | M13: =M12-((G13+I13)*data!$B$22+(H13+J13)*data!$B$23)/100+L13 -> 50.04 | N13: =WEEKDAY($A13,2) -> 2
F14: =F13+G13+H13+I13+J13 -> 58440 | M14: =M13-((G14+I14)*data!$B$22+(H14+J14)*data!$B$23)/100+L14 -> 50.04 | N14: =WEEKDAY($A13,2) -> 2
A15: =A13+1 -> 41003 | F15: =F14+G14+H14+I14+J14 -> 58440 | M15: =M14-((G15+I15)*data!$B$22+(H15+J15)*data!$B$23)/100+L15 -> 50.04 | N15: =WEEKDAY($A15,2) -> 3
F16: =F15+G15+H15+I15+J15 -> 58440 | M16: =M15-((G16+I16)*data!$B$22+(H16+J16)*data!$B$23)/100+L16 -> 50.04 | N16: =WEEKDAY($A15,2) -> 3
A17: =A15+1 -> 41004 | F17: =F16+G16+H16+I16+J16 -> 58440 | M17: =M16-((G17+I17)*data!$B$22+(H17+J17)*data!$B$23)/100+L17 -> 50.04 | N17: =WEEKDAY($A17,2) -> 4
F18: =F17+G17+H17+I17+J17 -> 58440 | M18: =M17-((G18+I18)*data!$B$22+(H18+J18)*data!$B$23)/100+L18 -> 50.04 | N18: =WEEKDAY($A17,2) -> 4
A19: =A17+1 -> 41005 | F19: =F18+G18+H18+I18+J18 -> 58440 | M19: =M18-((G19+I19)*data!$B$22+(H19+J19)*data!$B$23)/100+L19 -> 50.04 | N19: =WEEKDAY($A19,2) -> 5
F20: =F19+G19+H19+I19+J19 -> 58440 | M20: =M19-((G20+I20)*data!$B$22+(H20+J20)*data!$B$23)/100+L20 -> 50.04 | N20: =WEEKDAY($A19,2) -> 5
A21: =A19+1 -> 41006 | F21: =F20+G20+H20+I20+J20 -> 58440 | M21: =M20-((G21+I21)*data!$B$22+(H21+J21)*data!$B$23)/100+L21 -> 50.04 | N21: =WEEKDAY($A21,2) -> 6 | S21: 38783 | T21: Super(95) Leaded | U21: BA-BOTANICKA | V21: 38.09 | W21: SKK | X21: 1451.2
F22: =F21+G21+H21+I21+J21 -> 58440 | M22: =M21-((G22+I22)*data!$B$22+(H22+J22)*data!$B$23)/100+L22 -> 50.04 | N22: =WEEKDAY($A21,2) -> 6 | U22: Nove Zamky | V22: 26.06 | W22: SKK | X22: 1003.3
A23: =A21+1 -> 41007 | F23: =F22+G22+H22+I22+J22 -> 58440 | M23: =M22-((G23+I23)*data!$B$22+(H23+J23)*data!$B$23)/100+L23 -> 50.04 | N23: =WEEKDAY($A23,2) -> 7 | S23: 38784 | T23: Super(95) Leaded | U23: TRENČÍN | V23: 33.62 | W23: SKK | X23: 1307.8
F24: =F23+G23+H23+I23+J23 -> 58440 | M24: =M23-((G24+I24)*data!$B$22+(H24+J24)*data!$B$23)/100+L24 -> 50.04 | N24: =WEEKDAY($A23,2) -> 7
A25: =A23+1 -> 41008 | F25: =F24+G24+H24+I24+J24 -> 58440 | M25: =M24-((G25+I25)*data!$B$22+(H25+J25)*data!$B$23)/100+L25 -> 50.04 | N25: =WEEKDAY($A25,2) -> 1
F26: =F25+G25+H25+I25+J25 -> 58440 | M26: =M25-((G26+I26)*data!$B$22+(H26+J26)*data!$B$23)/100+L26 -> 50.04 | N26: =WEEKDAY($A25,2) -> 1
A27: =A25+1 -> 41009 | F27: =F26+G26+H26+I26+J26 -> 58440 | M27: =M26-((G27+I27)*data!$B$22+(H27+J27)*data!$B$23)/100+L27 -> 50.04 | N27: =WEEKDAY($A27,2) -> 2
F28: =F27+G27+H27+I27+J27 -> 58440 | M28: =M27-((G28+I28)*data!$B$22+(H28+J28)*data!$B$23)/100+L28 -> 50.04 | N28: =WEEKDAY($A27,2) -> 2
A29: =A27+1 -> 41010 | F29: =F28+G28+H28+I28+J28 -> 58440 | M29: =M28-((G29+I29)*data!$B$22+(H29+J29)*data!$B$23)/100+L29 -> 50.04 | N29: =WEEKDAY($A29,2) -> 3
F30: =F29+G29+H29+I29+J29 -> 58440 | M30: =M29-((G30+I30)*data!$B$22+(H30+J30)*data!$B$23)/100+L30 -> 50.04 | N30: =WEEKDAY($A29,2) -> 3
A31: =A29+1 -> 41011 | F31: =F30+G30+H30+I30+J30 -> 58440 | M31: =M30-((G31+I31)*data!$B$22+(H31+J31)*data!$B$23)/100+L31 -> 50.04 | N31: =WEEKDAY($A31,2) -> 4
F32: =F31+G31+H31+I31+J31 -> 58440 | M32: =M31-((G32+I32)*data!$B$22+(H32+J32)*data!$B$23)/100+L32 -> 50.04 | N32: =WEEKDAY($A31,2) -> 4
A33: =A31+1 -> 41012 | F33: =F32+G32+H32+I32+J32 -> 58440 | M33: =M32-((G33+I33)*data!$B$22+(H33+J33)*data!$B$23)/100+L33 -> 50.04 | N33: =WEEKDAY($A33,2) -> 5
F34: =F33+G33+H33+I33+J33 -> 58440 | M34: =M33-((G34+I34)*data!$B$22+(H34+J34)*data!$B$23)/100+L34 -> 50.04 | N34: =WEEKDAY($A33,2) -> 5
A35: =A33+1 -> 41013 | F35: =F34+G34+H34+I34+J34 -> 58440 | M35: =M34-((G35+I35)*data!$B$22+(H35+J35)*data!$B$23)/100+L35 -> 50.04 | N35: =WEEKDAY($A35,2) -> 6
F36: =F35+G35+H35+I35+J35 -> 58440 | M36: =M35-((G36+I36)*data!$B$22+(H36+J36)*data!$B$23)/100+L36 -> 50.04 | N36: =WEEKDAY($A35,2) -> 6
A37: =A35+1 -> 41014 | F37: =F36+G36+H36+I36+J36 -> 58440 | M37: =M36-((G37+I37)*data!$B$22+(H37+J37)*data!$B$23)/100+L37 -> 50.04 | N37: =WEEKDAY($A37,2) -> 7
F38: =F37+G37+H37+I37+J37 -> 58440 | M38: =M37-((G38+I38)*data!$B$22+(H38+J38)*data!$B$23)/100+L38 -> 50.04 | N38: =WEEKDAY($A37,2) -> 7
A39: =A37+1 -> 41015 | F39: =F38+G38+H38+I38+J38 -> 58440 | M39: =M38-((G39+I39)*data!$B$22+(H39+J39)*data!$B$23)/100+L39 -> 50.04 | N39: =WEEKDAY($A39,2) -> 1
F40: =F39+G39+H39+I39+J39 -> 58440 | M40: =M39-((G40+I40)*data!$B$22+(H40+J40)*data!$B$23)/100+L40 -> 50.04 | N40: =WEEKDAY($A39,2) -> 1
A41: =A39+1 -> 41016 | F41: =F40+G40+H40+I40+J40 -> 58440 | M41: =M40-((G41+I41)*data!$B$22+(H41+J41)*data!$B$23)/100+L41 -> 50.04 | N41: =WEEKDAY($A41,2) -> 2
F42: =F41+G41+H41+I41+J41 -> 58440 | M42: =M41-((G42+I42)*data!$B$22+(H42+J42)*data!$B$23)/100+L42 -> 50.04 | N42: =WEEKDAY($A41,2) -> 2
A43: =A41+1 -> 41017 | F43: =F42+G42+H42+I42+J42 -> 58440 | M43: =M42-((G43+I43)*data!$B$22+(H43+J43)*data!$B$23)/100+L43 -> 50.04 | N43: =WEEKDAY($A43,2) -> 3
F44: =F43+G43+H43+I43+J43 -> 58440 | M44: =M43-((G44+I44)*data!$B$22+(H44+J44)*data!$B$23)/100+L44 -> 50.04 | N44: =WEEKDAY($A43,2) -> 3
A45: =A43+1 -> 41018 | F45: =F44+G44+H44+I44+J44 -> 58440 | M45: =M44-((G45+I45)*data!$B$22+(H45+J45)*data!$B$23)/100+L45 -> 50.04 | N45: =WEEKDAY($A45,2) -> 4
F46: =F45+G45+H45+I45+J45 -> 58440 | M46: =M45-((G46+I46)*data!$B$22+(H46+J46)*data!$B$23)/100+L46 -> 50.04 | N46: =WEEKDAY($A45,2) -> 4
A47: =A45+1 -> 41019 | F47: =F46+G46+H46+I46+J46 -> 58440 | M47: =M46-((G47+I47)*data!$B$22+(H47+J47)*data!$B$23)/100+L47 -> 50.04 | N47: =WEEKDAY($A47,2) -> 5
F48: =F47+G47+H47+I47+J47 -> 58440 | M48: =M47-((G48+I48)*data!$B$22+(H48+J48)*data!$B$23)/100+L48 -> 50.04 | N48: =WEEKDAY($A47,2) -> 5
A49: =A47+1 -> 41020 | F49: =F48+G48+H48+I48+J48 -> 58440 | M49: =M48-((G49+I49)*data!$B$22+(H49+J49)*data!$B$23)/100+L49 -> 50.04 | N49: =WEEKDAY($A49,2) -> 6
F50: =F49+G49+H49+I49+J49 -> 58440 | M50: =M49-((G50+I50)*data!$B$22+(H50+J50)*data!$B$23)/100+L50 -> 50.04 | N50: =WEEKDAY($A49,2) -> 6
A51: =A49+1 -> 41021 | F51: =F50+G50+H50+I50+J50 -> 58440 | M51: =M50-((G51+I51)*data!$B$22+(H51+J51)*data!$B$23)/100+L51 -> 50.04 | N51: =WEEKDAY($A51,2) -> 7
F52: =F51+G51+H51+I51+J51 -> 58440 | M52: =M51-((G52+I52)*data!$B$22+(H52+J52)*data!$B$23)/100+L52 -> 50.04 | N52: =WEEKDAY($A51,2) -> 7
A53: =A51+1 -> 41022 | F53: =F52+G52+H52+I52+J52 -> 58440 | M53: =M52-((G53+I53)*data!$B$22+(H53+J53)*data!$B$23)/100+L53 -> 50.04 | N53: =WEEKDAY($A53,2) -> 1
F54: =F53+G53+H53+I53+J53 -> 58440 | M54: =M53-((G54+I54)*data!$B$22+(H54+J54)*data!$B$23)/100+L54 -> 50.04 | N54: =WEEKDAY($A53,2) -> 1
A55: =A53+1 -> 41023 | F55: =F54+G54+H54+I54+J54 -> 58440 | M55: =M54-((G55+I55)*data!$B$22+(H55+J55)*data!$B$23)/100+L55 -> 50.04 | N55: =WEEKDAY($A55,2) -> 2
F56: =F55+G55+H55+I55+J55 -> 58440 | M56: =M55-((G56+I56)*data!$B$22+(H56+J56)*data!$B$23)/100+L56 -> 50.04 | N56: =WEEKDAY($A55,2) -> 2
A57: =A55+1 -> 41024 | F57: =F56+G56+H56+I56+J56 -> 58440 | M57: =M56-((G57+I57)*data!$B$22+(H57+J57)*data!$B$23)/100+L57 -> 50.04 | N57: =WEEKDAY($A57,2) -> 3
F58: =F57+G57+H57+I57+J57 -> 58440 | M58: =M57-((G58+I58)*data!$B$22+(H58+J58)*data!$B$23)/100+L58 -> 50.04 | N58: =WEEKDAY($A57,2) -> 3
A59: =A57+1 -> 41025 | F59: =F58+G58+H58+I58+J58 -> 58440 | M59: =M58-((G59+I59)*data!$B$22+(H59+J59)*data!$B$23)/100+L59 -> 50.04 | N59: =WEEKDAY($A59,2) -> 4
F60: =F59+G59+H59+I59+J59 -> 58440 | M60: =M59-((G60+I60)*data!$B$22+(H60+J60)*data!$B$23)/100+L60 -> 50.04 | N60: =WEEKDAY($A59,2) -> 4
A61: =A59+1 -> 41026 | F61: =F60+G60+H60+I60+J60 -> 58440 | M61: =M60-((G61+I61)*data!$B$22+(H61+J61)*data!$B$23)/100+L61 -> 50.04 | N61: =WEEKDAY($A61,2) -> 5
F62: =F61+G61+H61+I61+J61 -> 58440 | M62: =M61-((G62+I62)*data!$B$22+(H62+J62)*data!$B$23)/100+L62 -> 50.04 | N62: =WEEKDAY($A61,2) -> 5
A63: =A61+1 -> 41027 | F63: =F62+G62+H62+I62+J62 -> 58440 | M63: =M62-((G63+I63)*data!$B$22+(H63+J63)*data!$B$23)/100+L63 -> 50.04 | N63: =WEEKDAY($A63,2) -> 6
F64: =F63+G63+H63+I63+J63 -> 58440 | M64: =M63-((G64+I64)*data!$B$22+(H64+J64)*data!$B$23)/100+L64 -> 50.04 | N64: =WEEKDAY($A63,2) -> 6
A65: =IF(MONTH(A63+1)=MONTH($L$1),A63+1," ") -> 41028 | F65: =F64+G64+H64+I64+J64 -> 58440 | M65: =M64-((G65+I65)*data!$B$22+(H65+J65)*data!$B$23)/100+L65 -> 50.04 | N65: =WEEKDAY($A65,2) -> 7
F66: =F65+G65+H65+I65+J65 -> 58440 | M66: =M65-((G66+I66)*data!$B$22+(H66+J66)*data!$B$23)/100+L66 -> 50.04 | N66: =WEEKDAY($A65,2) -> 7
A67: =IF(MONTH(A63+2)=MONTH($L$1),A63+2," ") -> 41029 | F67: =F66+G66+H66+I66+J66 -> 58440 | M67: =M66-((G67+I67)*data!$B$22+(H67+J67)*data!$B$23)/100+L67 -> 50.04 | N67: =WEEKDAY($A67,2) -> 1
F68: =F67+G67+H67+I67+J67 -> 58440 | M68: =M67-((G68+I68)*data!$B$22+(H68+J68)*data!$B$23)/100+L68 -> 50.04 | N68: =WEEKDAY($A67,2) -> 1
A69: =IF(MONTH(A63+3)=MONTH($L$1),A63+3," ") | F69: =F68+G68+H68+I68+J68 -> 58440 | M69: =M68-((G69+I69)*data!$B$22+(H69+J69)*data!$B$23)/100+L69 -> 50.04 | N69: =WEEKDAY($A69,2) -> #VALUE!
F70: =F69+G69+H69+I69+J69 -> 58440 | M70: =M69-((G70+I70)*data!$B$22+(H70+J70)*data!$B$23)/100+L70 -> 50.04 | N70: =WEEKDAY($A69,2) -> #VALUE!
A72: Stav tachometra: | C72: Počiatočný stav: | D72: =F9 -> 58440 | F72: Vypočítaný zostatok v nádrži (L): | L72: na konci mesiaca: | M72: =M70 -> 50.04 | Q72: =SUM(Q9:Q70) -> 0 | R72: Spolu za mesiac km
C73: Konečný stav: | D73: =F70+G70+H70+I70+J70 -> 58440 | F73: Skutočný zostatok v nádrži (L): | L73: na začiatku mesiaca: | Q73: =taxa*Q72 -> 0 | R73: Spolu za mesiac (€)
A74: Najazdené kilometre: | C74: Mimo mesta: | D74: =SUM(G9:G70) -> 0 | L74: na konci mesiaca:
C75: V meste: | D75: =SUM(H9:H70) -> 0 | F75: Nadspotreba: | Q75: =#REF!+Q72 -> #REF! | R75: Najazdené od začiatku roka
C76: Súkromne mimo mesta: | D76: =SUM(I9:I70) -> 0 | F76: Druh PHM: | J76: =data!$B$18 -> Nafta | Q76: =IF(Q75>5000,IF(Q72>(Q75-5000),(Q75-5000)*taxa,Q72*taxa),0) -> #REF! | R76: Skutočne zaplatiť S(€)
C77: Súkromne v meste: | D77: =SUM(J9:J70) -> 0 | F77: Celkový nákup PHM (€) s DPH: | M77: =SUM(O9:O70) -> 0
C78: Súkromne za rok | D78: =D76+D77 -> 0 | F78: Nákup PHM na súkromné jazdy (€) s DPH:
C79: CELKOM: | D79: =SUM(D74:D77) -> 0 | F79: Celkový nákup PHM (L): | M79: =SUM(L9:L70) -> 0
A81: Vyhotovil: | F81: Schválil:
A82: (dátum a podpis) | F82: (dátum a podpis)
C85: =D74+D75+D76 -> 0 | D85: =C85*0.15 -> 0

Sheet 05
A1: VYÚČTOVANIE SPOTREBY POHONNÝCH HMÔT | J1: mesiac: | L1: =DATE(rok, 5, 1) -> 41030 | M1: =DATE(#REF!,#REF!,#REF!) -> #REF!
L2: 7
A3: Vodič: | B3: =data!$A$4 -> Meno a priezvisko | C3: Vozidlo: | D3: =data!$B$11&", ŠPZ: "&data!$B$10 -> značka a typ auta, ŠPZ: ZA 123 AB
A5: Dátum | B5: Cieľ cesty | F5: Stav tacho-metra | G5: Najazdené kilometre | L5: Nákup PHM (L) | M5: Zostatok v nádrži (L) | O5: Nákup PHM (€) s DPH | Q5: Súkromne mimo evidenciu
G6: Služobne | I6: Súkromne
G7: Mimo mesta | H7: V meste | I7: Mimo mesta | J7: V meste
A9: =L1 -> 41030 | E9: 1 | F9: ='04'!F70 -> 58440 | M9: ='04'!M70 -> 50.04 | N9: =WEEKDAY($A9,2) -> 2
F10: =F9+G9+H9+I9+J9 -> 58440 | M10: =M9-((G10+I10)*data!$B$22+(H10+J10)*data!$B$23)/100+L10 -> 50.04 | N10: =WEEKDAY($A9,2) -> 2
A11: =A9+1 -> 41031 | F11: =F10+G10+H10+I10+J10 -> 58440 | M11: =M10-((G11+I11)*data!$B$22+(H11+J11)*data!$B$23)/100+L11 -> 50.04 | N11: =WEEKDAY($A11,2) -> 3
F12: =F11+G11+H11+I11+J11 -> 58440 | M12: =M11-((G12+I12)*data!$B$22+(H12+J12)*data!$B$23)/100+L12 -> 50.04 | N12: =WEEKDAY($A11,2) -> 3
A13: =A11+1 -> 41032 | F13: =F12+G12+H12+I12+J12 -> 58440 | M13: =M12-((G13+I13)*data!$B$22+(H13+J13)*data!$B$23)/100+L13 -> 50.04 | N13: =WEEKDAY($A13,2) -> 4
F14: =F13+G13+H13+I13+J13 -> 58440 | M14: =M13-((G14+I14)*data!$B$22+(H14+J14)*data!$B$23)/100+L14 -> 50.04 | N14: =WEEKDAY($A13,2) -> 4
A15: =A13+1 -> 41033 | F15: =F14+G14+H14+I14+J14 -> 58440 | M15: =M14-((G15+I15)*data!$B$22+(H15+J15)*data!$B$23)/100+L15 -> 50.04 | N15: =WEEKDAY($A15,2) -> 5
F16: =F15+G15+H15+I15+J15 -> 58440 | M16: =M15-((G16+I16)*data!$B$22+(H16+J16)*data!$B$23)/100+L16 -> 50.04 | N16: =WEEKDAY($A15,2) -> 5
A17: =A15+1 -> 41034 | F17: =F16+G16+H16+I16+J16 -> 58440 | M17: =M16-((G17+I17)*data!$B$22+(H17+J17)*data!$B$23)/100+L17 -> 50.04 | N17: =WEEKDAY($A17,2) -> 6
F18: =F17+G17+H17+I17+J17 -> 58440 | M18: =M17-((G18+I18)*data!$B$22+(H18+J18)*data!$B$23)/100+L18 -> 50.04 | N18: =WEEKDAY($A17,2) -> 6
A19: =A17+1 -> 41035 | F19: =F18+G18+H18+I18+J18 -> 58440 | M19: =M18-((G19+I19)*data!$B$22+(H19+J19)*data!$B$23)/100+L19 -> 50.04 | N19: =WEEKDAY($A19,2) -> 7
F20: =F19+G19+H19+I19+J19 -> 58440 | M20: =M19-((G20+I20)*data!$B$22+(H20+J20)*data!$B$23)/100+L20 -> 50.04 | N20: =WEEKDAY($A19,2) -> 7
A21: =A19+1 -> 41036 | F21: =F20+G20+H20+I20+J20 -> 58440 | M21: =M20-((G21+I21)*data!$B$22+(H21+J21)*data!$B$23)/100+L21 -> 50.04 | N21: =WEEKDAY($A21,2) -> 1 | S21: 38783 | T21: Super(95) Leaded | U21: BA-BOTANICKA | V21: 38.09 | W21: SKK | X21: 1451.2
F22: =F21+G21+H21+I21+J21 -> 58440 | M22: =M21-((G22+I22)*data!$B$22+(H22+J22)*data!$B$23)/100+L22 -> 50.04 | N22: =WEEKDAY($A21,2) -> 1 | U22: Nove Zamky | V22: 26.06 | W22: SKK | X22: 1003.3
A23: =A21+1 -> 41037 | F23: =F22+G22+H22+I22+J22 -> 58440 | M23: =M22-((G23+I23)*data!$B$22+(H23+J23)*data!$B$23)/100+L23 -> 50.04 | N23: =WEEKDAY($A23,2) -> 2 | S23: 38784 | T23: Super(95) Leaded | U23: TRENČÍN | V23: 33.62 | W23: SKK | X23: 1307.8
F24: =F23+G23+H23+I23+J23 -> 58440 | M24: =M23-((G24+I24)*data!$B$22+(H24+J24)*data!$B$23)/100+L24 -> 50.04 | N24: =WEEKDAY($A23,2) -> 2
A25: =A23+1 -> 41038 | F25: =F24+G24+H24+I24+J24 -> 58440 | M25: =M24-((G25+I25)*data!$B$22+(H25+J25)*data!$B$23)/100+L25 -> 50.04 | N25: =WEEKDAY($A25,2) -> 3
F26: =F25+G25+H25+I25+J25 -> 58440 | M26: =M25-((G26+I26)*data!$B$22+(H26+J26)*data!$B$23)/100+L26 -> 50.04 | N26: =WEEKDAY($A25,2) -> 3
A27: =A25+1 -> 41039 | F27: =F26+G26+H26+I26+J26 -> 58440 | M27: =M26-((G27+I27)*data!$B$22+(H27+J27)*data!$B$23)/100+L27 -> 50.04 | N27: =WEEKDAY($A27,2) -> 4
F28: =F27+G27+H27+I27+J27 -> 58440 | M28: =M27-((G28+I28)*data!$B$22+(H28+J28)*data!$B$23)/100+L28 -> 50.04 | N28: =WEEKDAY($A27,2) -> 4
A29: =A27+1 -> 41040 | F29: =F28+G28+H28+I28+J28 -> 58440 | M29: =M28-((G29+I29)*data!$B$22+(H29+J29)*data!$B$23)/100+L29 -> 50.04 | N29: =WEEKDAY($A29,2) -> 5
F30: =F29+G29+H29+I29+J29 -> 58440 | M30: =M29-((G30+I30)*data!$B$22+(H30+J30)*data!$B$23)/100+L30 -> 50.04 | N30: =WEEKDAY($A29,2) -> 5
A31: =A29+1 -> 41041 | F31: =F30+G30+H30+I30+J30 -> 58440 | M31: =M30-((G31+I31)*data!$B$22+(H31+J31)*data!$B$23)/100+L31 -> 50.04 | N31: =WEEKDAY($A31,2) -> 6
F32: =F31+G31+H31+I31+J31 -> 58440 | M32: =M31-((G32+I32)*data!$B$22+(H32+J32)*data!$B$23)/100+L32 -> 50.04 | N32: =WEEKDAY($A31,2) -> 6
A33: =A31+1 -> 41042 | F33: =F32+G32+H32+I32+J32 -> 58440 | M33: =M32-((G33+I33)*data!$B$22+(H33+J33)*data!$B$23)/100+L33 -> 50.04 | N33: =WEEKDAY($A33,2) -> 7
F34: =F33+G33+H33+I33+J33 -> 58440 | M34: =M33-((G34+I34)*data!$B$22+(H34+J34)*data!$B$23)/100+L34 -> 50.04 | N34: =WEEKDAY($A33,2) -> 7
A35: =A33+1 -> 41043 | F35: =F34+G34+H34+I34+J34 -> 58440 | M35: =M34-((G35+I35)*data!$B$22+(H35+J35)*data!$B$23)/100+L35 -> 50.04 | N35: =WEEKDAY($A35,2) -> 1
F36: =F35+G35+H35+I35+J35 -> 58440 | M36: =M35-((G36+I36)*data!$B$22+(H36+J36)*data!$B$23)/100+L36 -> 50.04 | N36: =WEEKDAY($A35,2) -> 1
A37: =A35+1 -> 41044 | F37: =F36+G36+H36+I36+J36 -> 58440 | M37: =M36-((G37+I37)*data!$B$22+(H37+J37)*data!$B$23)/100+L37 -> 50.04 | N37: =WEEKDAY($A37,2) -> 2
F38: =F37+G37+H37+I37+J37 -> 58440 | M38: =M37-((G38+I38)*data!$B$22+(H38+J38)*data!$B$23)/100+L38 -> 50.04 | N38: =WEEKDAY($A37,2) -> 2
A39: =A37+1 -> 41045 | F39: =F38+G38+H38+I38+J38 -> 58440 | M39: =M38-((G39+I39)*data!$B$22+(H39+J39)*data!$B$23)/100+L39 -> 50.04 | N39: =WEEKDAY($A39,2) -> 3
F40: =F39+G39+H39+I39+J39 -> 58440 | M40: =M39-((G40+I40)*data!$B$22+(H40+J40)*data!$B$23)/100+L40 -> 50.04 | N40: =WEEKDAY($A39,2) -> 3
A41: =A39+1 -> 41046 | F41: =F40+G40+H40+I40+J40 -> 58440 | M41: =M40-((G41+I41)*data!$B$22+(H41+J41)*data!$B$23)/100+L41 -> 50.04 | N41: =WEEKDAY($A41,2) -> 4
F42: =F41+G41+H41+I41+J41 -> 58440 | M42: =M41-((G42+I42)*data!$B$22+(H42+J42)*data!$B$23)/100+L42 -> 50.04 | N42: =WEEKDAY($A41,2) -> 4
A43: =A41+1 -> 41047 | F43: =F42+G42+H42+I42+J42 -> 58440 | M43: =M42-((G43+I43)*data!$B$22+(H43+J43)*data!$B$23)/100+L43 -> 50.04 | N43: =WEEKDAY($A43,2) -> 5
F44: =F43+G43+H43+I43+J43 -> 58440 | M44: =M43-((G44+I44)*data!$B$22+(H44+J44)*data!$B$23)/100+L44 -> 50.04 | N44: =WEEKDAY($A43,2) -> 5
A45: =A43+1 -> 41048 | F45: =F44+G44+H44+I44+J44 -> 58440 | M45: =M44-((G45+I45)*data!$B$22+(H45+J45)*data!$B$23)/100+L45 -> 50.04 | N45: =WEEKDAY($A45,2) -> 6
F46: =F45+G45+H45+I45+J45 -> 58440 | M46: =M45-((G46+I46)*data!$B$22+(H46+J46)*data!$B$23)/100+L46 -> 50.04 | N46: =WEEKDAY($A45,2) -> 6
A47: =A45+1 -> 41049 | F47: =F46+G46+H46+I46+J46 -> 58440 | M47: =M46-((G47+I47)*data!$B$22+(H47+J47)*data!$B$23)/100+L47 -> 50.04 | N47: =WEEKDAY($A47,2) -> 7
F48: =F47+G47+H47+I47+J47 -> 58440 | M48: =M47-((G48+I48)*data!$B$22+(H48+J48)*data!$B$23)/100+L48 -> 50.04 | N48: =WEEKDAY($A47,2) -> 7
A49: =A47+1 -> 41050 | F49: =F48+G48+H48+I48+J48 -> 58440 | M49: =M48-((G49+I49)*data!$B$22+(H49+J49)*data!$B$23)/100+L49 -> 50.04 | N49: =WEEKDAY($A49,2) -> 1
F50: =F49+G49+H49+I49+J49 -> 58440 | M50: =M49-((G50+I50)*data!$B$22+(H50+J50)*data!$B$23)/100+L50 -> 50.04 | N50: =WEEKDAY($A49,2) -> 1
A51: =A49+1 -> 41051 | F51: =F50+G50+H50+I50+J50 -> 58440 | M51: =M50-((G51+I51)*data!$B$22+(H51+J51)*data!$B$23)/100+L51 -> 50.04 | N51: =WEEKDAY($A51,2) -> 2
F52: =F51+G51+H51+I51+J51 -> 58440 | M52: =M51-((G52+I52)*data!$B$22+(H52+J52)*data!$B$23)/100+L52 -> 50.04 | N52: =WEEKDAY($A51,2) -> 2
A53: =A51+1 -> 41052 | F53: =F52+G52+H52+I52+J52 -> 58440 | M53: =M52-((G53+I53)*data!$B$22+(H53+J53)*data!$B$23)/100+L53 -> 50.04 | N53: =WEEKDAY($A53,2) -> 3
F54: =F53+G53+H53+I53+J53 -> 58440 | M54: =M53-((G54+I54)*data!$B$22+(H54+J54)*data!$B$23)/100+L54 -> 50.04 | N54: =WEEKDAY($A53,2) -> 3
A55: =A53+1 -> 41053 | F55: =F54+G54+H54+I54+J54 -> 58440 | M55: =M54-((G55+I55)*data!$B$22+(H55+J55)*data!$B$23)/100+L55 -> 50.04 | N55: =WEEKDAY($A55,2) -> 4
F56: =F55+G55+H55+I55+J55 -> 58440 | M56: =M55-((G56+I56)*data!$B$22+(H56+J56)*data!$B$23)/100+L56 -> 50.04 | N56: =WEEKDAY($A55,2) -> 4
A57: =A55+1 -> 41054 | F57: =F56+G56+H56+I56+J56 -> 58440 | M57: =M56-((G57+I57)*data!$B$22+(H57+J57)*data!$B$23)/100+L57 -> 50.04 | N57: =WEEKDAY($A57,2) -> 5
F58: =F57+G57+H57+I57+J57 -> 58440 | M58: =M57-((G58+I58)*data!$B$22+(H58+J58)*data!$B$23)/100+L58 -> 50.04 | N58: =WEEKDAY($A57,2) -> 5
A59: =A57+1 -> 41055 | F59: =F58+G58+H58+I58+J58 -> 58440 | M59: =M58-((G59+I59)*data!$B$22+(H59+J59)*data!$B$23)/100+L59 -> 50.04 | N59: =WEEKDAY($A59,2) -> 6
F60: =F59+G59+H59+I59+J59 -> 58440 | M60: =M59-((G60+I60)*data!$B$22+(H60+J60)*data!$B$23)/100+L60 -> 50.04 | N60: =WEEKDAY($A59,2) -> 6
A61: =A59+1 -> 41056 | F61: =F60+G60+H60+I60+J60 -> 58440 | M61: =M60-((G61+I61)*data!$B$22+(H61+J61)*data!$B$23)/100+L61 -> 50.04 | N61: =WEEKDAY($A61,2) -> 7
F62: =F61+G61+H61+I61+J61 -> 58440 | M62: =M61-((G62+I62)*data!$B$22+(H62+J62)*data!$B$23)/100+L62 -> 50.04 | N62: =WEEKDAY($A61,2) -> 7
A63: =A61+1 -> 41057 | F63: =F62+G62+H62+I62+J62 -> 58440 | M63: =M62-((G63+I63)*data!$B$22+(H63+J63)*data!$B$23)/100+L63 -> 50.04 | N63: =WEEKDAY($A63,2) -> 1
F64: =F63+G63+H63+I63+J63 -> 58440 | M64: =M63-((G64+I64)*data!$B$22+(H64+J64)*data!$B$23)/100+L64 -> 50.04 | N64: =WEEKDAY($A63,2) -> 1
A65: =IF(MONTH(A63+1)=MONTH($L$1),A63+1," ") -> 41058 | F65: =F64+G64+H64+I64+J64 -> 58440 | M65: =M64-((G65+I65)*data!$B$22+(H65+J65)*data!$B$23)/100+L65 -> 50.04 | N65: =WEEKDAY($A65,2) -> 2
F66: =F65+G65+H65+I65+J65 -> 58440 | M66: =M65-((G66+I66)*data!$B$22+(H66+J66)*data!$B$23)/100+L66 -> 50.04 | N66: =WEEKDAY($A65,2) -> 2
A67: =IF(MONTH(A63+2)=MONTH($L$1),A63+2," ") -> 41059 | F67: =F66+G66+H66+I66+J66 -> 58440 | M67: =M66-((G67+I67)*data!$B$22+(H67+J67)*data!$B$23)/100+L67 -> 50.04 | N67: =WEEKDAY($A67,2) -> 3
F68: =F67+G67+H67+I67+J67 -> 58440 | M68: =M67-((G68+I68)*data!$B$22+(H68+J68)*data!$B$23)/100+L68 -> 50.04 | N68: =WEEKDAY($A67,2) -> 3
A69: =IF(MONTH(A63+3)=MONTH($L$1),A63+3," ") -> 41060 | F69: =F68+G68+H68+I68+J68 -> 58440 | M69: =M68-((G69+I69)*data!$B$22+(H69+J69)*data!$B$23)/100+L69 -> 50.04 | N69: =WEEKDAY($A69,2) -> 4
F70: =F69+G69+H69+I69+J69 -> 58440 | M70: =M69-((G70+I70)*data!$B$22+(H70+J70)*data!$B$23)/100+L70 -> 50.04 | N70: =WEEKDAY($A69,2) -> 4
A72: Stav tachometra: | C72: Počiatočný stav: | D72: =F9 -> 58440 | F72: Vypočítaný zostatok v nádrži (L): | L72: na konci mesiaca: | M72: =M70 -> 50.04 | Q72: =SUM(Q9:Q70) -> 0 | R72: Spolu za mesiac km
C73: Konečný stav: | D73: =F70+G70+H70+I70+J70 -> 58440 | F73: Skutočný zostatok v nádrži (L): | L73: na začiatku mesiaca: | Q73: =taxa*Q72 -> 0 | R73: Spolu za mesiac (€)
A74: Najazdené kilometre: | C74: Mimo mesta: | D74: =SUM(G9:G70) -> 0 | L74: na konci mesiaca:
C75: V meste: | D75: =SUM(H9:H70) -> 0 | F75: Nadspotreba: | Q75: =#REF!+Q72 -> #REF! | R75: Najazdené od začiatku roka
C76: Súkromne mimo mesta: | D76: =SUM(I9:I70) -> 0 | F76: Druh PHM: | J76: =data!$B$18 -> Nafta | Q76: =IF(Q75>5000,IF(Q72>(Q75-5000),(Q75-5000)*taxa,Q72*taxa),0) -> #REF! | R76: Skutočne zaplatiť S(€)
C77: Súkromne v meste: | D77: =SUM(J9:J70) -> 0 | F77: Celkový nákup PHM (€) s DPH: | M77: =SUM(O9:O70) -> 0
C78: Súkromne za rok | D78: =D76+D77 -> 0 | F78: Nákup PHM na súkromné jazdy (€) s DPH:
C79: CELKOM: | D79: =SUM(D74:D77) -> 0 | F79: Celkový nákup PHM (L): | M79: =SUM(L9:L70) -> 0
A81: Vyhotovil: | F81: Schválil:
A82: (dátum a podpis) | F82: (dátum a podpis)
C85: =D74+D75+D76 -> 0 | D85: =C85*0.15 -> 0

Sheet 06
A1: VYÚČTOVANIE SPOTREBY POHONNÝCH HMÔT | J1: mesiac: | L1: =DATE(rok, 6, 1) -> 41061 | M1: =DATE(#REF!,#REF!,#REF!) -> #REF!
L2: 7
A3: Vodič: | B3: =data!$A$4 -> Meno a priezvisko | C3: Vozidlo: | D3: =data!$B$11&", ŠPZ: "&data!$B$10 -> značka a typ auta, ŠPZ: ZA 123 AB
A5: Dátum | B5: Cieľ cesty | F5: Stav tacho-metra | G5: Najazdené kilometre | L5: Nákup PHM (L) | M5: Zostatok v nádrži (L) | O5: Nákup PHM (€) s DPH | Q5: Súkromne mimo evidenciu
G6: Služobne | I6: Súkromne
G7: Mimo mesta | H7: V meste | I7: Mimo mesta | J7: V meste
A9: =L1 -> 41061 | E9: 1 | F9: ='05'!F70 -> 58440 | M9: ='05'!M70 -> 50.04 | N9: =WEEKDAY($A9,2) -> 5
F10: =F9+G9+H9+I9+J9 -> 58440 | M10: =M9-((G10+I10)*data!$B$22+(H10+J10)*data!$B$23)/100+L10 -> 50.04 | N10: =WEEKDAY($A9,2) -> 5
A11: =A9+1 -> 41062 | F11: =F10+G10+H10+I10+J10 -> 58440 | M11: =M10-((G11+I11)*data!$B$22+(H11+J11)*data!$B$23)/100+L11 -> 50.04 | N11: =WEEKDAY($A11,2) -> 6
F12: =F11+G11+H11+I11+J11 -> 58440 | M12: =M11-((G12+I12)*data!$B$22+(H12+J12)*data!$B$23)/100+L12 -> 50.04 | N12: =WEEKDAY($A11,2) -> 6
A13: =A11+1 -> 41063 | F13: =F12+G12+H12+I12+J12 -> 58440 | M13: =M12-((G13+I13)*data!$B$22+(H13+J13)*data!$B$23)/100+L13 -> 50.04 | N13: =WEEKDAY($A13,2) -> 7
F14: =F13+G13+H13+I13+J13 -> 58440 | M14: =M13-((G14+I14)*data!$B$22+(H14+J14)*data!$B$23)/100+L14 -> 50.04 | N14: =WEEKDAY($A13,2) -> 7
A15: =A13+1 -> 41064 | F15: =F14+G14+H14+I14+J14 -> 58440 | M15: =M14-((G15+I15)*data!$B$22+(H15+J15)*data!$B$23)/100+L15 -> 50.04 | N15: =WEEKDAY($A15,2) -> 1
F16: =F15+G15+H15+I15+J15 -> 58440 | M16: =M15-((G16+I16)*data!$B$22+(H16+J16)*data!$B$23)/100+L16 -> 50.04 | N16: =WEEKDAY($A15,2) -> 1
A17: =A15+1 -> 41065 | F17: =F16+G16+H16+I16+J16 -> 58440 | M17: =M16-((G17+I17)*data!$B$22+(H17+J17)*data!$B$23)/100+L17 -> 50.04 | N17: =WEEKDAY($A17,2) -> 2
F18: =F17+G17+H17+I17+J17 -> 58440 | M18: =M17-((G18+I18)*data!$B$22+(H18+J18)*data!$B$23)/100+L18 -> 50.04 | N18: =WEEKDAY($A17,2) -> 2
A19: =A17+1 -> 41066 | F19: =F18+G18+H18+I18+J18 -> 58440 | M19: =M18-((G19+I19)*data!$B$22+(H19+J19)*data!$B$23)/100+L19 -> 50.04 | N19: =WEEKDAY($A19,2) -> 3
F20: =F19+G19+H19+I19+J19 -> 58440 | M20: =M19-((G20+I20)*data!$B$22+(H20+J20)*data!$B$23)/100+L20 -> 50.04 | N20: =WEEKDAY($A19,2) -> 3
A21: =A19+1 -> 41067 | F21: =F20+G20+H20+I20+J20 -> 58440 | M21: =M20-((G21+I21)*data!$B$22+(H21+J21)*data!$B$23)/100+L21 -> 50.04 | N21: =WEEKDAY($A21,2) -> 4 | S21: 38783 | T21: Super(95) Leaded | U21: BA-BOTANICKA | V21: 38.09 | W21: SKK | X21: 1451.2
F22: =F21+G21+H21+I21+J21 -> 58440 | M22: =M21-((G22+I22)*data!$B$22+(H22+J22)*data!$B$23)/100+L22 -> 50.04 | N22: =WEEKDAY($A21,2) -> 4 | U22: Nove Zamky | V22: 26.06 | W22: SKK | X22: 1003.3
A23: =A21+1 -> 41068 | F23: =F22+G22+H22+I22+J22 -> 58440 | M23: =M22-((G23+I23)*data!$B$22+(H23+J23)*data!$B$23)/100+L23 -> 50.04 | N23: =WEEKDAY($A23,2) -> 5 | S23: 38784 | T23: Super(95) Leaded | U23: TRENČÍN | V23: 33.62 | W23: SKK | X23: 1307.8
F24: =F23+G23+H23+I23+J23 -> 58440 | M24: =M23-((G24+I24)*data!$B$22+(H24+J24)*data!$B$23)/100+L24 -> 50.04 | N24: =WEEKDAY($A23,2) -> 5
A25: =A23+1 -> 41069 | F25: =F24+G24+H24+I24+J24 -> 58440 | M25: =M24-((G25+I25)*data!$B$22+(H25+J25)*data!$B$23)/100+L25 -> 50.04 | N25: =WEEKDAY($A25,2) -> 6
F26: =F25+G25+H25+I25+J25 -> 58440 | M26: =M25-((G26+I26)*data!$B$22+(H26+J26)*data!$B$23)/100+L26 -> 50.04 | N26: =WEEKDAY($A25,2) -> 6
A27: =A25+1 -> 41070 | F27: =F26+G26+H26+I26+J26 -> 58440 | M27: =M26-((G27+I27)*data!$B$22+(H27+J27)*data!$B$23)/100+L27 -> 50.04 | N27: =WEEKDAY($A27,2) -> 7
F28: =F27+G27+H27+I27+J27 -> 58440 | M28: =M27-((G28+I28)*data!$B$22+(H28+J28)*data!$B$23)/100+L28 -> 50.04 | N28: =WEEKDAY($A27,2) -> 7
A29: =A27+1 -> 41071 | F29: =F28+G28+H28+I28+J28 -> 58440 | M29: =M28-((G29+I29)*data!$B$22+(H29+J29)*data!$B$23)/100+L29 -> 50.04 | N29: =WEEKDAY($A29,2) -> 1
F30: =F29+G29+H29+I29+J29 -> 58440 | M30: =M29-((G30+I30)*data!$B$22+(H30+J30)*data!$B$23)/100+L30 -> 50.04 | N30: =WEEKDAY($A29,2) -> 1
A31: =A29+1 -> 41072 | F31: =F30+G30+H30+I30+J30 -> 58440 | M31: =M30-((G31+I31)*data!$B$22+(H31+J31)*data!$B$23)/100+L31 -> 50.04 | N31: =WEEKDAY($A31,2) -> 2
F32: =F31+G31+H31+I31+J31 -> 58440 | M32: =M31-((G32+I32)*data!$B$22+(H32+J32)*data!$B$23)/100+L32 -> 50.04 | N32: =WEEKDAY($A31,2) -> 2
A33: =A31+1 -> 41073 | F33: =F32+G32+H32+I32+J32 -> 58440 | M33: =M32-((G33+I33)*data!$B$22+(H33+J33)*data!$B$23)/100+L33 -> 50.04 | N33: =WEEKDAY($A33,2) -> 3
F34: =F33+G33+H33+I33+J33 -> 58440 | M34: =M33-((G34+I34)*data!$B$22+(H34+J34)*data!$B$23)/100+L34 -> 50.04 | N34: =WEEKDAY($A33,2) -> 3
A35: =A33+1 -> 41074 | F35: =F34+G34+H34+I34+J34 -> 58440 | M35: =M34-((G35+I35)*data!$B$22+(H35+J35)*data!$B$23)/100+L35 -> 50.04 | N35: =WEEKDAY($A35,2) -> 4
F36: =F35+G35+H35+I35+J35 -> 58440 | M36: =M35-((G36+I36)*data!$B$22+(H36+J36)*data!$B$23)/100+L36 -> 50.04 | N36: =WEEKDAY($A35,2) -> 4
A37: =A35+1 -> 41075 | F37: =F36+G36+H36+I36+J36 -> 58440 | M37: =M36-((G37+I37)*data!$B$22+(H37+J37)*data!$B$23)/100+L37 -> 50.04 | N37: =WEEKDAY($A37,2) -> 5
F38: =F37+G37+H37+I37+J37 -> 58440 | M38: =M37-((G38+I38)*data!$B$22+(H38+J38)*data!$B$23)/100+L38 -> 50.04 | N38: =WEEKDAY($A37,2) -> 5
A39: =A37+1 -> 41076 | F39: =F38+G38+H38+I38+J38 -> 58440 | M39: =M38-((G39+I39)*data!$B$22+(H39+J39)*data!$B$23)/100+L39 -> 50.04 | N39: =WEEKDAY($A39,2) -> 6
F40: =F39+G39+H39+I39+J39 -> 58440 | M40: =M39-((G40+I40)*data!$B$22+(H40+J40)*data!$B$23)/100+L40 -> 50.04 | N40: =WEEKDAY($A39,2) -> 6
A41: =A39+1 -> 41077 | F41: =F40+G40+H40+I40+J40 -> 58440 | M41: =M40-((G41+I41)*data!$B$22+(H41+J41)*data!$B$23)/100+L41 -> 50.04 | N41: =WEEKDAY($A41,2) -> 7
F42: =F41+G41+H41+I41+J41 -> 58440 | M42: =M41-((G42+I42)*data!$B$22+(H42+J42)*data!$B$23)/100+L42 -> 50.04 | N42: =WEEKDAY($A41,2) -> 7
A43: =A41+1 -> 41078 | F43: =F42+G42+H42+I42+J42 -> 58440 | M43: =M42-((G43+I43)*data!$B$22+(H43+J43)*data!$B$23)/100+L43 -> 50.04 | N43: =WEEKDAY($A43,2) -> 1
F44: =F43+G43+H43+I43+J43 -> 58440 | M44: =M43-((G44+I44)*data!$B$22+(H44+J44)*data!$B$23)/100+L44 -> 50.04 | N44: =WEEKDAY($A43,2) -> 1
A45: =A43+1 -> 41079 | F45: =F44+G44+H44+I44+J44 -> 58440 | M45: =M44-((G45+I45)*data!$B$22+(H45+J45)*data!$B$23)/100+L45 -> 50.04 | N45: =WEEKDAY($A45,2) -> 2
F46: =F45+G45+H45+I45+J45 -> 58440 | M46: =M45-((G46+I46)*data!$B$22+(H46+J46)*data!$B$23)/100+L46 -> 50.04 | N46: =WEEKDAY($A45,2) -> 2
A47: =A45+1 -> 41080 | F47: =F46+G46+H46+I46+J46 -> 58440 | M47: =M46-((G47+I47)*data!$B$22+(H47+J47)*data!$B$23)/100+L47 -> 50.04 | N47: =WEEKDAY($A47,2) -> 3
F48: =F47+G47+H47+I47+J47 -> 58440 | M48: =M47-((G48+I48)*data!$B$22+(H48+J48)*data!$B$23)/100+L48 -> 50.04 | N48: =WEEKDAY($A47,2) -> 3
A49: =A47+1 -> 41081 | F49: =F48+G48+H48+I48+J48 -> 58440 | M49: =M48-((G49+I49)*data!$B$22+(H49+J49)*data!$B$23)/100+L49 -> 50.04 | N49: =WEEKDAY($A49,2) -> 4
F50: =F49+G49+H49+I49+J49 -> 58440 | M50: =M49-((G50+I50)*data!$B$22+(H50+J50)*data!$B$23)/100+L50 -> 50.04 | N50: =WEEKDAY($A49,2) -> 4
A51: =A49+1 -> 41082 | F51: =F50+G50+H50+I50+J50 -> 58440 | M51: =M50-((G51+I51)*data!$B$22+(H51+J51)*data!$B$23)/100+L51 -> 50.04 | N51: =WEEKDAY($A51,2) -> 5
F52: =F51+G51+H51+I51+J51 -> 58440 | M52: =M51-((G52+I52)*data!$B$22+(H52+J52)*data!$B$23)/100+L52 -> 50.04 | N52: =WEEKDAY($A51,2) -> 5
A53: =A51+1 -> 41083 | F53: =F52+G52+H52+I52+J52 -> 58440 | M53: =M52-((G53+I53)*data!$B$22+(H53+J53)*data!$B$23)/100+L53 -> 50.04 | N53: =WEEKDAY($A53,2) -> 6
F54: =F53+G53+H53+I53+J53 -> 58440 | M54: =M53-((G54+I54)*data!$B$22+(H54+J54)*data!$B$23)/100+L54 -> 50.04 | N54: =WEEKDAY($A53,2) -> 6
A55: =A53+1 -> 41084 | F55: =F54+G54+H54+I54+J54 -> 58440 | M55: =M54-((G55+I55)*data!$B$22+(H55+J55)*data!$B$23)/100+L55 -> 50.04 | N55: =WEEKDAY($A55,2) -> 7
F56: =F55+G55+H55+I55+J55 -> 58440 | M56: =M55-((G56+I56)*data!$B$22+(H56+J56)*data!$B$23)/100+L56 -> 50.04 | N56: =WEEKDAY($A55,2) -> 7
A57: =A55+1 -> 41085 | F57: =F56+G56+H56+I56+J56 -> 58440 | M57: =M56-((G57+I57)*data!$B$22+(H57+J57)*data!$B$23)/100+L57 -> 50.04 | N57: =WEEKDAY($A57,2) -> 1
F58: =F57+G57+H57+I57+J57 -> 58440 | M58: =M57-((G58+I58)*data!$B$22+(H58+J58)*data!$B$23)/100+L58 -> 50.04 | N58: =WEEKDAY($A57,2) -> 1
A59: =A57+1 -> 41086 | F59: =F58+G58+H58+I58+J58 -> 58440 | M59: =M58-((G59+I59)*data!$B$22+(H59+J59)*data!$B$23)/100+L59 -> 50.04 | N59: =WEEKDAY($A59,2) -> 2
F60: =F59+G59+H59+I59+J59 -> 58440 | M60: =M59-((G60+I60)*data!$B$22+(H60+J60)*data!$B$23)/100+L60 -> 50.04 | N60: =WEEKDAY($A59,2) -> 2
A61: =A59+1 -> 41087 | F61: =F60+G60+H60+I60+J60 -> 58440 | M61: =M60-((G61+I61)*data!$B$22+(H61+J61)*data!$B$23)/100+L61 -> 50.04 | N61: =WEEKDAY($A61,2) -> 3
F62: =F61+G61+H61+I61+J61 -> 58440 | M62: =M61-((G62+I62)*data!$B$22+(H62+J62)*data!$B$23)/100+L62 -> 50.04 | N62: =WEEKDAY($A61,2) -> 3
A63: =A61+1 -> 41088 | F63: =F62+G62+H62+I62+J62 -> 58440 | M63: =M62-((G63+I63)*data!$B$22+(H63+J63)*data!$B$23)/100+L63 -> 50.04 | N63: =WEEKDAY($A63,2) -> 4
F64: =F63+G63+H63+I63+J63 -> 58440 | M64: =M63-((G64+I64)*data!$B$22+(H64+J64)*data!$B$23)/100+L64 -> 50.04 | N64: =WEEKDAY($A63,2) -> 4
A65: =IF(MONTH(A63+1)=MONTH($L$1),A63+1," ") -> 41089 | F65: =F64+G64+H64+I64+J64 -> 58440 | M65: =M64-((G65+I65)*data!$B$22+(H65+J65)*data!$B$23)/100+L65 -> 50.04 | N65: =WEEKDAY($A65,2) -> 5
F66: =F65+G65+H65+I65+J65 -> 58440 | M66: =M65-((G66+I66)*data!$B$22+(H66+J66)*data!$B$23)/100+L66 -> 50.04 | N66: =WEEKDAY($A65,2) -> 5
A67: =IF(MONTH(A63+2)=MONTH($L$1),A63+2," ") -> 41090 | F67: =F66+G66+H66+I66+J66 -> 58440 | M67: =M66-((G67+I67)*data!$B$22+(H67+J67)*data!$B$23)/100+L67 -> 50.04 | N67: =WEEKDAY($A67,2) -> 6
F68: =F67+G67+H67+I67+J67 -> 58440 | M68: =M67-((G68+I68)*data!$B$22+(H68+J68)*data!$B$23)/100+L68 -> 50.04 | N68: =WEEKDAY($A67,2) -> 6
A69: =IF(MONTH(A63+3)=MONTH($L$1),A63+3," ") | F69: =F68+G68+H68+I68+J68 -> 58440 | M69: =M68-((G69+I69)*data!$B$22+(H69+J69)*data!$B$23)/100+L69 -> 50.04 | N69: =WEEKDAY($A69,2) -> #VALUE!
F70: =F69+G69+H69+I69+J69 -> 58440 | M70: =M69-((G70+I70)*data!$B$22+(H70+J70)*data!$B$23)/100+L70 -> 50.04 | N70: =WEEKDAY($A69,2) -> #VALUE!
A72: Stav tachometra: | C72: Počiatočný stav: | D72: =F9 -> 58440 | F72: Vypočítaný zostatok v nádrži (L): | L72: na konci mesiaca: | M72: =M70 -> 50.04 | Q72: =SUM(Q9:Q70) -> 0 | R72: Spolu za mesiac km
C73: Konečný stav: | D73: =F70+G70+H70+I70+J70 -> 58440 | F73: Skutočný zostatok v nádrži (L): | L73: na začiatku mesiaca: | Q73: =taxa*Q72 -> 0 | R73: Spolu za mesiac (€)
A74: Najazdené kilometre: | C74: Mimo mesta: | D74: =SUM(G9:G70) -> 0 | L74: na konci mesiaca:
C75: V meste: | D75: =SUM(H9:H70) -> 0 | F75: Nadspotreba: | Q75: =#REF!+Q72 -> #REF! | R75: Najazdené od začiatku roka
C76: Súkromne mimo mesta: | D76: =SUM(I9:I70) -> 0 | F76: Druh PHM: | J76: =data!$B$18 -> Nafta | Q76: =IF(Q75>5000,IF(Q72>(Q75-5000),(Q75-5000)*taxa,Q72*taxa),0) -> #REF! | R76: Skutočne zaplatiť S(€)
C77: Súkromne v meste: | D77: =SUM(J9:J70) -> 0 | F77: Celkový nákup PHM (€) s DPH: | M77: =SUM(O9:O70) -> 0
C78: Súkromne za rok | D78: =D76+D77 -> 0 | F78: Nákup PHM na súkromné jazdy (€) s DPH:
C79: CELKOM: | D79: =SUM(D74:D77) -> 0 | F79: Celkový nákup PHM (L): | M79: =SUM(L9:L70) -> 0
A81: Vyhotovil: | F81: Schválil:
A82: (dátum a podpis) | F82: (dátum a podpis)
C85: =D74+D75+D76 -> 0 | D85: =C85*0.15 -> 0

Sheet 07
A1: VYÚČTOVANIE SPOTREBY POHONNÝCH HMÔT | J1: mesiac: | L1: =DATE(rok, 7, 1) -> 41091 | M1: =DATE(#REF!,#REF!,#REF!) -> #REF!
L2: 7
A3: Vodič: | B3: =data!$A$4 -> Meno a priezvisko | C3: Vozidlo: | D3: =data!$B$11&", ŠPZ: "&data!$B$10 -> značka a typ auta, ŠPZ: ZA 123 AB
A5: Dátum | B5: Cieľ cesty | F5: Stav tacho-metra | G5: Najazdené kilometre | L5: Nákup PHM (L) | M5: Zostatok v nádrži (L) | O5: Nákup PHM (€) s DPH | Q5: Súkromne mimo evidenciu
G6: Služobne | I6: Súkromne
G7: Mimo mesta | H7: V meste | I7: Mimo mesta | J7: V meste
A9: =L1 -> 41091 | E9: 1 | F9: ='06'!F70 -> 58440 | M9: ='06'!M70 -> 50.04 | N9: =WEEKDAY($A9,2) -> 7
F10: =F9+G9+H9+I9+J9 -> 58440 | M10: =M9-((G10+I10)*data!$B$22+(H10+J10)*data!$B$23)/100+L10 -> 50.04 | N10: =WEEKDAY($A9,2) -> 7
A11: =A9+1 -> 41092 | F11: =F10+G10+H10+I10+J10 -> 58440 | M11: =M10-((G11+I11)*data!$B$22+(H11+J11)*data!$B$23)/100+L11 -> 50.04 | N11: =WEEKDAY($A11,2) -> 1
F12: =F11+G11+H11+I11+J11 -> 58440 | M12: =M11-((G12+I12)*data!$B$22+(H12+J12)*data!$B$23)/100+L12 -> 50.04 | N12: =WEEKDAY($A11,2) -> 1
A13: =A11+1 -> 41093 | F13: =F12+G12+H12+I12+J12 -> 58440 | M13: =M12-((G13+I13)*data!$B$22+(H13+J13)*data!$B$23)/100+L13 -> 50.04 | N13: =WEEKDAY($A13,2) -> 2
F14: =F13+G13+H13+I13+J13 -> 58440 | M14: =M13-((G14+I14)*data!$B$22+(H14+J14)*data!$B$23)/100+L14 -> 50.04 | N14: =WEEKDAY($A13,2) -> 2
A15: =A13+1 -> 41094 | F15: =F14+G14+H14+I14+J14 -> 58440 | M15: =M14-((G15+I15)*data!$B$22+(H15+J15)*data!$B$23)/100+L15 -> 50.04 | N15: =WEEKDAY($A15,2) -> 3
F16: =F15+G15+H15+I15+J15 -> 58440 | M16: =M15-((G16+I16)*data!$B$22+(H16+J16)*data!$B$23)/100+L16 -> 50.04 | N16: =WEEKDAY($A15,2) -> 3
A17: =A15+1 -> 41095 | F17: =F16+G16+H16+I16+J16 -> 58440 | M17: =M16-((G17+I17)*data!$B$22+(H17+J17)*data!$B$23)/100+L17 -> 50.04 | N17: =WEEKDAY($A17,2) -> 4
F18: =F17+G17+H17+I17+J17 -> 58440 | M18: =M17-((G18+I18)*data!$B$22+(H18+J18)*data!$B$23)/100+L18 -> 50.04 | N18: =WEEKDAY($A17,2) -> 4
A19: =A17+1 -> 41096 | F19: =F18+G18+H18+I18+J18 -> 58440 | M19: =M18-((G19+I19)*data!$B$22+(H19+J19)*data!$B$23)/100+L19 -> 50.04 | N19: =WEEKDAY($A19,2) -> 5
F20: =F19+G19+H19+I19+J19 -> 58440 | M20: =M19-((G20+I20)*data!$B$22+(H20+J20)*data!$B$23)/100+L20 -> 50.04 | N20: =WEEKDAY($A19,2) -> 5
A21: =A19+1 -> 41097 | F21: =F20+G20+H20+I20+J20 -> 58440 | M21: =M20-((G21+I21)*data!$B$22+(H21+J21)*data!$B$23)/100+L21 -> 50.04 | N21: =WEEKDAY($A21,2) -> 6 | S21: 38783 | T21: Super(95) Leaded | U21: BA-BOTANICKA | V21: 38.09 | W21: SKK | X21: 1451.2
F22: =F21+G21+H21+I21+J21 -> 58440 | M22: =M21-((G22+I22)*data!$B$22+(H22+J22)*data!$B$23)/100+L22 -> 50.04 | N22: =WEEKDAY($A21,2) -> 6 | U22: Nove Zamky | V22: 26.06 | W22: SKK | X22: 1003.3
A23: =A21+1 -> 41098 | F23: =F22+G22+H22+I22+J22 -> 58440 | M23: =M22-((G23+I23)*data!$B$22+(H23+J23)*data!$B$23)/100+L23 -> 50.04 | N23: =WEEKDAY($A23,2) -> 7 | S23: 38784 | T23: Super(95) Leaded | U23: TRENČÍN | V23: 33.62 | W23: SKK | X23: 1307.8
F24: =F23+G23+H23+I23+J23 -> 58440 | M24: =M23-((G24+I24)*data!$B$22+(H24+J24)*data!$B$23)/100+L24 -> 50.04 | N24: =WEEKDAY($A23,2) -> 7
A25: =A23+1 -> 41099 | F25: =F24+G24+H24+I24+J24 -> 58440 | M25: =M24-((G25+I25)*data!$B$22+(H25+J25)*data!$B$23)/100+L25 -> 50.04 | N25: =WEEKDAY($A25,2) -> 1
F26: =F25+G25+H25+I25+J25 -> 58440 | M26: =M25-((G26+I26)*data!$B$22+(H26+J26)*data!$B$23)/100+L26 -> 50.04 | N26: =WEEKDAY($A25,2) -> 1
A27: =A25+1 -> 41100 | F27: =F26+G26+H26+I26+J26 -> 58440 | M27: =M26-((G27+I27)*data!$B$22+(H27+J27)*data!$B$23)/100+L27 -> 50.04 | N27: =WEEKDAY($A27,2) -> 2
F28: =F27+G27+H27+I27+J27 -> 58440 | M28: =M27-((G28+I28)*data!$B$22+(H28+J28)*data!$B$23)/100+L28 -> 50.04 | N28: =WEEKDAY($A27,2) -> 2
A29: =A27+1 -> 41101 | F29: =F28+G28+H28+I28+J28 -> 58440 | M29: =M28-((G29+I29)*data!$B$22+(H29+J29)*data!$B$23)/100+L29 -> 50.04 | N29: =WEEKDAY($A29,2) -> 3
F30: =F29+G29+H29+I29+J29 -> 58440 | M30: =M29-((G30+I30)*data!$B$22+(H30+J30)*data!$B$23)/100+L30 -> 50.04 | N30: =WEEKDAY($A29,2) -> 3
A31: =A29+1 -> 41102 | F31: =F30+G30+H30+I30+J30 -> 58440 | M31: =M30-((G31+I31)*data!$B$22+(H31+J31)*data!$B$23)/100+L31 -> 50.04 | N31: =WEEKDAY($A31,2) -> 4
F32: =F31+G31+H31+I31+J31 -> 58440 | M32: =M31-((G32+I32)*data!$B$22+(H32+J32)*data!$B$23)/100+L32 -> 50.04 | N32: =WEEKDAY($A31,2) -> 4
A33: =A31+1 -> 41103 | F33: =F32+G32+H32+I32+J32 -> 58440 | M33: =M32-((G33+I33)*data!$B$22+(H33+J33)*data!$B$23)/100+L33 -> 50.04 | N33: =WEEKDAY($A33,2) -> 5
F34: =F33+G33+H33+I33+J33 -> 58440 | M34: =M33-((G34+I34)*data!$B$22+(H34+J34)*data!$B$23)/100+L34 -> 50.04 | N34: =WEEKDAY($A33,2) -> 5
A35: =A33+1 -> 41104 | F35: =F34+G34+H34+I34+J34 -> 58440 | M35: =M34-((G35+I35)*data!$B$22+(H35+J35)*data!$B$23)/100+L35 -> 50.04 | N35: =WEEKDAY($A35,2) -> 6
F36: =F35+G35+H35+I35+J35 -> 58440 | M36: =M35-((G36+I36)*data!$B$22+(H36+J36)*data!$B$23)/100+L36 -> 50.04 | N36: =WEEKDAY($A35,2) -> 6
A37: =A35+1 -> 41105 | F37: =F36+G36+H36+I36+J36 -> 58440 | M37: =M36-((G37+I37)*data!$B$22+(H37+J37)*data!$B$23)/100+L37 -> 50.04 | N37: =WEEKDAY($A37,2) -> 7
F38: =F37+G37+H37+I37+J37 -> 58440 | M38: =M37-((G38+I38)*data!$B$22+(H38+J38)*data!$B$23)/100+L38 -> 50.04 | N38: =WEEKDAY($A37,2) -> 7
A39: =A37+1 -> 41106 | F39: =F38+G38+H38+I38+J38 -> 58440 | M39: =M38-((G39+I39)*data!$B$22+(H39+J39)*data!$B$23)/100+L39 -> 50.04 | N39: =WEEKDAY($A39,2) -> 1
F40: =F39+G39+H39+I39+J39 -> 58440 | M40: =M39-((G40+I40)*data!$B$22+(H40+J40)*data!$B$23)/100+L40 -> 50.04 | N40: =WEEKDAY($A39,2) -> 1
A41: =A39+1 -> 41107 | F41: =F40+G40+H40+I40+J40 -> 58440 | M41: =M40-((G41+I41)*data!$B$22+(H41+J41)*data!$B$23)/100+L41 -> 50.04 | N41: =WEEKDAY($A41,2) -> 2
F42: =F41+G41+H41+I41+J41 -> 58440 | M42: =M41-((G42+I42)*data!$B$22+(H42+J42)*data!$B$23)/100+L42 -> 50.04 | N42: =WEEKDAY($A41,2) -> 2
A43: =A41+1 -> 41108 | F43: =F42+G42+H42+I42+J42 -> 58440 | M43: =M42-((G43+I43)*data!$B$22+(H43+J43)*data!$B$23)/100+L43 -> 50.04 | N43: =WEEKDAY($A43,2) -> 3
F44: =F43+G43+H43+I43+J43 -> 58440 | M44: =M43-((G44+I44)*data!$B$22+(H44+J44)*data!$B$23)/100+L44 -> 50.04 | N44: =WEEKDAY($A43,2) -> 3
A45: =A43+1 -> 41109 | F45: =F44+G44+H44+I44+J44 -> 58440 | M45: =M44-((G45+I45)*data!$B$22+(H45+J45)*data!$B$23)/100+L45 -> 50.04 | N45: =WEEKDAY($A45,2) -> 4
F46: =F45+G45+H45+I45+J45 -> 58440 | M46: =M45-((G46+I46)*data!$B$22+(H46+J46)*data!$B$23)/100+L46 -> 50.04 | N46: =WEEKDAY($A45,2) -> 4
A47: =A45+1 -> 41110 | F47: =F46+G46+H46+I46+J46 -> 58440 | M47: =M46-((G47+I47)*data!$B$22+(H47+J47)*data!$B$23)/100+L47 -> 50.04 | N47: =WEEKDAY($A47,2) -> 5
F48: =F47+G47+H47+I47+J47 -> 58440 | M48: =M47-((G48+I48)*data!$B$22+(H48+J48)*data!$B$23)/100+L48 -> 50.04 | N48: =WEEKDAY($A47,2) -> 5
A49: =A47+1 -> 41111 | F49: =F48+G48+H48+I48+J48 -> 58440 | M49: =M48-((G49+I49)*data!$B$22+(H49+J49)*data!$B$23)/100+L49 -> 50.04 | N49: =WEEKDAY($A49,2) -> 6
F50: =F49+G49+H49+I49+J49 -> 58440 | M50: =M49-((G50+I50)*data!$B$22+(H50+J50)*data!$B$23)/100+L50 -> 50.04 | N50: =WEEKDAY($A49,2) -> 6
A51: =A49+1 -> 41112 | F51: =F50+G50+H50+I50+J50 -> 58440 | M51: =M50-((G51+I51)*data!$B$22+(H51+J51)*data!$B$23)/100+L51 -> 50.04 | N51: =WEEKDAY($A51,2) -> 7
F52: =F51+G51+H51+I51+J51 -> 58440 | M52: =M51-((G52+I52)*data!$B$22+(H52+J52)*data!$B$23)/100+L52 -> 50.04 | N52: =WEEKDAY($A51,2) -> 7
A53: =A51+1 -> 41113 | F53: =F52+G52+H52+I52+J52 -> 58440 | M53: =M52-((G53+I53)*data!$B$22+(H53+J53)*data!$B$23)/100+L53 -> 50.04 | N53: =WEEKDAY($A53,2) -> 1
F54: =F53+G53+H53+I53+J53 -> 58440 | M54: =M53-((G54+I54)*data!$B$22+(H54+J54)*data!$B$23)/100+L54 -> 50.04 | N54: =WEEKDAY($A53,2) -> 1
A55: =A53+1 -> 41114 | F55: =F54+G54+H54+I54+J54 -> 58440 | M55: =M54-((G55+I55)*data!$B$22+(H55+J55)*data!$B$23)/100+L55 -> 50.04 | N55: =WEEKDAY($A55,2) -> 2
F56: =F55+G55+H55+I55+J55 -> 58440 | M56: =M55-((G56+I56)*data!$B$22+(H56+J56)*data!$B$23)/100+L56 -> 50.04 | N56: =WEEKDAY($A55,2) -> 2
A57: =A55+1 -> 41115 | F57: =F56+G56+H56+I56+J56 -> 58440 | M57: =M56-((G57+I57)*data!$B$22+(H57+J57)*data!$B$23)/100+L57 -> 50.04 | N57: =WEEKDAY($A57,2) -> 3
F58: =F57+G57+H57+I57+J57 -> 58440 | M58: =M57-((G58+I58)*data!$B$22+(H58+J58)*data!$B$23)/100+L58 -> 50.04 | N58: =WEEKDAY($A57,2) -> 3
A59: =A57+1 -> 41116 | F59: =F58+G58+H58+I58+J58 -> 58440 | M59: =M58-((G59+I59)*data!$B$22+(H59+J59)*data!$B$23)/100+L59 -> 50.04 | N59: =WEEKDAY($A59,2) -> 4
F60: =F59+G59+H59+I59+J59 -> 58440 | M60: =M59-((G60+I60)*data!$B$22+(H60+J60)*data!$B$23)/100+L60 -> 50.04 | N60: =WEEKDAY($A59,2) -> 4
A61: =A59+1 -> 41117 | F61: =F60+G60+H60+I60+J60 -> 58440 | M61: =M60-((G61+I61)*data!$B$22+(H61+J61)*data!$B$23)/100+L61 -> 50.04 | N61: =WEEKDAY($A61,2) -> 5
F62: =F61+G61+H61+I61+J61 -> 58440 | M62: =M61-((G62+I62)*data!$B$22+(H62+J62)*data!$B$23)/100+L62 -> 50.04 | N62: =WEEKDAY($A61,2) -> 5
A63: =A61+1 -> 41118 | F63: =F62+G62+H62+I62+J62 -> 58440 | M63: =M62-((G63+I63)*data!$B$22+(H63+J63)*data!$B$23)/100+L63 -> 50.04 | N63: =WEEKDAY($A63,2) -> 6
F64: =F63+G63+H63+I63+J63 -> 58440 | M64: =M63-((G64+I64)*data!$B$22+(H64+J64)*data!$B$23)/100+L64 -> 50.04 | N64: =WEEKDAY($A63,2) -> 6
A65: =IF(MONTH(A63+1)=MONTH($L$1),A63+1," ") -> 41119 | F65: =F64+G64+H64+I64+J64 -> 58440 | M65: =M64-((G65+I65)*data!$B$22+(H65+J65)*data!$B$23)/100+L65 -> 50.04 | N65: =WEEKDAY($A65,2) -> 7
F66: =F65+G65+H65+I65+J65 -> 58440 | M66: =M65-((G66+I66)*data!$B$22+(H66+J66)*data!$B$23)/100+L66 -> 50.04 | N66: =WEEKDAY($A65,2) -> 7
A67: =IF(MONTH(A63+2)=MONTH($L$1),A63+2," ") -> 41120 | F67: =F66+G66+H66+I66+J66 -> 58440 | M67: =M66-((G67+I67)*data!$B$22+(H67+J67)*data!$B$23)/100+L67 -> 50.04 | N67: =WEEKDAY($A67,2) -> 1
F68: =F67+G67+H67+I67+J67 -> 58440 | M68: =M67-((G68+I68)*data!$B$22+(H68+J68)*data!$B$23)/100+L68 -> 50.04 | N68: =WEEKDAY($A67,2) -> 1
A69: =IF(MONTH(A63+3)=MONTH($L$1),A63+3," ") -> 41121 | F69: =F68+G68+H68+I68+J68 -> 58440 | M69: =M68-((G69+I69)*data!$B$22+(H69+J69)*data!$B$23)/100+L69 -> 50.04 | N69: =WEEKDAY($A69,2) -> 2
F70: =F69+G69+H69+I69+J69 -> 58440 | M70: =M69-((G70+I70)*data!$B$22+(H70+J70)*data!$B$23)/100+L70 -> 50.04 | N70: =WEEKDAY($A69,2) -> 2
A72: Stav tachometra: | C72: Počiatočný stav: | D72: =F9 -> 58440 | F72: Vypočítaný zostatok v nádrži (L): | L72: na konci mesiaca: | M72: =M70 -> 50.04 | Q72: =SUM(Q9:Q70) -> 0 | R72: Spolu za mesiac km
C73: Konečný stav: | D73: =F70+G70+H70+I70+J70 -> 58440 | F73: Skutočný zostatok v nádrži (L): | L73: na začiatku mesiaca: | Q73: =taxa*Q72 -> 0 | R73: Spolu za mesiac (€)
A74: Najazdené kilometre: | C74: Mimo mesta: | D74: =SUM(G9:G70) -> 0 | L74: na konci mesiaca:
C75: V meste: | D75: =SUM(H9:H70) -> 0 | F75: Nadspotreba: | Q75: =#REF!+Q72 -> #REF! | R75: Najazdené od začiatku roka
C76: Súkromne mimo mesta: | D76: =SUM(I9:I70) -> 0 | F76: Druh PHM: | J76: =data!$B$18 -> Nafta | Q76: =IF(Q75>5000,IF(Q72>(Q75-5000),(Q75-5000)*taxa,Q72*taxa),0) -> #REF! | R76: Skutočne zaplatiť S(€)
C77: Súkromne v meste: | D77: =SUM(J9:J70) -> 0 | F77: Celkový nákup PHM (€) s DPH: | M77: =SUM(O9:O70) -> 0
C78: Súkromne za rok | D78: =D76+D77 -> 0 | F78: Nákup PHM na súkromné jazdy (€) s DPH:
C79: CELKOM: | D79: =SUM(D74:D77) -> 0 | F79: Celkový nákup PHM (L): | M79: =SUM(L9:L70) -> 0
A81: Vyhotovil: | F81: Schválil:
A82: (dátum a podpis) | F82: (dátum a podpis)
C85: =D74+D75+D76 -> 0 | D85: =C85*0.15 -> 0

Sheet 08
A1: VYÚČTOVANIE SPOTREBY POHONNÝCH HMÔT | J1: mesiac: | L1: =DATE(rok, 8, 1) -> 41122 | M1: =DATE(#REF!,#REF!,#REF!) -> #REF!
L2: 7
A3: Vodič: | B3: =data!$A$4 -> Meno a priezvisko | C3: Vozidlo: | D3: =data!$B$11&", ŠPZ: "&data!$B$10 -> značka a typ auta, ŠPZ: ZA 123 AB
A5: Dátum | B5: Cieľ cesty | F5: Stav tacho-metra | G5: Najazdené kilometre | L5: Nákup PHM (L) | M5: Zostatok v nádrži (L) | O5: Nákup PHM (€) s DPH | Q5: Súkromne mimo evidenciu
G6: Služobne | I6: Súkromne
G7: Mimo mesta | H7: V meste | I7: Mimo mesta | J7: V meste
A9: =L1 -> 41122 | E9: 1 | F9: ='07'!F70 -> 58440 | M9: ='07'!M70 -> 50.04 | N9: =WEEKDAY($A9,2) -> 3
F10: =F9+G9+H9+I9+J9 -> 58440 | M10: =M9-((G10+I10)*data!$B$22+(H10+J10)*data!$B$23)/100+L10 -> 50.04 | N10: =WEEKDAY($A9,2) -> 3
A11: =A9+1 -> 41123 | F11: =F10+G10+H10+I10+J10 -> 58440 | M11: =M10-((G11+I11)*data!$B$22+(H11+J11)*data!$B$23)/100+L11 -> 50.04 | N11: =WEEKDAY($A11,2) -> 4
F12: =F11+G11+H11+I11+J11 -> 58440 | M12: =M11-((G12+I12)*data!$B$22+(H12+J12)*data!$B$23)/100+L12 -> 50.04 | N12: =WEEKDAY($A11,2) -> 4
A13: =A11+1 -> 41124 | F13: =F12+G12+H12+I12+J12 -> 58440 | M13: =M12-((G13+I13)*data!$B$22+(H13+J13)*data!$B$23)/100+L13 -> 50.04 | N13: =WEEKDAY($A13,2) -> 5
F14: =F13+G13+H13+I13+J13 -> 58440 | M14: =M13-((G14+I14)*data!$B$22+(H14+J14)*data!$B$23)/100+L14 -> 50.04 | N14: =WEEKDAY($A13,2) -> 5
A15: =A13+1 -> 41125 | F15: =F14+G14+H14+I14+J14 -> 58440 | M15: =M14-((G15+I15)*data!$B$22+(H15+J15)*data!$B$23)/100+L15 -> 50.04 | N15: =WEEKDAY($A15,2) -> 6
F16: =F15+G15+H15+I15+J15 -> 58440 | M16: =M15-((G16+I16)*data!$B$22+(H16+J16)*data!$B$23)/100+L16 -> 50.04 | N16: =WEEKDAY($A15,2) -> 6
A17: =A15+1 -> 41126 | F17: =F16+G16+H16+I16+J16 -> 58440 | M17: =M16-((G17+I17)*data!$B$22+(H17+J17)*data!$B$23)/100+L17 -> 50.04 | N17: =WEEKDAY($A17,2) -> 7
F18: =F17+G17+H17+I17+J17 -> 58440 | M18: =M17-((G18+I18)*data!$B$22+(H18+J18)*data!$B$23)/100+L18 -> 50.04 | N18: =WEEKDAY($A17,2) -> 7
A19: =A17+1 -> 41127 | F19: =F18+G18+H18+I18+J18 -> 58440 | M19: =M18-((G19+I19)*data!$B$22+(H19+J19)*data!$B$23)/100+L19 -> 50.04 | N19: =WEEKDAY($A19,2) -> 1
F20: =F19+G19+H19+I19+J19 -> 58440 | M20: =M19-((G20+I20)*data!$B$22+(H20+J20)*data!$B$23)/100+L20 -> 50.04 | N20: =WEEKDAY($A19,2) -> 1
A21: =A19+1 -> 41128 | F21: =F20+G20+H20+I20+J20 -> 58440 | M21: =M20-((G21+I21)*data!$B$22+(H21+J21)*data!$B$23)/100+L21 -> 50.04 | N21: =WEEKDAY($A21,2) -> 2 | S21: 38783 | T21: Super(95) Leaded | U21: BA-BOTANICKA | V21: 38.09 | W21: SKK | X21: 1451.2
F22: =F21+G21+H21+I21+J21 -> 58440 | M22: =M21-((G22+I22)*data!$B$22+(H22+J22)*data!$B$23)/100+L22 -> 50.04 | N22: =WEEKDAY($A21,2) -> 2 | U22: Nove Zamky | V22: 26.06 | W22: SKK | X22: 1003.3
A23: =A21+1 -> 41129 | F23: =F22+G22+H22+I22+J22 -> 58440 | M23: =M22-((G23+I23)*data!$B$22+(H23+J23)*data!$B$23)/100+L23 -> 50.04 | N23: =WEEKDAY($A23,2) -> 3 | S23: 38784 | T23: Super(95) Leaded | U23: TRENČÍN | V23: 33.62 | W23: SKK | X23: 1307.8
F24: =F23+G23+H23+I23+J23 -> 58440 | M24: =M23-((G24+I24)*data!$B$22+(H24+J24)*data!$B$23)/100+L24 -> 50.04 | N24: =WEEKDAY($A23,2) -> 3
A25: =A23+1 -> 41130 | F25: =F24+G24+H24+I24+J24 -> 58440 | M25: =M24-((G25+I25)*data!$B$22+(H25+J25)*data!$B$23)/100+L25 -> 50.04 | N25: =WEEKDAY($A25,2) -> 4
F26: =F25+G25+H25+I25+J25 -> 58440 | M26: =M25-((G26+I26)*data!$B$22+(H26+J26)*data!$B$23)/100+L26 -> 50.04 | N26: =WEEKDAY($A25,2) -> 4
A27: =A25+1 -> 41131 | F27: =F26+G26+H26+I26+J26 -> 58440 | M27: =M26-((G27+I27)*data!$B$22+(H27+J27)*data!$B$23)/100+L27 -> 50.04 | N27: =WEEKDAY($A27,2) -> 5
F28: =F27+G27+H27+I27+J27 -> 58440 | M28: =M27-((G28+I28)*data!$B$22+(H28+J28)*data!$B$23)/100+L28 -> 50.04 | N28: =WEEKDAY($A27,2) -> 5
A29: =A27+1 -> 41132 | F29: =F28+G28+H28+I28+J28 -> 58440 | M29: =M28-((G29+I29)*data!$B$22+(H29+J29)*data!$B$23)/100+L29 -> 50.04 | N29: =WEEKDAY($A29,2) -> 6
F30: =F29+G29+H29+I29+J29 -> 58440 | M30: =M29-((G30+I30)*data!$B$22+(H30+J30)*data!$B$23)/100+L30 -> 50.04 | N30: =WEEKDAY($A29,2) -> 6
A31: =A29+1 -> 41133 | F31: =F30+G30+H30+I30+J30 -> 58440 | M31: =M30-((G31+I31)*data!$B$22+(H31+J31)*data!$B$23)/100+L31 -> 50.04 | N31: =WEEKDAY($A31,2) -> 7
F32: =F31+G31+H31+I31+J31 -> 58440 | M32: =M31-((G32+I32)*data!$B$22+(H32+J32)*data!$B$23)/100+L32 -> 50.04 | N32: =WEEKDAY($A31,2) -> 7
A33: =A31+1 -> 41134 | F33: =F32+G32+H32+I32+J32 -> 58440 | M33: =M32-((G33+I33)*data!$B$22+(H33+J33)*data!$B$23)/100+L33 -> 50.04 | N33: =WEEKDAY($A33,2) -> 1
F34: =F33+G33+H33+I33+J33 -> 58440 | M34: =M33-((G34+I34)*data!$B$22+(H34+J34)*data!$B$23)/100+L34 -> 50.04 | N34: =WEEKDAY($A33,2) -> 1
A35: =A33+1 -> 41135 | F35: =F34+G34+H34+I34+J34 -> 58440 | M35: =M34-((G35+I35)*data!$B$22+(H35+J35)*data!$B$23)/100+L35 -> 50.04 | N35: =WEEKDAY($A35,2) -> 2
F36: =F35+G35+H35+I35+J35 -> 58440 | M36: =M35-((G36+I36)*data!$B$22+(H36+J36)*data!$B$23)/100+L36 -> 50.04 | N36: =WEEKDAY($A35,2) -> 2
A37: =A35+1 -> 41136 | F37: =F36+G36+H36+I36+J36 -> 58440 | M37: =M36-((G37+I37)*data!$B$22+(H37+J37)*data!$B$23)/100+L37 -> 50.04 | N37: =WEEKDAY($A37,2) -> 3
F38: =F37+G37+H37+I37+J37 -> 58440 | M38: =M37-((G38+I38)*data!$B$22+(H38+J38)*data!$B$23)/100+L38 -> 50.04 | N38: =WEEKDAY($A37,2) -> 3
A39: =A37+1 -> 41137 | F39: =F38+G38+H38+I38+J38 -> 58440 | M39: =M38-((G39+I39)*data!$B$22+(H39+J39)*data!$B$23)/100+L39 -> 50.04 | N39: =WEEKDAY($A39,2) -> 4
F40: =F39+G39+H39+I39+J39 -> 58440 | M40: =M39-((G40+I40)*data!$B$22+(H40+J40)*data!$B$23)/100+L40 -> 50.04 | N40: =WEEKDAY($A39,2) -> 4
A41: =A39+1 -> 41138 | F41: =F40+G40+H40+I40+J40 -> 58440 | M41: =M40-((G41+I41)*data!$B$22+(H41+J41)*data!$B$23)/100+L41 -> 50.04 | N41: =WEEKDAY($A41,2) -> 5
F42: =F41+G41+H41+I41+J41 -> 58440 | M42: =M41-((G42+I42)*data!$B$22+(H42+J42)*data!$B$23)/100+L42 -> 50.04 | N42: =WEEKDAY($A41,2) -> 5
A43: =A41+1 -> 41139 | F43: =F42+G42+H42+I42+J42 -> 58440 | M43: =M42-((G43+I43)*data!$B$22+(H43+J43)*data!$B$23)/100+L43 -> 50.04 | N43: =WEEKDAY($A43,2) -> 6
F44: =F43+G43+H43+I43+J43 -> 58440 | M44: =M43-((G44+I44)*data!$B$22+(H44+J44)*data!$B$23)/100+L44 -> 50.04 | N44: =WEEKDAY($A43,2) -> 6
A45: =A43+1 -> 41140 | F45: =F44+G44+H44+I44+J44 -> 58440 | M45: =M44-((G45+I45)*data!$B$22+(H45+J45)*data!$B$23)/100+L45 -> 50.04 | N45: =WEEKDAY($A45,2) -> 7
F46: =F45+G45+H45+I45+J45 -> 58440 | M46: =M45-((G46+I46)*data!$B$22+(H46+J46)*data!$B$23)/100+L46 -> 50.04 | N46: =WEEKDAY($A45,2) -> 7
A47: =A45+1 -> 41141 | F47: =F46+G46+H46+I46+J46 -> 58440 | M47: =M46-((G47+I47)*data!$B$22+(H47+J47)*data!$B$23)/100+L47 -> 50.04 | N47: =WEEKDAY($A47,2) -> 1
F48: =F47+G47+H47+I47+J47 -> 58440 | M48: =M47-((G48+I48)*data!$B$22+(H48+J48)*data!$B$23)/100+L48 -> 50.04 | N48: =WEEKDAY($A47,2) -> 1
A49: =A47+1 -> 41142 | F49: =F48+G48+H48+I48+J48 -> 58440 | M49: =M48-((G49+I49)*data!$B$22+(H49+J49)*data!$B$23)/100+L49 -> 50.04 | N49: =WEEKDAY($A49,2) -> 2
F50: =F49+G49+H49+I49+J49 -> 58440 | M50: =M49-((G50+I50)*data!$B$22+(H50+J50)*data!$B$23)/100+L50 -> 50.04 | N50: =WEEKDAY($A49,2) -> 2
A51: =A49+1 -> 41143 | F51: =F50+G50+H50+I50+J50 -> 58440 | M51: =M50-((G51+I51)*data!$B$22+(H51+J51)*data!$B$23)/100+L51 -> 50.04 | N51: =WEEKDAY($A51,2) -> 3
F52: =F51+G51+H51+I51+J51 -> 58440 | M52: =M51-((G52+I52)*data!$B$22+(H52+J52)*data!$B$23)/100+L52 -> 50.04 | N52: =WEEKDAY($A51,2) -> 3
A53: =A51+1 -> 41144 | F53: =F52+G52+H52+I52+J52 -> 58440 | M53: =M52-((G53+I53)*data!$B$22+(H53+J53)*data!$B$23)/100+L53 -> 50.04 | N53: =WEEKDAY($A53,2) -> 4
F54: =F53+G53+H53+I53+J53 -> 58440 | M54: =M53-((G54+I54)*data!$B$22+(H54+J54)*data!$B$23)/100+L54 -> 50.04 | N54: =WEEKDAY($A53,2) -> 4
A55: =A53+1 -> 41145 | F55: =F54+G54+H54+I54+J54 -> 58440 | M55: =M54-((G55+I55)*data!$B$22+(H55+J55)*data!$B$23)/100+L55 -> 50.04 | N55: =WEEKDAY($A55,2) -> 5
F56: =F55+G55+H55+I55+J55 -> 58440 | M56: =M55-((G56+I56)*data!$B$22+(H56+J56)*data!$B$23)/100+L56 -> 50.04 | N56: =WEEKDAY($A55,2) -> 5
A57: =A55+1 -> 41146 | F57: =F56+G56+H56+I56+J56 -> 58440 | M57: =M56-((G57+I57)*data!$B$22+(H57+J57)*data!$B$23)/100+L57 -> 50.04 | N57: =WEEKDAY($A57,2) -> 6
F58: =F57+G57+H57+I57+J57 -> 58440 | M58: =M57-((G58+I58)*data!$B$22+(H58+J58)*data!$B$23)/100+L58 -> 50.04 | N58: =WEEKDAY($A57,2) -> 6
A59: =A57+1 -> 41147 | F59: =F58+G58+H58+I58+J58 -> 58440 | M59: =M58-((G59+I59)*data!$B$22+(H59+J59)*data!$B$23)/100+L59 -> 50.04 | N59: =WEEKDAY($A59,2) -> 7
F60: =F59+G59+H59+I59+J59 -> 58440 | M60: =M59-((G60+I60)*data!$B$22+(H60+J60)*data!$B$23)/100+L60 -> 50.04 | N60: =WEEKDAY($A59,2) -> 7
A61: =A59+1 -> 41148 | F61: =F60+G60+H60+I60+J60 -> 58440 | M61: =M60-((G61+I61)*data!$B$22+(H61+J61)*data!$B$23)/100+L61 -> 50.04 | N61: =WEEKDAY($A61,2) -> 1
F62: =F61+G61+H61+I61+J61 -> 58440 | M62: =M61-((G62+I62)*data!$B$22+(H62+J62)*data!$B$23)/100+L62 -> 50.04 | N62: =WEEKDAY($A61,2) -> 1
A63: =A61+1 -> 41149 | F63: =F62+G62+H62+I62+J62 -> 58440 | M63: =M62-((G63+I63)*data!$B$22+(H63+J63)*data!$B$23)/100+L63 -> 50.04 | N63: =WEEKDAY($A63,2) -> 2
F64: =F63+G63+H63+I63+J63 -> 58440 | M64: =M63-((G64+I64)*data!$B$22+(H64+J64)*data!$B$23)/100+L64 -> 50.04 | N64: =WEEKDAY($A63,2) -> 2
A65: =IF(MONTH(A63+1)=MONTH($L$1),A63+1," ") -> 41150 | F65: =F64+G64+H64+I64+J64 -> 58440 | M65: =M64-((G65+I65)*data!$B$22+(H65+J65)*data!$B$23)/100+L65 -> 50.04 | N65: =WEEKDAY($A65,2) -> 3
F66: =F65+G65+H65+I65+J65 -> 58440 | M66: =M65-((G66+I66)*data!$B$22+(H66+J66)*data!$B$23)/100+L66 -> 50.04 | N66: =WEEKDAY($A65,2) -> 3
A67: =IF(MONTH(A63+2)=MONTH($L$1),A63+2," ") -> 41151 | F67: =F66+G66+H66+I66+J66 -> 58440 | M67: =M66-((G67+I67)*data!$B$22+(H67+J67)*data!$B$23)/100+L67 -> 50.04 | N67: =WEEKDAY($A67,2) -> 4
F68: =F67+G67+H67+I67+J67 -> 58440 | M68: =M67-((G68+I68)*data!$B$22+(H68+J68)*data!$B$23)/100+L68 -> 50.04 | N68: =WEEKDAY($A67,2) -> 4
A69: =IF(MONTH(A63+3)=MONTH($L$1),A63+3," ") -> 41152 | F69: =F68+G68+H68+I68+J68 -> 58440 | M69: =M68-((G69+I69)*data!$B$22+(H69+J69)*data!$B$23)/100+L69 -> 50.04 | N69: =WEEKDAY($A69,2) -> 5
F70: =F69+G69+H69+I69+J69 -> 58440 | M70: =M69-((G70+I70)*data!$B$22+(H70+J70)*data!$B$23)/100+L70 -> 50.04 | N70: =WEEKDAY($A69,2) -> 5
A72: Stav tachometra: | C72: Počiatočný stav: | D72: =F9 -> 58440 | F72: Vypočítaný zostatok v nádrži (L): | L72: na konci mesiaca: | M72: =M70 -> 50.04 | Q72: =SUM(Q9:Q70) -> 0 | R72: Spolu za mesiac km
C73: Konečný stav: | D73: =F70+G70+H70+I70+J70 -> 58440 | F73: Skutočný zostatok v nádrži (L): | L73: na začiatku mesiaca: | Q73: =taxa*Q72 -> 0 | R73: Spolu za mesiac (€)
A74: Najazdené kilometre: | C74: Mimo mesta: | D74: =SUM(G9:G70) -> 0 | L74: na konci mesiaca:
C75: V meste: | D75: =SUM(H9:H70) -> 0 | F75: Nadspotreba: | Q75: =#REF!+Q72 -> #REF! | R75: Najazdené od začiatku roka
C76: Súkromne mimo mesta: | D76: =SUM(I9:I70) -> 0 | F76: Druh PHM: | J76: =data!$B$18 -> Nafta | Q76: =IF(Q75>5000,IF(Q72>(Q75-5000),(Q75-5000)*taxa,Q72*taxa),0) -> #REF! | R76: Skutočne zaplatiť S(€)
C77: Súkromne v meste: | D77: =SUM(J9:J70) -> 0 | F77: Celkový nákup PHM (€) s DPH: | M77: =SUM(O9:O70) -> 0
C78: Súkromne za rok | D78: =D76+D77 -> 0 | F78: Nákup PHM na súkromné jazdy (€) s DPH:
C79: CELKOM: | D79: =SUM(D74:D77) -> 0 | F79: Celkový nákup PHM (L): | M79: =SUM(L9:L70) -> 0
A81: Vyhotovil: | F81: Schválil:
A82: (dátum a podpis) | F82: (dátum a podpis)
C85: =D74+D75+D76 -> 0 | D85: =C85*0.15 -> 0

Sheet 09
A1: VYÚČTOVANIE SPOTREBY POHONNÝCH HMÔT | J1: mesiac: | L1: =DATE(rok, 9, 1) -> 41153 | M1: =DATE(#REF!,#REF!,#REF!) -> #REF!
L2: 7
A3: Vodič: | B3: =data!$A$4 -> Meno a priezvisko | C3: Vozidlo: | D3: =data!$B$11&", ŠPZ: "&data!$B$10 -> značka a typ auta, ŠPZ: ZA 123 AB
A5: Dátum | B5: Cieľ cesty | F5: Stav tacho-metra | G5: Najazdené kilometre | L5: Nákup PHM (L) | M5: Zostatok v nádrži (L) | O5: Nákup PHM (€) s DPH | Q5: Súkromne mimo evidenciu
G6: Služobne | I6: Súkromne
G7: Mimo mesta | H7: V meste | I7: Mimo mesta | J7: V meste
A9: =L1 -> 41153 | E9: 1 | F9: ='08'!F70 -> 58440 | M9: ='08'!M70 -> 50.04 | N9: =WEEKDAY($A9,2) -> 6
F10: =F9+G9+H9+I9+J9 -> 58440 | M10: =M9-((G10+I10)*data!$B$22+(H10+J10)*data!$B$23)/100+L10 -> 50.04 | N10: =WEEKDAY($A9,2) -> 6
A11: =A9+1 -> 41154 | F11: =F10+G10+H10+I10+J10 -> 58440 | M11: =M10-((G11+I11)*data!$B$22+(H11+J11)*data!$B$23)/100+L11 -> 50.04 | N11: =WEEKDAY($A11,2) -> 7
F12: =F11+G11+H11+I11+J11 -> 58440 | M12: =M11-((G12+I12)*data!$B$22+(H12+J12)*data!$B$23)/100+L12 -> 50.04 | N12: =WEEKDAY($A11,2) -> 7
A13: =A11+1 -> 41155 | F13: =F12+G12+H12+I12+J12 -> 58440 | M13: =M12-((G13+I13)*data!$B$22+(H13+J13)*data!$B$23)/100+L13 -> 50.04 | N13: =WEEKDAY($A13,2) -> 1
F14: =F13+G13+H13+I13+J13 -> 58440 | M14: =M13-((G14+I14)*data!$B$22+(H14+J14)*data!$B$23)/100+L14 -> 50.04 | N14: =WEEKDAY($A13,2) -> 1
A15: =A13+1 -> 41156 | F15: =F14+G14+H14+I14+J14 -> 58440 | M15: =M14-((G15+I15)*data!$B$22+(H15+J15)*data!$B$23)/100+L15 -> 50.04 | N15: =WEEKDAY($A15,2) -> 2
F16: =F15+G15+H15+I15+J15 -> 58440 | M16: =M15-((G16+I16)*data!$B$22+(H16+J16)*data!$B$23)/100+L16 -> 50.04 | N16: =WEEKDAY($A15,2) -> 2
A17: =A15+1 -> 41157 | F17: =F16+G16+H16+I16+J16 -> 58440 | M17: =M16-((G17+I17)*data!$B$22+(H17+J17)*data!$B$23)/100+L17 -> 50.04 | N17: =WEEKDAY($A17,2) -> 3
F18: =F17+G17+H17+I17+J17 -> 58440 | M18: =M17-((G18+I18)*data!$B$22+(H18+J18)*data!$B$23)/100+L18 -> 50.04 | N18: =WEEKDAY($A17,2) -> 3
A19: =A17+1 -> 41158 | F19: =F18+G18+H18+I18+J18 -> 58440 | M19: =M18-((G19+I19)*data!$B$22+(H19+J19)*data!$B$23)/100+L19 -> 50.04 | N19: =WEEKDAY($A19,2) -> 4
F20: =F19+G19+H19+I19+J19 -> 58440 | M20: =M19-((G20+I20)*data!$B$22+(H20+J20)*data!$B$23)/100+L20 -> 50.04 | N20: =WEEKDAY($A19,2) -> 4
A21: =A19+1 -> 41159 | F21: =F20+G20+H20+I20+J20 -> 58440 | M21: =M20-((G21+I21)*data!$B$22+(H21+J21)*data!$B$23)/100+L21 -> 50.04 | N21: =WEEKDAY($A21,2) -> 5 | S21: 38783 | T21: Super(95) Leaded | U21: BA-BOTANICKA | V21: 38.09 | W21: SKK | X21: 1451.2
F22: =F21+G21+H21+I21+J21 -> 58440 | M22: =M21-((G22+I22)*data!$B$22+(H22+J22)*data!$B$23)/100+L22 -> 50.04 | N22: =WEEKDAY($A21,2) -> 5 | U22: Nove Zamky | V22: 26.06 | W22: SKK | X22: 1003.3
A23: =A21+1 -> 41160 | F23: =F22+G22+H22+I22+J22 -> 58440 | M23: =M22-((G23+I23)*data!$B$22+(H23+J23)*data!$B$23)/100+L23 -> 50.04 | N23: =WEEKDAY($A23,2) -> 6 | S23: 38784 | T23: Super(95) Leaded | U23: TRENČÍN | V23: 33.62 | W23: SKK | X23: 1307.8
F24: =F23+G23+H23+I23+J23 -> 58440 | M24: =M23-((G24+I24)*data!$B$22+(H24+J24)*data!$B$23)/100+L24 -> 50.04 | N24: =WEEKDAY($A23,2) -> 6
A25: =A23+1 -> 41161 | F25: =F24+G24+H24+I24+J24 -> 58440 | M25: =M24-((G25+I25)*data!$B$22+(H25+J25)*data!$B$23)/100+L25 -> 50.04 | N25: =WEEKDAY($A25,2) -> 7
F26: =F25+G25+H25+I25+J25 -> 58440 | M26: =M25-((G26+I26)*data!$B$22+(H26+J26)*data!$B$23)/100+L26 -> 50.04 | N26: =WEEKDAY($A25,2) -> 7
A27: =A25+1 -> 41162 | F27: =F26+G26+H26+I26+J26 -> 58440 | M27: =M26-((G27+I27)*data!$B$22+(H27+J27)*data!$B$23)/100+L27 -> 50.04 | N27: =WEEKDAY($A27,2) -> 1
F28: =F27+G27+H27+I27+J27 -> 58440 | M28: =M27-((G28+I28)*data!$B$22+(H28+J28)*data!$B$23)/100+L28 -> 50.04 | N28: =WEEKDAY($A27,2) -> 1
A29: =A27+1 -> 41163 | F29: =F28+G28+H28+I28+J28 -> 58440 | M29: =M28-((G29+I29)*data!$B$22+(H29+J29)*data!$B$23)/100+L29 -> 50.04 | N29: =WEEKDAY($A29,2) -> 2
F30: =F29+G29+H29+I29+J29 -> 58440 | M30: =M29-((G30+I30)*data!$B$22+(H30+J30)*data!$B$23)/100+L30 -> 50.04 | N30: =WEEKDAY($A29,2) -> 2
A31: =A29+1 -> 41164 | F31: =F30+G30+H30+I30+J30 -> 58440 | M31: =M30-((G31+I31)*data!$B$22+(H31+J31)*data!$B$23)/100+L31 -> 50.04 | N31: =WEEKDAY($A31,2) -> 3
F32: =F31+G31+H31+I31+J31 -> 58440 | M32: =M31-((G32+I32)*data!$B$22+(H32+J32)*data!$B$23)/100+L32 -> 50.04 | N32: =WEEKDAY($A31,2) -> 3
A33: =A31+1 -> 41165 | F33: =F32+G32+H32+I32+J32 -> 58440 | M33: =M32-((G33+I33)*data!$B$22+(H33+J33)*data!$B$23)/100+L33 -> 50.04 | N33: =WEEKDAY($A33,2) -> 4
F34: =F33+G33+H33+I33+J33 -> 58440 | M34: =M33-((G34+I34)*data!$B$22+(H34+J34)*data!$B$23)/100+L34 -> 50.04 | N34: =WEEKDAY($A33,2) -> 4
A35: =A33+1 -> 41166 | F35: =F34+G34+H34+I34+J34 -> 58440 | M35: =M34-((G35+I35)*data!$B$22+(H35+J35)*data!$B$23)/100+L35 -> 50.04 | N35: =WEEKDAY($A35,2) -> 5
F36: =F35+G35+H35+I35+J35 -> 58440 | M36: =M35-((G36+I36)*data!$B$22+(H36+J36)*data!$B$23)/100+L36 -> 50.04 | N36: =WEEKDAY($A35,2) -> 5
A37: =A35+1 -> 41167 | F37: =F36+G36+H36+I36+J36 -> 58440 | M37: =M36-((G37+I37)*data!$B$22+(H37+J37)*data!$B$23)/100+L37 -> 50.04 | N37: =WEEKDAY($A37,2) -> 6
F38: =F37+G37+H37+I37+J37 -> 58440 | M38: =M37-((G38+I38)*data!$B$22+(H38+J38)*data!$B$23)/100+L38 -> 50.04 | N38: =WEEKDAY($A37,2) -> 6
A39: =A37+1 -> 41168 | F39: =F38+G38+H38+I38+J38 -> 58440 | M39: =M38-((G39+I39)*data!$B$22+(H39+J39)*data!$B$23)/100+L39 -> 50.04 | N39: =WEEKDAY($A39,2) -> 7
F40: =F39+G39+H39+I39+J39 -> 58440 | M40: =M39-((G40+I40)*data!$B$22+(H40+J40)*data!$B$23)/100+L40 -> 50.04 | N40: =WEEKDAY($A39,2) -> 7
A41: =A39+1 -> 41169 | F41: =F40+G40+H40+I40+J40 -> 58440 | M41: =M40-((G41+I41)*data!$B$22+(H41+J41)*data!$B$23)/100+L41 -> 50.04 | N41: =WEEKDAY($A41,2) -> 1
F42: =F41+G41+H41+I41+J41 -> 58440 | M42: =M41-((G42+I42)*data!$B$22+(H42+J42)*data!$B$23)/100+L42 -> 50.04 | N42: =WEEKDAY($A41,2) -> 1
A43: =A41+1 -> 41170 | F43: =F42+G42+H42+I42+J42 -> 58440 | M43: =M42-((G43+I43)*data!$B$22+(H43+J43)*data!$B$23)/100+L43 -> 50.04 | N43: =WEEKDAY($A43,2) -> 2
F44: =F43+G43+H43+I43+J43 -> 58440 | M44: =M43-((G44+I44)*data!$B$22+(H44+J44)*data!$B$23)/100+L44 -> 50.04 | N44: =WEEKDAY($A43,2) -> 2
A45: =A43+1 -> 41171 | F45: =F44+G44+H44+I44+J44 -> 58440 | M45: =M44-((G45+I45)*data!$B$22+(H45+J45)*data!$B$23)/100+L45 -> 50.04 | N45: =WEEKDAY($A45,2) -> 3
F46: =F45+G45+H45+I45+J45 -> 58440 | M46: =M45-((G46+I46)*data!$B$22+(H46+J46)*data!$B$23)/100+L46 -> 50.04 | N46: =WEEKDAY($A45,2) -> 3
A47: =A45+1 -> 41172 | F47: =F46+G46+H46+I46+J46 -> 58440 | M47: =M46-((G47+I47)*data!$B$22+(H47+J47)*data!$B$23)/100+L47 -> 50.04 | N47: =WEEKDAY($A47,2) -> 4
F48: =F47+G47+H47+I47+J47 -> 58440 | M48: =M47-((G48+I48)*data!$B$22+(H48+J48)*data!$B$23)/100+L48 -> 50.04 | N48: =WEEKDAY($A47,2) -> 4
A49: =A47+1 -> 41173 | F49: =F48+G48+H48+I48+J48 -> 58440 | M49: =M48-((G49+I49)*data!$B$22+(H49+J49)*data!$B$23)/100+L49 -> 50.04 | N49: =WEEKDAY($A49,2) -> 5
F50: =F49+G49+H49+I49+J49 -> 58440 | M50: =M49-((G50+I50)*data!$B$22+(H50+J50)*data!$B$23)/100+L50 -> 50.04 | N50: =WEEKDAY($A49,2) -> 5
A51: =A49+1 -> 41174 | F51: =F50+G50+H50+I50+J50 -> 58440 | M51: =M50-((G51+I51)*data!$B$22+(H51+J51)*data!$B$23)/100+L51 -> 50.04 | N51: =WEEKDAY($A51,2) -> 6
F52: =F51+G51+H51+I51+J51 -> 58440 | M52: =M51-((G52+I52)*data!$B$22+(H52+J52)*data!$B$23)/100+L52 -> 50.04 | N52: =WEEKDAY($A51,2) -> 6
A53: =A51+1 -> 41175 | F53: =F52+G52+H52+I52+J52 -> 58440 | M53: =M52-((G53+I53)*data!$B$22+(H53+J53)*data!$B$23)/100+L53 -> 50.04 | N53: =WEEKDAY($A53,2) -> 7
F54: =F53+G53+H53+I53+J53 -> 58440 | M54: =M53-((G54+I54)*data!$B$22+(H54+J54)*data!$B$23)/100+L54 -> 50.04 | N54: =WEEKDAY($A53,2) -> 7
A55: =A53+1 -> 41176 | F55: =F54+G54+H54+I54+J54 -> 58440 | M55: =M54-((G55+I55)*data!$B$22+(H55+J55)*data!$B$23)/100+L55 -> 50.04 | N55: =WEEKDAY($A55,2) -> 1
F56: =F55+G55+H55+I55+J55 -> 58440 | M56: =M55-((G56+I56)*data!$B$22+(H56+J56)*data!$B$23)/100+L56 -> 50.04 | N56: =WEEKDAY($A55,2) -> 1
A57: =A55+1 -> 41177 | F57: =F56+G56+H56+I56+J56 -> 58440 | M57: =M56-((G57+I57)*data!$B$22+(H57+J57)*data!$B$23)/100+L57 -> 50.04 | N57: =WEEKDAY($A57,2) -> 2
F58: =F57+G57+H57+I57+J57 -> 58440 | M58: =M57-((G58+I58)*data!$B$22+(H58+J58)*data!$B$23)/100+L58 -> 50.04 | N58: =WEEKDAY($A57,2) -> 2
A59: =A57+1 -> 41178 | F59: =F58+G58+H58+I58+J58 -> 58440 | M59: =M58-((G59+I59)*data!$B$22+(H59+J59)*data!$B$23)/100+L59 -> 50.04 | N59: =WEEKDAY($A59,2) -> 3
F60: =F59+G59+H59+I59+J59 -> 58440 | M60: =M59-((G60+I60)*data!$B$22+(H60+J60)*data!$B$23)/100+L60 -> 50.04 | N60: =WEEKDAY($A59,2) -> 3
A61: =A59+1 -> 41179 | F61: =F60+G60+H60+I60+J60 -> 58440 | M61: =M60-((G61+I61)*data!$B$22+(H61+J61)*data!$B$23)/100+L61 -> 50.04 | N61: =WEEKDAY($A61,2) -> 4
F62: =F61+G61+H61+I61+J61 -> 58440 | M62: =M61-((G62+I62)*data!$B$22+(H62+J62)*data!$B$23)/100+L62 -> 50.04 | N62: =WEEKDAY($A61,2) -> 4
A63: =A61+1 -> 41180 | F63: =F62+G62+H62+I62+J62 -> 58440 | M63: =M62-((G63+I63)*data!$B$22+(H63+J63)*data!$B$23)/100+L63 -> 50.04 | N63: =WEEKDAY($A63,2) -> 5
F64: =F63+G63+H63+I63+J63 -> 58440 | M64: =M63-((G64+I64)*data!$B$22+(H64+J64)*data!$B$23)/100+L64 -> 50.04 | N64: =WEEKDAY($A63,2) -> 5
A65: =IF(MONTH(A63+1)=MONTH($L$1),A63+1," ") -> 41181 | F65: =F64+G64+H64+I64+J64 -> 58440 | M65: =M64-((G65+I65)*data!$B$22+(H65+J65)*data!$B$23)/100+L65 -> 50.04 | N65: =WEEKDAY($A65,2) -> 6
F66: =F65+G65+H65+I65+J65 -> 58440 | M66: =M65-((G66+I66)*data!$B$22+(H66+J66)*data!$B$23)/100+L66 -> 50.04 | N66: =WEEKDAY($A65,2) -> 6
A67: =IF(MONTH(A63+2)=MONTH($L$1),A63+2," ") -> 41182 | F67: =F66+G66+H66+I66+J66 -> 58440 | M67: =M66-((G67+I67)*data!$B$22+(H67+J67)*data!$B$23)/100+L67 -> 50.04 | N67: =WEEKDAY($A67,2) -> 7
F68: =F67+G67+H67+I67+J67 -> 58440 | M68: =M67-((G68+I68)*data!$B$22+(H68+J68)*data!$B$23)/100+L68 -> 50.04 | N68: =WEEKDAY($A67,2) -> 7
A69: =IF(MONTH(A63+3)=MONTH($L$1),A63+3," ") | F69: =F68+G68+H68+I68+J68 -> 58440 | M69: =M68-((G69+I69)*data!$B$22+(H69+J69)*data!$B$23)/100+L69 -> 50.04 | N69: =WEEKDAY($A69,2) -> #VALUE!
F70: =F69+G69+H69+I69+J69 -> 58440 | M70: =M69-((G70+I70)*data!$B$22+(H70+J70)*data!$B$23)/100+L70 -> 50.04 | N70: =WEEKDAY($A69,2) -> #VALUE!
A72: Stav tachometra: | C72: Počiatočný stav: | D72: =F9 -> 58440 | F72: Vypočítaný zostatok v nádrži (L): | L72: na konci mesiaca: | M72: =M70 -> 50.04 | Q72: =SUM(Q9:Q70) -> 0 | R72: Spolu za mesiac km
C73: Konečný stav: | D73: =F70+G70+H70+I70+J70 -> 58440 | F73: Skutočný zostatok v nádrži (L): | L73: na začiatku mesiaca: | Q73: =taxa*Q72 -> 0 | R73: Spolu za mesiac (€)
A74: Najazdené kilometre: | C74: Mimo mesta: | D74: =SUM(G9:G70) -> 0 | L74: na konci mesiaca:
C75: V meste: | D75: =SUM(H9:H70) -> 0 | F75: Nadspotreba: | Q75: =#REF!+Q72 -> #REF! | R75: Najazdené od začiatku roka
C76: Súkromne mimo mesta: | D76: =SUM(I9:I70) -> 0 | F76: Druh PHM: | J76: =data!$B$18 -> Nafta | Q76: =IF(Q75>5000,IF(Q72>(Q75-5000),(Q75-5000)*taxa,Q72*taxa),0) -> #REF! | R76: Skutočne zaplatiť S(€)
C77: Súkromne v meste: | D77: =SUM(J9:J70) -> 0 | F77: Celkový nákup PHM (€) s DPH: | M77: =SUM(O9:O70) -> 0
C78: Súkromne za rok | D78: =D76+D77 -> 0 | F78: Nákup PHM na súkromné jazdy (€) s DPH:
C79: CELKOM: | D79: =SUM(D74:D77) -> 0 | F79: Celkový nákup PHM (L): | M79: =SUM(L9:L70) -> 0
A81: Vyhotovil: | F81: Schválil:
A82: (dátum a podpis) | F82: (dátum a podpis)
C85: =D74+D75+D76 -> 0 | D85: =C85*0.15 -> 0

Sheet 10
A1: VYÚČTOVANIE SPOTREBY POHONNÝCH HMÔT | J1: mesiac: | L1: =DATE(rok, 10, 1) -> 41183 | M1: =DATE(#REF!,#REF!,#REF!) -> #REF!
L2: 7
A3: Vodič: | B3: =data!$A$4 -> Meno a priezvisko | C3: Vozidlo: | D3: =data!$B$11&", ŠPZ: "&data!$B$10 -> značka a typ auta, ŠPZ: ZA 123 AB
A5: Dátum | B5: Cieľ cesty | F5: Stav tacho-metra | G5: Najazdené kilometre | L5: Nákup PHM (L) | M5: Zostatok v nádrži (L) | O5: Nákup PHM (€) s DPH | Q5: Súkromne mimo evidenciu
G6: Služobne | I6: Súkromne
G7: Mimo mesta | H7: V meste | I7: Mimo mesta | J7: V meste
A9: =L1 -> 41183 | E9: 1 | F9: ='09'!F70 -> 58440 | M9: ='09'!M70 -> 50.04 | N9: =WEEKDAY($A9,2) -> 1
F10: =F9+G9+H9+I9+J9 -> 58440 | M10: =M9-((G10+I10)*data!$B$22+(H10+J10)*data!$B$23)/100+L10 -> 50.04 | N10: =WEEKDAY($A9,2) -> 1
A11: =A9+1 -> 41184 | F11: =F10+G10+H10+I10+J10 -> 58440 | M11: =M10-((G11+I11)*data!$B$22+(H11+J11)*data!$B$23)/100+L11 -> 50.04 | N11: =WEEKDAY($A11,2) -> 2
F12: =F11+G11+H11+I11+J11 -> 58440 | M12: =M11-((G12+I12)*data!$B$22+(H12+J12)*data!$B$23)/100+L12 -> 50.04 | N12: =WEEKDAY($A11,2) -> 2
A13: =A11+1 -> 41185 | F13: =F12+G12+H12+I12+J12 -> 58440 | M13: =M12-((G13+I13)*data!$B$22+(H13+J13)*data!$B$23)/100+L13 -> 50.04 | N13: =WEEKDAY($A13,2) -> 3
F14: =F13+G13+H13+I13+J13 -> 58440 | M14: =M13-((G14+I14)*data!$B$22+(H14+J14)*data!$B$23)/100+L14 -> 50.04 | N14: =WEEKDAY($A13,2) -> 3
A15: =A13+1 -> 41186 | F15: =F14+G14+H14+I14+J14 -> 58440 | M15: =M14-((G15+I15)*data!$B$22+(H15+J15)*data!$B$23)/100+L15 -> 50.04 | N15: =WEEKDAY($A15,2) -> 4
F16: =F15+G15+H15+I15+J15 -> 58440 | M16: =M15-((G16+I16)*data!$B$22+(H16+J16)*data!$B$23)/100+L16 -> 50.04 | N16: =WEEKDAY($A15,2) -> 4
A17: =A15+1 -> 41187 | F17: =F16+G16+H16+I16+J16 -> 58440 | M17: =M16-((G17+I17)*data!$B$22+(H17+J17)*data!$B$23)/100+L17 -> 50.04 | N17: =WEEKDAY($A17,2) -> 5
F18: =F17+G17+H17+I17+J17 -> 58440 | M18: =M17-((G18+I18)*data!$B$22+(H18+J18)*data!$B$23)/100+L18 -> 50.04 | N18: =WEEKDAY($A17,2) -> 5
A19: =A17+1 -> 41188 | F19: =F18+G18+H18+I18+J18 -> 58440 | M19: =M18-((G19+I19)*data!$B$22+(H19+J19)*data!$B$23)/100+L19 -> 50.04 | N19: =WEEKDAY($A19,2) -> 6
F20: =F19+G19+H19+I19+J19 -> 58440 | M20: =M19-((G20+I20)*data!$B$22+(H20+J20)*data!$B$23)/100+L20 -> 50.04 | N20: =WEEKDAY($A19,2) -> 6
A21: =A19+1 -> 41189 | F21: =F20+G20+H20+I20+J20 -> 58440 | M21: =M20-((G21+I21)*data!$B$22+(H21+J21)*data!$B$23)/100+L21 -> 50.04 | N21: =WEEKDAY($A21,2) -> 7 | S21: 38783 | T21: Super(95) Leaded | U21: BA-BOTANICKA | V21: 38.09 | W21: SKK | X21: 1451.2
F22: =F21+G21+H21+I21+J21 -> 58440 | M22: =M21-((G22+I22)*data!$B$22+(H22+J22)*data!$B$23)/100+L22 -> 50.04 | N22: =WEEKDAY($A21,2) -> 7 | U22: Nove Zamky | V22: 26.06 | W22: SKK | X22: 1003.3
A23: =A21+1 -> 41190 | F23: =F22+G22+H22+I22+J22 -> 58440 | M23: =M22-((G23+I23)*data!$B$22+(H23+J23)*data!$B$23)/100+L23 -> 50.04 | N23: =WEEKDAY($A23,2) -> 1 | S23: 38784 | T23: Super(95) Leaded | U23: TRENČÍN | V23: 33.62 | W23: SKK | X23: 1307.8
F24: =F23+G23+H23+I23+J23 -> 58440 | M24: =M23-((G24+I24)*data!$B$22+(H24+J24)*data!$B$23)/100+L24 -> 50.04 | N24: =WEEKDAY($A23,2) -> 1
A25: =A23+1 -> 41191 | F25: =F24+G24+H24+I24+J24 -> 58440 | M25: =M24-((G25+I25)*data!$B$22+(H25+J25)*data!$B$23)/100+L25 -> 50.04 | N25: =WEEKDAY($A25,2) -> 2
F26: =F25+G25+H25+I25+J25 -> 58440 | M26: =M25-((G26+I26)*data!$B$22+(H26+J26)*data!$B$23)/100+L26 -> 50.04 | N26: =WEEKDAY($A25,2) -> 2
A27: =A25+1 -> 41192 | F27: =F26+G26+H26+I26+J26 -> 58440 | M27: =M26-((G27+I27)*data!$B$22+(H27+J27)*data!$B$23)/100+L27 -> 50.04 | N27: =WEEKDAY($A27,2) -> 3
F28: =F27+G27+H27+I27+J27 -> 58440 | M28: =M27-((G28+I28)*data!$B$22+(H28+J28)*data!$B$23)/100+L28 -> 50.04 | N28: =WEEKDAY($A27,2) -> 3
A29: =A27+1 -> 41193 | F29: =F28+G28+H28+I28+J28 -> 58440 | M29: =M28-((G29+I29)*data!$B$22+(H29+J29)*data!$B$23)/100+L29 -> 50.04 | N29: =WEEKDAY($A29,2) -> 4
F30: =F29+G29+H29+I29+J29 -> 58440 | M30: =M29-((G30+I30)*data!$B$22+(H30+J30)*data!$B$23)/100+L30 -> 50.04 | N30: =WEEKDAY($A29,2) -> 4
A31: =A29+1 -> 41194 | F31: =F30+G30+H30+I30+J30 -> 58440 | M31: =M30-((G31+I31)*data!$B$22+(H31+J31)*data!$B$23)/100+L31 -> 50.04 | N31: =WEEKDAY($A31,2) -> 5
F32: =F31+G31+H31+I31+J31 -> 58440 | M32: =M31-((G32+I32)*data!$B$22+(H32+J32)*data!$B$23)/100+L32 -> 50.04 | N32: =WEEKDAY($A31,2) -> 5
A33: =A31+1 -> 41195 | F33: =F32+G32+H32+I32+J32 -> 58440 | M33: =M32-((G33+I33)*data!$B$22+(H33+J33)*data!$B$23)/100+L33 -> 50.04 | N33: =WEEKDAY($A33,2) -> 6
F34: =F33+G33+H33+I33+J33 -> 58440 | M34: =M33-((G34+I34)*data!$B$22+(H34+J34)*data!$B$23)/100+L34 -> 50.04 | N34: =WEEKDAY($A33,2) -> 6
A35: =A33+1 -> 41196 | F35: =F34+G34+H34+I34+J34 -> 58440 | M35: =M34-((G35+I35)*data!$B$22+(H35+J35)*data!$B$23)/100+L35 -> 50.04 | N35: =WEEKDAY($A35,2) -> 7
F36: =F35+G35+H35+I35+J35 -> 58440 | M36: =M35-((G36+I36)*data!$B$22+(H36+J36)*data!$B$23)/100+L36 -> 50.04 | N36: =WEEKDAY($A35,2) -> 7
A37: =A35+1 -> 41197 | F37: =F36+G36+H36+I36+J36 -> 58440 | M37: =M36-((G37+I37)*data!$B$22+(H37+J37)*data!$B$23)/100+L37 -> 50.04 | N37: =WEEKDAY($A37,2) -> 1
F38: =F37+G37+H37+I37+J37 -> 58440 | M38: =M37-((G38+I38)*data!$B$22+(H38+J38)*data!$B$23)/100+L38 -> 50.04 | N38: =WEEKDAY($A37,2) -> 1
A39: =A37+1 -> 41198 | F39: =F38+G38+H38+I38+J38 -> 58440 | M39: =M38-((G39+I39)*data!$B$22+(H39+J39)*data!$B$23)/100+L39 -> 50.04 | N39: =WEEKDAY($A39,2) -> 2
F40: =F39+G39+H39+I39+J39 -> 58440 | M40: =M39-((G40+I40)*data!$B$22+(H40+J40)*data!$B$23)/100+L40 -> 50.04 | N40: =WEEKDAY($A39,2) -> 2
A41: =A39+1 -> 41199 | F41: =F40+G40+H40+I40+J40 -> 58440 | M41: =M40-((G41+I41)*data!$B$22+(H41+J41)*data!$B$23)/100+L41 -> 50.04 | N41: =WEEKDAY($A41,2) -> 3
F42: =F41+G41+H41+I41+J41 -> 58440 | M42: =M41-((G42+I42)*data!$B$22+(H42+J42)*data!$B$23)/100+L42 -> 50.04 | N42: =WEEKDAY($A41,2) -> 3
A43: =A41+1 -> 41200 | F43: =F42+G42+H42+I42+J42 -> 58440 | M43: =M42-((G43+I43)*data!$B$22+(H43+J43)*data!$B$23)/100+L43 -> 50.04 | N43: =WEEKDAY($A43,2) -> 4
F44: =F43+G43+H43+I43+J43 -> 58440 | M44: =M43-((G44+I44)*data!$B$22+(H44+J44)*data!$B$23)/100+L44 -> 50.04 | N44: =WEEKDAY($A43,2) -> 4
A45: =A43+1 -> 41201 | F45: =F44+G44+H44+I44+J44 -> 58440 | M45: =M44-((G45+I45)*data!$B$22+(H45+J45)*data!$B$23)/100+L45 -> 50.04 | N45: =WEEKDAY($A45,2) -> 5
F46: =F45+G45+H45+I45+J45 -> 58440 | M46: =M45-((G46+I46)*data!$B$22+(H46+J46)*data!$B$23)/100+L46 -> 50.04 | N46: =WEEKDAY($A45,2) -> 5
A47: =A45+1 -> 41202 | F47: =F46+G46+H46+I46+J46 -> 58440 | M47: =M46-((G47+I47)*data!$B$22+(H47+J47)*data!$B$23)/100+L47 -> 50.04 | N47: =WEEKDAY($A47,2) -> 6
F48: =F47+G47+H47+I47+J47 -> 58440 | M48: =M47-((G48+I48)*data!$B$22+(H48+J48)*data!$B$23)/100+L48 -> 50.04 | N48: =WEEKDAY($A47,2) -> 6
A49: =A47+1 -> 41203 | F49: =F48+G48+H48+I48+J48 -> 58440 | M49: =M48-((G49+I49)*data!$B$22+(H49+J49)*data!$B$23)/100+L49 -> 50.04 | N49: =WEEKDAY($A49,2) -> 7
F50: =F49+G49+H49+I49+J49 -> 58440 | M50: =M49-((G50+I50)*data!$B$22+(H50+J50)*data!$B$23)/100+L50 -> 50.04 | N50: =WEEKDAY($A49,2) -> 7
A51: =A49+1 -> 41204 | F51: =F50+G50+H50+I50+J50 -> 58440 | M51: =M50-((G51+I51)*data!$B$22+(H51+J51)*data!$B$23)/100+L51 -> 50.04 | N51: =WEEKDAY($A51,2) -> 1
F52: =F51+G51+H51+I51+J51 -> 58440 | M52: =M51-((G52+I52)*data!$B$22+(H52+J52)*data!$B$23)/100+L52 -> 50.04 | N52: =WEEKDAY($A51,2) -> 1
A53: =A51+1 -> 41205 | F53: =F52+G52+H52+I52+J52 -> 58440 | M53: =M52-((G53+I53)*data!$B$22+(H53+J53)*data!$B$23)/100+L53 -> 50.04 | N53: =WEEKDAY($A53,2) -> 2
F54: =F53+G53+H53+I53+J53 -> 58440 | M54: =M53-((G54+I54)*data!$B$22+(H54+J54)*data!$B$23)/100+L54 -> 50.04 | N54: =WEEKDAY($A53,2) -> 2
A55: =A53+1 -> 41206 | F55: =F54+G54+H54+I54+J54 -> 58440 | M55: =M54-((G55+I55)*data!$B$22+(H55+J55)*data!$B$23)/100+L55 -> 50.04 | N55: =WEEKDAY($A55,2) -> 3
F56: =F55+G55+H55+I55+J55 -> 58440 | M56: =M55-((G56+I56)*data!$B$22+(H56+J56)*data!$B$23)/100+L56 -> 50.04 | N56: =WEEKDAY($A55,2) -> 3
A57: =A55+1 -> 41207 | F57: =F56+G56+H56+I56+J56 -> 58440 | M57: =M56-((G57+I57)*data!$B$22+(H57+J57)*data!$B$23)/100+L57 -> 50.04 | N57: =WEEKDAY($A57,2) -> 4
F58: =F57+G57+H57+I57+J57 -> 58440 | M58: =M57-((G58+I58)*data!$B$22+(H58+J58)*data!$B$23)/100+L58 -> 50.04 | N58: =WEEKDAY($A57,2) -> 4
A59: =A57+1 -> 41208 | F59: =F58+G58+H58+I58+J58 -> 58440 | M59: =M58-((G59+I59)*data!$B$22+(H59+J59)*data!$B$23)/100+L59 -> 50.04 | N59: =WEEKDAY($A59,2) -> 5
F60: =F59+G59+H59+I59+J59 -> 58440 | M60: =M59-((G60+I60)*data!$B$22+(H60+J60)*data!$B$23)/100+L60 -> 50.04 | N60: =WEEKDAY($A59,2) -> 5
A61: =A59+1 -> 41209 | F61: =F60+G60+H60+I60+J60 -> 58440 | M61: =M60-((G61+I61)*data!$B$22+(H61+J61)*data!$B$23)/100+L61 -> 50.04 | N61: =WEEKDAY($A61,2) -> 6
F62: =F61+G61+H61+I61+J61 -> 58440 | M62: =M61-((G62+I62)*data!$B$22+(H62+J62)*data!$B$23)/100+L62 -> 50.04 | N62: =WEEKDAY($A61,2) -> 6
A63: =A61+1 -> 41210 | F63: =F62+G62+H62+I62+J62 -> 58440 | M63: =M62-((G63+I63)*data!$B$22+(H63+J63)*data!$B$23)/100+L63 -> 50.04 | N63: =WEEKDAY($A63,2) -> 7
F64: =F63+G63+H63+I63+J63 -> 58440 | M64: =M63-((G64+I64)*data!$B$22+(H64+J64)*data!$B$23)/100+L64 -> 50.04 | N64: =WEEKDAY($A63,2) -> 7
A65: =IF(MONTH(A63+1)=MONTH($L$1),A63+1," ") -> 41211 | F65: =F64+G64+H64+I64+J64 -> 58440 | M65: =M64-((G65+I65)*data!$B$22+(H65+J65)*data!$B$23)/100+L65 -> 50.04 | N65: =WEEKDAY($A65,2) -> 1
F66: =F65+G65+H65+I65+J65 -> 58440 | M66: =M65-((G66+I66)*data!$B$22+(H66+J66)*data!$B$23)/100+L66 -> 50.04 | N66: =WEEKDAY($A65,2) -> 1
A67: =IF(MONTH(A63+2)=MONTH($L$1),A63+2," ") -> 41212 | F67: =F66+G66+H66+I66+J66 -> 58440 | M67: =M66-((G67+I67)*data!$B$22+(H67+J67)*data!$B$23)/100+L67 -> 50.04 | N67: =WEEKDAY($A67,2) -> 2
F68: =F67+G67+H67+I67+J67 -> 58440 | M68: =M67-((G68+I68)*data!$B$22+(H68+J68)*data!$B$23)/100+L68 -> 50.04 | N68: =WEEKDAY($A67,2) -> 2
A69: =IF(MONTH(A63+3)=MONTH($L$1),A63+3," ") -> 41213 | F69: =F68+G68+H68+I68+J68 -> 58440 | M69: =M68-((G69+I69)*data!$B$22+(H69+J69)*data!$B$23)/100+L69 -> 50.04 | N69: =WEEKDAY($A69,2) -> 3
F70: =F69+G69+H69+I69+J69 -> 58440 | M70: =M69-((G70+I70)*data!$B$22+(H70+J70)*data!$B$23)/100+L70 -> 50.04 | N70: =WEEKDAY($A69,2) -> 3
A72: Stav tachometra: | C72: Počiatočný stav: | D72: =F9 -> 58440 | F72: Vypočítaný zostatok v nádrži (L): | L72: na konci mesiaca: | M72: =M70 -> 50.04 | Q72: =SUM(Q9:Q70) -> 0 | R72: Spolu za mesiac km
C73: Konečný stav: | D73: =F70+G70+H70+I70+J70 -> 58440 | F73: Skutočný zostatok v nádrži (L): | L73: na začiatku mesiaca: | Q73: =taxa*Q72 -> 0 | R73: Spolu za mesiac (€)
A74: Najazdené kilometre: | C74: Mimo mesta: | D74: =SUM(G9:G70) -> 0 | L74: na konci mesiaca:
C75: V meste: | D75: =SUM(H9:H70) -> 0 | F75: Nadspotreba: | Q75: =#REF!+Q72 -> #REF! | R75: Najazdené od začiatku roka
C76: Súkromne mimo mesta: | D76: =SUM(I9:I70) -> 0 | F76: Druh PHM: | J76: =data!$B$18 -> Nafta | Q76: =IF(Q75>5000,IF(Q72>(Q75-5000),(Q75-5000)*taxa,Q72*taxa),0) -> #REF! | R76: Skutočne zaplatiť S(€)
C77: Súkromne v meste: | D77: =SUM(J9:J70) -> 0 | F77: Celkový nákup PHM (€) s DPH: | M77: =SUM(O9:O70) -> 0
C78: Súkromne za rok | D78: =D76+D77 -> 0 | F78: Nákup PHM na súkromné jazdy (€) s DPH:
C79: CELKOM: | D79: =SUM(D74:D77) -> 0 | F79: Celkový nákup PHM (L): | M79: =SUM(L9:L70) -> 0
A81: Vyhotovil: | F81: Schválil:
A82: (dátum a podpis) | F82: (dátum a podpis)
C85: =D74+D75+D76 -> 0 | D85: =C85*0.15 -> 0

Sheet 11
A1: VYÚČTOVANIE SPOTREBY POHONNÝCH HMÔT | J1: mesiac: | L1: =DATE(rok, 11, 1) -> 41214 | M1: =DATE(#REF!,#REF!,#REF!) -> #REF!
L2: 7
A3: Vodič: | B3: =data!$A$4 -> Meno a priezvisko | C3: Vozidlo: | D3: =data!$B$11&", ŠPZ: "&data!$B$10 -> značka a typ auta, ŠPZ: ZA 123 AB
A5: Dátum | B5: Cieľ cesty | F5: Stav tacho-metra | G5: Najazdené kilometre | L5: Nákup PHM (L) | M5: Zostatok v nádrži (L) | O5: Nákup PHM (€) s DPH | Q5: Súkromne mimo evidenciu
G6: Služobne | I6: Súkromne
G7: Mimo mesta | H7: V meste | I7: Mimo mesta | J7: V meste
A9: =L1 -> 41214 | E9: 1 | F9: ='10'!F70 -> 58440 | M9: ='10'!M70 -> 50.04 | N9: =WEEKDAY($A9,2) -> 4
F10: =F9+G9+H9+I9+J9 -> 58440 | M10: =M9-((G10+I10)*data!$B$22+(H10+J10)*data!$B$23)/100+L10 -> 50.04 | N10: =WEEKDAY($A9,2) -> 4
A11: =A9+1 -> 41215 | F11: =F10+G10+H10+I10+J10 -> 58440 | M11: =M10-((G11+I11)*data!$B$22+(H11+J11)*data!$B$23)/100+L11 -> 50.04 | N11: =WEEKDAY($A11,2) -> 5
F12: =F11+G11+H11+I11+J11 -> 58440 | M12: =M11-((G12+I12)*data!$B$22+(H12+J12)*data!$B$23)/100+L12 -> 50.04 | N12: =WEEKDAY($A11,2) -> 5
A13: =A11+1 -> 41216 | F13: =F12+G12+H12+I12+J12 -> 58440 | M13: =M12-((G13+I13)*data!$B$22+(H13+J13)*data!$B$23)/100+L13 -> 50.04 | N13: =WEEKDAY($A13,2) -> 6
F14: =F13+G13+H13+I13+J13 -> 58440 | M14: =M13-((G14+I14)*data!$B$22+(H14+J14)*data!$B$23)/100+L14 -> 50.04 | N14: =WEEKDAY($A13,2) -> 6
A15: =A13+1 -> 41217 | F15: =F14+G14+H14+I14+J14 -> 58440 | M15: =M14-((G15+I15)*data!$B$22+(H15+J15)*data!$B$23)/100+L15 -> 50.04 | N15: =WEEKDAY($A15,2) -> 7
F16: =F15+G15+H15+I15+J15 -> 58440 | M16: =M15-((G16+I16)*data!$B$22+(H16+J16)*data!$B$23)/100+L16 -> 50.04 | N16: =WEEKDAY($A15,2) -> 7
A17: =A15+1 -> 41218 | F17: =F16+G16+H16+I16+J16 -> 58440 | M17: =M16-((G17+I17)*data!$B$22+(H17+J17)*data!$B$23)/100+L17 -> 50.04 | N17: =WEEKDAY($A17,2) -> 1
F18: =F17+G17+H17+I17+J17 -> 58440 | M18: =M17-((G18+I18)*data!$B$22+(H18+J18)*data!$B$23)/100+L18 -> 50.04 | N18: =WEEKDAY($A17,2) -> 1
A19: =A17+1 -> 41219 | F19: =F18+G18+H18+I18+J18 -> 58440 | M19: =M18-((G19+I19)*data!$B$22+(H19+J19)*data!$B$23)/100+L19 -> 50.04 | N19: =WEEKDAY($A19,2) -> 2
F20: =F19+G19+H19+I19+J19 -> 58440 | M20: =M19-((G20+I20)*data!$B$22+(H20+J20)*data!$B$23)/100+L20 -> 50.04 | N20: =WEEKDAY($A19,2) -> 2
A21: =A19+1 -> 41220 | F21: =F20+G20+H20+I20+J20 -> 58440 | M21: =M20-((G21+I21)*data!$B$22+(H21+J21)*data!$B$23)/100+L21 -> 50.04 | N21: =WEEKDAY($A21,2) -> 3 | S21: 38783 | T21: Super(95) Leaded | U21: BA-BOTANICKA | V21: 38.09 | W21: SKK | X21: 1451.2
F22: =F21+G21+H21+I21+J21 -> 58440 | M22: =M21-((G22+I22)*data!$B$22+(H22+J22)*data!$B$23)/100+L22 -> 50.04 | N22: =WEEKDAY($A21,2) -> 3 | U22: Nove Zamky | V22: 26.06 | W22: SKK | X22: 1003.3
A23: =A21+1 -> 41221 | F23: =F22+G22+H22+I22+J22 -> 58440 | M23: =M22-((G23+I23)*data!$B$22+(H23+J23)*data!$B$23)/100+L23 -> 50.04 | N23: =WEEKDAY($A23,2) -> 4 | S23: 38784 | T23: Super(95) Leaded | U23: TRENČÍN | V23: 33.62 | W23: SKK | X23: 1307.8
F24: =F23+G23+H23+I23+J23 -> 58440 | M24: =M23-((G24+I24)*data!$B$22+(H24+J24)*data!$B$23)/100+L24 -> 50.04 | N24: =WEEKDAY($A23,2) -> 4
A25: =A23+1 -> 41222 | F25: =F24+G24+H24+I24+J24 -> 58440 | M25: =M24-((G25+I25)*data!$B$22+(H25+J25)*data!$B$23)/100+L25 -> 50.04 | N25: =WEEKDAY($A25,2) -> 5
F26: =F25+G25+H25+I25+J25 -> 58440 | M26: =M25-((G26+I26)*data!$B$22+(H26+J26)*data!$B$23)/100+L26 -> 50.04 | N26: =WEEKDAY($A25,2) -> 5
A27: =A25+1 -> 41223 | F27: =F26+G26+H26+I26+J26 -> 58440 | M27: =M26-((G27+I27)*data!$B$22+(H27+J27)*data!$B$23)/100+L27 -> 50.04 | N27: =WEEKDAY($A27,2) -> 6
F28: =F27+G27+H27+I27+J27 -> 58440 | M28: =M27-((G28+I28)*data!$B$22+(H28+J28)*data!$B$23)/100+L28 -> 50.04 | N28: =WEEKDAY($A27,2) -> 6
A29: =A27+1 -> 41224 | F29: =F28+G28+H28+I28+J28 -> 58440 | M29: =M28-((G29+I29)*data!$B$22+(H29+J29)*data!$B$23)/100+L29 -> 50.04 | N29: =WEEKDAY($A29,2) -> 7
F30: =F29+G29+H29+I29+J29 -> 58440 | M30: =M29-((G30+I30)*data!$B$22+(H30+J30)*data!$B$23)/100+L30 -> 50.04 | N30: =WEEKDAY($A29,2) -> 7
A31: =A29+1 -> 41225 | F31: =F30+G30+H30+I30+J30 -> 58440 | M31: =M30-((G31+I31)*data!$B$22+(H31+J31)*data!$B$23)/100+L31 -> 50.04 | N31: =WEEKDAY($A31,2) -> 1
F32: =F31+G31+H31+I31+J31 -> 58440 | M32: =M31-((G32+I32)*data!$B$22+(H32+J32)*data!$B$23)/100+L32 -> 50.04 | N32: =WEEKDAY($A31,2) -> 1
A33: =A31+1 -> 41226 | F33: =F32+G32+H32+I32+J32 -> 58440 | M33: =M32-((G33+I33)*data!$B$22+(H33+J33)*data!$B$23)/100+L33 -> 50.04 | N33: =WEEKDAY($A33,2) -> 2
F34: =F33+G33+H33+I33+J33 -> 58440 | M34: =M33-((G34+I34)*data!$B$22+(H34+J34)*data!$B$23)/100+L34 -> 50.04 | N34: =WEEKDAY($A33,2) -> 2
A35: =A33+1 -> 41227 | F35: =F34+G34+H34+I34+J34 -> 58440 | M35: =M34-((G35+I35)*data!$B$22+(H35+J35)*data!$B$23)/100+L35 -> 50.04 | N35: =WEEKDAY($A35,2) -> 3
F36: =F35+G35+H35+I35+J35 -> 58440 | M36: =M35-((G36+I36)*data!$B$22+(H36+J36)*data!$B$23)/100+L36 -> 50.04 | N36: =WEEKDAY($A35,2) -> 3
A37: =A35+1 -> 41228 | F37: =F36+G36+H36+I36+J36 -> 58440 | M37: =M36-((G37+I37)*data!$B$22+(H37+J37)*data!$B$23)/100+L37 -> 50.04 | N37: =WEEKDAY($A37,2) -> 4
F38: =F37+G37+H37+I37+J37 -> 58440 | M38: =M37-((G38+I38)*data!$B$22+(H38+J38)*data!$B$23)/100+L38 -> 50.04 | N38: =WEEKDAY($A37,2) -> 4
A39: =A37+1 -> 41229 | F39: =F38+G38+H38+I38+J38 -> 58440 | M39: =M38-((G39+I39)*data!$B$22+(H39+J39)*data!$B$23)/100+L39 -> 50.04 | N39: =WEEKDAY($A39,2) -> 5
F40: =F39+G39+H39+I39+J39 -> 58440 | M40: =M39-((G40+I40)*data!$B$22+(H40+J40)*data!$B$23)/100+L40 -> 50.04 | N40: =WEEKDAY($A39,2) -> 5
A41: =A39+1 -> 41230 | F41: =F40+G40+H40+I40+J40 -> 58440 | M41: =M40-((G41+I41)*data!$B$22+(H41+J41)*data!$B$23)/100+L41 -> 50.04 | N41: =WEEKDAY($A41,2) -> 6
F42: =F41+G41+H41+I41+J41 -> 58440 | M42: =M41-((G42+I42)*data!$B$22+(H42+J42)*data!$B$23)/100+L42 -> 50.04 | N42: =WEEKDAY($A41,2) -> 6
A43: =A41+1 -> 41231 | F43: =F42+G42+H42+I42+J42 -> 58440 | M43: =M42-((G43+I43)*data!$B$22+(H43+J43)*data!$B$23)/100+L43 -> 50.04 | N43: =WEEKDAY($A43,2) -> 7
F44: =F43+G43+H43+I43+J43 -> 58440 | M44: =M43-((G44+I44)*data!$B$22+(H44+J44)*data!$B$23)/100+L44 -> 50.04 | N44: =WEEKDAY($A43,2) -> 7
A45: =A43+1 -> 41232 | F45: =F44+G44+H44+I44+J44 -> 58440 | M45: =M44-((G45+I45)*data!$B$22+(H45+J45)*data!$B$23)/100+L45 -> 50.04 | N45: =WEEKDAY($A45,2) -> 1
F46: =F45+G45+H45+I45+J45 -> 58440 | M46: =M45-((G46+I46)*data!$B$22+(H46+J46)*data!$B$23)/100+L46 -> 50.04 | N46: =WEEKDAY($A45,2) -> 1
A47: =A45+1 -> 41233 | F47: =F46+G46+H46+I46+J46 -> 58440 | M47: =M46-((G47+I47)*data!$B$22+(H47+J47)*data!$B$23)/100+L47 -> 50.04 | N47: =WEEKDAY($A47,2) -> 2
F48: =F47+G47+H47+I47+J47 -> 58440 | M48: =M47-((G48+I48)*data!$B$22+(H48+J48)*data!$B$23)/100+L48 -> 50.04 | N48: =WEEKDAY($A47,2) -> 2
A49: =A47+1 -> 41234 | F49: =F48+G48+H48+I48+J48 -> 58440 | M49: =M48-((G49+I49)*data!$B$22+(H49+J49)*data!$B$23)/100+L49 -> 50.04 | N49: =WEEKDAY($A49,2) -> 3
F50: =F49+G49+H49+I49+J49 -> 58440 | M50: =M49-((G50+I50)*data!$B$22+(H50+J50)*data!$B$23)/100+L50 -> 50.04 | N50: =WEEKDAY($A49,2) -> 3
A51: =A49+1 -> 41235 | F51: =F50+G50+H50+I50+J50 -> 58440 | M51: =M50-((G51+I51)*data!$B$22+(H51+J51)*data!$B$23)/100+L51 -> 50.04 | N51: =WEEKDAY($A51,2) -> 4
F52: =F51+G51+H51+I51+J51 -> 58440 | M52: =M51-((G52+I52)*data!$B$22+(H52+J52)*data!$B$23)/100+L52 -> 50.04 | N52: =WEEKDAY($A51,2) -> 4
A53: =A51+1 -> 41236 | F53: =F52+G52+H52+I52+J52 -> 58440 | M53: =M52-((G53+I53)*data!$B$22+(H53+J53)*data!$B$23)/100+L53 -> 50.04 | N53: =WEEKDAY($A53,2) -> 5
F54: =F53+G53+H53+I53+J53 -> 58440 | M54: =M53-((G54+I54)*data!$B$22+(H54+J54)*data!$B$23)/100+L54 -> 50.04 | N54: =WEEKDAY($A53,2) -> 5
A55: =A53+1 -> 41237 | F55: =F54+G54+H54+I54+J54 -> 58440 | M55: =M54-((G55+I55)*data!$B$22+(H55+J55)*data!$B$23)/100+L55 -> 50.04 | N55: =WEEKDAY($A55,2) -> 6
F56: =F55+G55+H55+I55+J55 -> 58440 | M56: =M55-((G56+I56)*data!$B$22+(H56+J56)*data!$B$23)/100+L56 -> 50.04 | N56: =WEEKDAY($A55,2) -> 6
A57: =A55+1 -> 41238 | F57: =F56+G56+H56+I56+J56 -> 58440 | M57: =M56-((G57+I57)*data!$B$22+(H57+J57)*data!$B$23)/100+L57 -> 50.04 | N57: =WEEKDAY($A57,2) -> 7
F58: =F57+G57+H57+I57+J57 -> 58440 | M58: =M57-((G58+I58)*data!$B$22+(H58+J58)*data!$B$23)/100+L58 -> 50.04 | N58: =WEEKDAY($A57,2) -> 7
A59: =A57+1 -> 41239 | F59: =F58+G58+H58+I58+J58 -> 58440 | M59: =M58-((G59+I59)*data!$B$22+(H59+J59)*data!$B$23)/100+L59 -> 50.04 | N59: =WEEKDAY($A59,2) -> 1
F60: =F59+G59+H59+I59+J59 -> 58440 | M60: =M59-((G60+I60)*data!$B$22+(H60+J60)*data!$B$23)/100+L60 -> 50.04 | N60: =WEEKDAY($A59,2) -> 1
A61: =A59+1 -> 41240 | F61: =F60+G60+H60+I60+J60 -> 58440 | M61: =M60-((G61+I61)*data!$B$22+(H61+J61)*data!$B$23)/100+L61 -> 50.04 | N61: =WEEKDAY($A61,2) -> 2
F62: =F61+G61+H61+I61+J61 -> 58440 | M62: =M61-((G62+I62)*data!$B$22+(H62+J62)*data!$B$23)/100+L62 -> 50.04 | N62: =WEEKDAY($A61,2) -> 2
A63: =A61+1 -> 41241 | F63: =F62+G62+H62+I62+J62 -> 58440 | M63: =M62-((G63+I63)*data!$B$22+(H63+J63)*data!$B$23)/100+L63 -> 50.04 | N63: =WEEKDAY($A63,2) -> 3
F64: =F63+G63+H63+I63+J63 -> 58440 | M64: =M63-((G64+I64)*data!$B$22+(H64+J64)*data!$B$23)/100+L64 -> 50.04 | N64: =WEEKDAY($A63,2) -> 3
A65: =IF(MONTH(A63+1)=MONTH($L$1),A63+1," ") -> 41242 | F65: =F64+G64+H64+I64+J64 -> 58440 | M65: =M64-((G65+I65)*data!$B$22+(H65+J65)*data!$B$23)/100+L65 -> 50.04 | N65: =WEEKDAY($A65,2) -> 4
F66: =F65+G65+H65+I65+J65 -> 58440 | M66: =M65-((G66+I66)*data!$B$22+(H66+J66)*data!$B$23)/100+L66 -> 50.04 | N66: =WEEKDAY($A65,2) -> 4
A67: =IF(MONTH(A63+2)=MONTH($L$1),A63+2," ") -> 41243 | F67: =F66+G66+H66+I66+J66 -> 58440 | M67: =M66-((G67+I67)*data!$B$22+(H67+J67)*data!$B$23)/100+L67 -> 50.04 | N67: =WEEKDAY($A67,2) -> 5
F68: =F67+G67+H67+I67+J67 -> 58440 | M68: =M67-((G68+I68)*data!$B$22+(H68+J68)*data!$B$23)/100+L68 -> 50.04 | N68: =WEEKDAY($A67,2) -> 5
A69: =IF(MONTH(A63+3)=MONTH($L$1),A63+3," ") | F69: =F68+G68+H68+I68+J68 -> 58440 | M69: =M68-((G69+I69)*data!$B$22+(H69+J69)*data!$B$23)/100+L69 -> 50.04 | N69: =WEEKDAY($A69,2) -> #VALUE!
F70: =F69+G69+H69+I69+J69 -> 58440 | M70: =M69-((G70+I70)*data!$B$22+(H70+J70)*data!$B$23)/100+L70 -> 50.04 | N70: =WEEKDAY($A69,2) -> #VALUE!
A72: Stav tachometra: | C72: Počiatočný stav: | D72: =F9 -> 58440 | F72: Vypočítaný zostatok v nádrži (L): | L72: na konci mesiaca: | M72: =M70 -> 50.04 | Q72: =SUM(Q9:Q70) -> 0 | R72: Spolu za mesiac km
C73: Konečný stav: | D73: =F70+G70+H70+I70+J70 -> 58440 | F73: Skutočný zostatok v nádrži (L): | L73: na začiatku mesiaca: | Q73: =taxa*Q72 -> 0 | R73: Spolu za mesiac (€)
A74: Najazdené kilometre: | C74: Mimo mesta: | D74: =SUM(G9:G70) -> 0 | L74: na konci mesiaca:
C75: V meste: | D75: =SUM(H9:H70) -> 0 | F75: Nadspotreba: | Q75: =#REF!+Q72 -> #REF! | R75: Najazdené od začiatku roka
C76: Súkromne mimo mesta: | D76: =SUM(I9:I70) -> 0 | F76: Druh PHM: | J76: =data!$B$18 -> Nafta | Q76: =IF(Q75>5000,IF(Q72>(Q75-5000),(Q75-5000)*taxa,Q72*taxa),0) -> #REF! | R76: Skutočne zaplatiť S(€)
C77: Súkromne v meste: | D77: =SUM(J9:J70) -> 0 | F77: Celkový nákup PHM (€) s DPH: | M77: =SUM(O9:O70) -> 0
C78: Súkromne za rok | D78: =D76+D77 -> 0 | F78: Nákup PHM na súkromné jazdy (€) s DPH:
C79: CELKOM: | D79: =SUM(D74:D77) -> 0 | F79: Celkový nákup PHM (L): | M79: =SUM(L9:L70) -> 0
A81: Vyhotovil: | F81: Schválil:
A82: (dátum a podpis) | F82: (dátum a podpis)
C85: =D74+D75+D76 -> 0 | D85: =C85*0.15 -> 0

Sheet 12
A1: VYÚČTOVANIE SPOTREBY POHONNÝCH HMÔT | J1: mesiac: | L1: =DATE(rok, 12, 1) -> 41244 | M1: =DATE(#REF!,#REF!,#REF!) -> #REF!
L2: 7
A3: Vodič: | B3: =data!$A$4 -> Meno a priezvisko | C3: Vozidlo: | D3: =data!$B$11&", ŠPZ: "&data!$B$10 -> značka a typ auta, ŠPZ: ZA 123 AB
A5: Dátum | B5: Cieľ cesty | F5: Stav tacho-metra | G5: Najazdené kilometre | L5: Nákup PHM (L) | M5: Zostatok v nádrži (L) | O5: Nákup PHM (€) s DPH | Q5: Súkromne mimo evidenciu
G6: Služobne | I6: Súkromne
G7: Mimo mesta | H7: V meste | I7: Mimo mesta | J7: V meste
A9: =L1 -> 41244 | E9: 1 | F9: ='11'!F70 -> 58440 | M9: ='11'!M70 -> 50.04 | N9: =WEEKDAY($A9,2) -> 6
F10: =F9+G9+H9+I9+J9 -> 58440 | M10: =M9-((G10+I10)*data!$B$22+(H10+J10)*data!$B$23)/100+L10 -> 50.04 | N10: =WEEKDAY($A9,2) -> 6
A11: =A9+1 -> 41245 | F11: =F10+G10+H10+I10+J10 -> 58440 | M11: =M10-((G11+I11)*data!$B$22+(H11+J11)*data!$B$23)/100+L11 -> 50.04 | N11: =WEEKDAY($A11,2) -> 7
F12: =F11+G11+H11+I11+J11 -> 58440 | M12: =M11-((G12+I12)*data!$B$22+(H12+J12)*data!$B$23)/100+L12 -> 50.04 | N12: =WEEKDAY($A11,2) -> 7
A13: =A11+1 -> 41246 | F13: =F12+G12+H12+I12+J12 -> 58440 | M13: =M12-((G13+I13)*data!$B$22+(H13+J13)*data!$B$23)/100+L13 -> 50.04 | N13: =WEEKDAY($A13,2) -> 1
F14: =F13+G13+H13+I13+J13 -> 58440 | M14: =M13-((G14+I14)*data!$B$22+(H14+J14)*data!$B$23)/100+L14 -> 50.04 | N14: =WEEKDAY($A13,2) -> 1
A15: =A13+1 -> 41247 | F15: =F14+G14+H14+I14+J14 -> 58440 | M15: =M14-((G15+I15)*data!$B$22+(H15+J15)*data!$B$23)/100+L15 -> 50.04 | N15: =WEEKDAY($A15,2) -> 2
F16: =F15+G15+H15+I15+J15 -> 58440 | M16: =M15-((G16+I16)*data!$B$22+(H16+J16)*data!$B$23)/100+L16 -> 50.04 | N16: =WEEKDAY($A15,2) -> 2
A17: =A15+1 -> 41248 | F17: =F16+G16+H16+I16+J16 -> 58440 | M17: =M16-((G17+I17)*data!$B$22+(H17+J17)*data!$B$23)/100+L17 -> 50.04 | N17: =WEEKDAY($A17,2) -> 3
F18: =F17+G17+H17+I17+J17 -> 58440 | M18: =M17-((G18+I18)*data!$B$22+(H18+J18)*data!$B$23)/100+L18 -> 50.04 | N18: =WEEKDAY($A17,2) -> 3
A19: =A17+1 -> 41249 | F19: =F18+G18+H18+I18+J18 -> 58440 | M19: =M18-((G19+I19)*data!$B$22+(H19+J19)*data!$B$23)/100+L19 -> 50.04 | N19: =WEEKDAY($A19,2) -> 4
F20: =F19+G19+H19+I19+J19 -> 58440 | M20: =M19-((G20+I20)*data!$B$22+(H20+J20)*data!$B$23)/100+L20 -> 50.04 | N20: =WEEKDAY($A19,2) -> 4
A21: =A19+1 -> 41250 | F21: =F20+G20+H20+I20+J20 -> 58440 | M21: =M20-((G21+I21)*data!$B$22+(H21+J21)*data!$B$23)/100+L21 -> 50.04 | N21: =WEEKDAY($A21,2) -> 5 | S21: 38783 | T21: Super(95) Leaded | U21: BA-BOTANICKA | V21: 38.09 | W21: SKK | X21: 1451.2
F22: =F21+G21+H21+I21+J21 -> 58440 | M22: =M21-((G22+I22)*data!$B$22+(H22+J22)*data!$B$23)/100+L22 -> 50.04 | N22: =WEEKDAY($A21,2) -> 5 | U22: Nove Zamky | V22: 26.06 | W22: SKK | X22: 1003.3
A23: =A21+1 -> 41251 | F23: =F22+G22+H22+I22+J22 -> 58440 | M23: =M22-((G23+I23)*data!$B$22+(H23+J23)*data!$B$23)/100+L23 -> 50.04 | N23: =WEEKDAY($A23,2) -> 6 | S23: 38784 | T23: Super(95) Leaded | U23: TRENČÍN | V23: 33.62 | W23: SKK | X23: 1307.8
F24: =F23+G23+H23+I23+J23 -> 58440 | M24: =M23-((G24+I24)*data!$B$22+(H24+J24)*data!$B$23)/100+L24 -> 50.04 | N24: =WEEKDAY($A23,2) -> 6
A25: =A23+1 -> 41252 | F25: =F24+G24+H24+I24+J24 -> 58440 | M25: =M24-((G25+I25)*data!$B$22+(H25+J25)*data!$B$23)/100+L25 -> 50.04 | N25: =WEEKDAY($A25,2) -> 7
F26: =F25+G25+H25+I25+J25 -> 58440 | M26: =M25-((G26+I26)*data!$B$22+(H26+J26)*data!$B$23)/100+L26 -> 50.04 | N26: =WEEKDAY($A25,2) -> 7
A27: =A25+1 -> 41253 | F27: =F26+G26+H26+I26+J26 -> 58440 | M27: =M26-((G27+I27)*data!$B$22+(H27+J27)*data!$B$23)/100+L27 -> 50.04 | N27: =WEEKDAY($A27,2) -> 1
F28: =F27+G27+H27+I27+J27 -> 58440 | M28: =M27-((G28+I28)*data!$B$22+(H28+J28)*data!$B$23)/100+L28 -> 50.04 | N28: =WEEKDAY($A27,2) -> 1
A29: =A27+1 -> 41254 | F29: =F28+G28+H28+I28+J28 -> 58440 | M29: =M28-((G29+I29)*data!$B$22+(H29+J29)*data!$B$23)/100+L29 -> 50.04 | N29: =WEEKDAY($A29,2) -> 2
F30: =F29+G29+H29+I29+J29 -> 58440 | M30: =M29-((G30+I30)*data!$B$22+(H30+J30)*data!$B$23)/100+L30 -> 50.04 | N30: =WEEKDAY($A29,2) -> 2
A31: =A29+1 -> 41255 | F31: =F30+G30+H30+I30+J30 -> 58440 | M31: =M30-((G31+I31)*data!$B$22+(H31+J31)*data!$B$23)/100+L31 -> 50.04 | N31: =WEEKDAY($A31,2) -> 3
F32: =F31+G31+H31+I31+J31 -> 58440 | M32: =M31-((G32+I32)*data!$B$22+(H32+J32)*data!$B$23)/100+L32 -> 50.04 | N32: =WEEKDAY($A31,2) -> 3
A33: =A31+1 -> 41256 | F33: =F32+G32+H32+I32+J32 -> 58440 | M33: =M32-((G33+I33)*data!$B$22+(H33+J33)*data!$B$23)/100+L33 -> 50.04 | N33: =WEEKDAY($A33,2) -> 4
F34: =F33+G33+H33+I33+J33 -> 58440 | M34: =M33-((G34+I34)*data!$B$22+(H34+J34)*data!$B$23)/100+L34 -> 50.04 | N34: =WEEKDAY($A33,2) -> 4
A35: =A33+1 -> 41257 | F35: =F34+G34+H34+I34+J34 -> 58440 | M35: =M34-((G35+I35)*data!$B$22+(H35+J35)*data!$B$23)/100+L35 -> 50.04 | N35: =WEEKDAY($A35,2) -> 5
F36: =F35+G35+H35+I35+J35 -> 58440 | M36: =M35-((G36+I36)*data!$B$22+(H36+J36)*data!$B$23)/100+L36 -> 50.04 | N36: =WEEKDAY($A35,2) -> 5
A37: =A35+1 -> 41258 | F37: =F36+G36+H36+I36+J36 -> 58440 | M37: =M36-((G37+I37)*data!$B$22+(H37+J37)*data!$B$23)/100+L37 -> 50.04 | N37: =WEEKDAY($A37,2) -> 6
F38: =F37+G37+H37+I37+J37 -> 58440 | M38: =M37-((G38+I38)*data!$B$22+(H38+J38)*data!$B$23)/100+L38 -> 50.04 | N38: =WEEKDAY($A37,2) -> 6
A39: =A37+1 -> 41259 | F39: =F38+G38+H38+I38+J38 -> 58440 | M39: =M38-((G39+I39)*data!$B$22+(H39+J39)*data!$B$23)/100+L39 -> 50.04 | N39: =WEEKDAY($A39,2) -> 7
F40: =F39+G39+H39+I39+J39 -> 58440 | M40: =M39-((G40+I40)*data!$B$22+(H40+J40)*data!$B$23)/100+L40 -> 50.04 | N40: =WEEKDAY($A39,2) -> 7
A41: =A39+1 -> 41260 | F41: =F40+G40+H40+I40+J40 -> 58440 | M41: =M40-((G41+I41)*data!$B$22+(H41+J41)*data!$B$23)/100+L41 -> 50.04 | N41: =WEEKDAY($A41,2) -> 1
F42: =F41+G41+H41+I41+J41 -> 58440 | M42: =M41-((G42+I42)*data!$B$22+(H42+J42)*data!$B$23)/100+L42 -> 50.04 | N42: =WEEKDAY($A41,2) -> 1
A43: =A41+1 -> 41261 | F43: =F42+G42+H42+I42+J42 -> 58440 | M43: =M42-((G43+I43)*data!$B$22+(H43+J43)*data!$B$23)/100+L43 -> 50.04 | N43: =WEEKDAY($A43,2) -> 2
F44: =F43+G43+H43+I43+J43 -> 58440 | M44: =M43-((G44+I44)*data!$B$22+(H44+J44)*data!$B$23)/100+L44 -> 50.04 | N44: =WEEKDAY($A43,2) -> 2
A45: =A43+1 -> 41262 | F45: =F44+G44+H44+I44+J44 -> 58440 | M45: =M44-((G45+I45)*data!$B$22+(H45+J45)*data!$B$23)/100+L45 -> 50.04 | N45: =WEEKDAY($A45,2) -> 3
F46: =F45+G45+H45+I45+J45 -> 58440 | M46: =M45-((G46+I46)*data!$B$22+(H46+J46)*data!$B$23)/100+L46 -> 50.04 | N46: =WEEKDAY($A45,2) -> 3
A47: =A45+1 -> 41263 | F47: =F46+G46+H46+I46+J46 -> 58440 | M47: =M46-((G47+I47)*data!$B$22+(H47+J47)*data!$B$23)/100+L47 -> 50.04 | N47: =WEEKDAY($A47,2) -> 4
F48: =F47+G47+H47+I47+J47 -> 58440 | M48: =M47-((G48+I48)*data!$B$22+(H48+J48)*data!$B$23)/100+L48 -> 50.04 | N48: =WEEKDAY($A47,2) -> 4
A49: =A47+1 -> 41264 | F49: =F48+G48+H48+I48+J48 -> 58440 | M49: =M48-((G49+I49)*data!$B$22+(H49+J49)*data!$B$23)/100+L49 -> 50.04 | N49: =WEEKDAY($A49,2) -> 5
F50: =F49+G49+H49+I49+J49 -> 58440 | M50: =M49-((G50+I50)*data!$B$22+(H50+J50)*data!$B$23)/100+L50 -> 50.04 | N50: =WEEKDAY($A49,2) -> 5
A51: =A49+1 -> 41265 | F51: =F50+G50+H50+I50+J50 -> 58440 | M51: =M50-((G51+I51)*data!$B$22+(H51+J51)*data!$B$23)/100+L51 -> 50.04 | N51: =WEEKDAY($A51,2) -> 6
F52: =F51+G51+H51+I51+J51 -> 58440 | M52: =M51-((G52+I52)*data!$B$22+(H52+J52)*data!$B$23)/100+L52 -> 50.04 | N52: =WEEKDAY($A51,2) -> 6
A53: =A51+1 -> 41266 | F53: =F52+G52+H52+I52+J52 -> 58440 | M53: =M52-((G53+I53)*data!$B$22+(H53+J53)*data!$B$23)/100+L53 -> 50.04 | N53: =WEEKDAY($A53,2) -> 7
F54: =F53+G53+H53+I53+J53 -> 58440 | M54: =M53-((G54+I54)*data!$B$22+(H54+J54)*data!$B$23)/100+L54 -> 50.04 | N54: =WEEKDAY($A53,2) -> 7
A55: =A53+1 -> 41267 | F55: =F54+G54+H54+I54+J54 -> 58440 | M55: =M54-((G55+I55)*data!$B$22+(H55+J55)*data!$B$23)/100+L55 -> 50.04 | N55: =WEEKDAY($A55,2) -> 1
F56: =F55+G55+H55+I55+J55 -> 58440 | M56: =M55-((G56+I56)*data!$B$22+(H56+J56)*data!$B$23)/100+L56 -> 50.04 | N56: =WEEKDAY($A55,2) -> 1
A57: =A55+1 -> 41268 | F57: =F56+G56+H56+I56+J56 -> 58440 | M57: =M56-((G57+I57)*data!$B$22+(H57+J57)*data!$B$23)/100+L57 -> 50.04 | N57: =WEEKDAY($A57,2) -> 2
F58: =F57+G57+H57+I57+J57 -> 58440 | M58: =M57-((G58+I58)*data!$B$22+(H58+J58)*data!$B$23)/100+L58 -> 50.04 | N58: =WEEKDAY($A57,2) -> 2
A59: =A57+1 -> 41269 | F59: =F58+G58+H58+I58+J58 -> 58440 | M59: =M58-((G59+I59)*data!$B$22+(H59+J59)*data!$B$23)/100+L59 -> 50.04 | N59: =WEEKDAY($A59,2) -> 3
F60: =F59+G59+H59+I59+J59 -> 58440 | M60: =M59-((G60+I60)*data!$B$22+(H60+J60)*data!$B$23)/100+L60 -> 50.04 | N60: =WEEKDAY($A59,2) -> 3
A61: =A59+1 -> 41270 | F61: =F60+G60+H60+I60+J60 -> 58440 | M61: =M60-((G61+I61)*data!$B$22+(H61+J61)*data!$B$23)/100+L61 -> 50.04 | N61: =WEEKDAY($A61,2) -> 4
F62: =F61+G61+H61+I61+J61 -> 58440 | M62: =M61-((G62+I62)*data!$B$22+(H62+J62)*data!$B$23)/100+L62 -> 50.04 | N62: =WEEKDAY($A61,2) -> 4
A63: =A61+1 -> 41271 | F63: =F62+G62+H62+I62+J62 -> 58440 | M63: =M62-((G63+I63)*data!$B$22+(H63+J63)*data!$B$23)/100+L63 -> 50.04 | N63: =WEEKDAY($A63,2) -> 5
F64: =F63+G63+H63+I63+J63 -> 58440 | M64: =M63-((G64+I64)*data!$B$22+(H64+J64)*data!$B$23)/100+L64 -> 50.04 | N64: =WEEKDAY($A63,2) -> 5
A65: =IF(MONTH(A63+1)=MONTH($L$1),A63+1," ") -> 41272 | F65: =F64+G64+H64+I64+J64 -> 58440 | M65: =M64-((G65+I65)*data!$B$22+(H65+J65)*data!$B$23)/100+L65 -> 50.04 | N65: =WEEKDAY($A65,2) -> 6
F66: =F65+G65+H65+I65+J65 -> 58440 | M66: =M65-((G66+I66)*data!$B$22+(H66+J66)*data!$B$23)/100+L66 -> 50.04 | N66: =WEEKDAY($A65,2) -> 6
A67: =IF(MONTH(A63+2)=MONTH($L$1),A63+2," ") -> 41273 | F67: =F66+G66+H66+I66+J66 -> 58440 | M67: =M66-((G67+I67)*data!$B$22+(H67+J67)*data!$B$23)/100+L67 -> 50.04 | N67: =WEEKDAY($A67,2) -> 7
F68: =F67+G67+H67+I67+J67 -> 58440 | M68: =M67-((G68+I68)*data!$B$22+(H68+J68)*data!$B$23)/100+L68 -> 50.04 | N68: =WEEKDAY($A67,2) -> 7
A69: =IF(MONTH(A63+3)=MONTH($L$1),A63+3," ") -> 41274 | F69: =F68+G68+H68+I68+J68 -> 58440 | M69: =M68-((G69+I69)*data!$B$22+(H69+J69)*data!$B$23)/100+L69 -> 50.04 | N69: =WEEKDAY($A69,2) -> 1
F70: =F69+G69+H69+I69+J69 -> 58440 | M70: =M69-((G70+I70)*data!$B$22+(H70+J70)*data!$B$23)/100+L70 -> 50.04 | N70: =WEEKDAY($A69,2) -> 1
A72: Stav tachometra: | C72: Počiatočný stav: | D72: =F9 -> 58440 | F72: Vypočítaný zostatok v nádrži (L): | L72: na konci mesiaca: | M72: =M70 -> 50.04 | Q72: =SUM(Q9:Q70) -> 0 | R72: Spolu za mesiac km
C73: Konečný stav: | D73: =F70+G70+H70+I70+J70 -> 58440 | F73: Skutočný zostatok v nádrži (L): | L73: na začiatku mesiaca: | Q73: =taxa*Q72 -> 0 | R73: Spolu za mesiac (€)
A74: Najazdené kilometre: | C74: Mimo mesta: | D74: =SUM(G9:G70) -> 0 | L74: na konci mesiaca:
C75: V meste: | D75: =SUM(H9:H70) -> 0 | F75: Nadspotreba: | Q75: =#REF!+Q72 -> #REF! | R75: Najazdené od začiatku roka
C76: Súkromne mimo mesta: | D76: =SUM(I9:I70) -> 0 | F76: Druh PHM: | J76: =data!$B$18 -> Nafta | Q76: =IF(Q75>5000,IF(Q72>(Q75-5000),(Q75-5000)*taxa,Q72*taxa),0) -> #REF! | R76: Skutočne zaplatiť S(€)
C77: Súkromne v meste: | D77: =SUM(J9:J70) -> 0 | F77: Celkový nákup PHM (€) s DPH: | M77: =SUM(O9:O70) -> 0
C78: Súkromne za rok | D78: =D76+D77 -> 0 | F78: Nákup PHM na súkromné jazdy (€) s DPH:
C79: CELKOM: | D79: =SUM(D74:D77) -> 0 | F79: Celkový nákup PHM (L): | M79: =SUM(L9:L70) -> 0
A81: Vyhotovil: | F81: Schválil:
A82: (dátum a podpis) | F82: (dátum a podpis)
C85: =D74+D75+D76 -> 0 | D85: =C85*0.15 -> 0

Sheet vzdialenosti
A1: malinova - gastanova | B1: 4
A2: malinova - pltnicka | B2: 7
A3: malinova - mado | B3: 7
A4: malinova - hour | B4: 5
A6: plna n | B6: 65
A7: spotreba | B7: 5.2
